BEGIN:VCALENDAR
VERSION:2.0
PRODID:-//Normandie Livre &amp; Lecture - ECPv6.15.11//NONSGML v1.0//EN
CALSCALE:GREGORIAN
METHOD:PUBLISH
X-ORIGINAL-URL:https://www.normandielivre.fr
X-WR-CALDESC:Évènements pour Normandie Livre &amp; Lecture
REFRESH-INTERVAL;VALUE=DURATION:PT1H
X-Robots-Tag:noindex
X-PUBLISHED-TTL:PT1H
BEGIN:VTIMEZONE
TZID:Europe/Paris
BEGIN:DAYLIGHT
TZOFFSETFROM:+0100
TZOFFSETTO:+0200
TZNAME:CEST
DTSTART:20210328T010000
END:DAYLIGHT
BEGIN:STANDARD
TZOFFSETFROM:+0200
TZOFFSETTO:+0100
TZNAME:CET
DTSTART:20211031T010000
END:STANDARD
BEGIN:DAYLIGHT
TZOFFSETFROM:+0100
TZOFFSETTO:+0200
TZNAME:CEST
DTSTART:20220327T010000
END:DAYLIGHT
BEGIN:STANDARD
TZOFFSETFROM:+0200
TZOFFSETTO:+0100
TZNAME:CET
DTSTART:20221030T010000
END:STANDARD
BEGIN:DAYLIGHT
TZOFFSETFROM:+0100
TZOFFSETTO:+0200
TZNAME:CEST
DTSTART:20230326T010000
END:DAYLIGHT
BEGIN:STANDARD
TZOFFSETFROM:+0200
TZOFFSETTO:+0100
TZNAME:CET
DTSTART:20231029T010000
END:STANDARD
END:VTIMEZONE
BEGIN:VEVENT
DTSTART;TZID=Europe/Paris:20221023T100000
DTEND;TZID=Europe/Paris:20221023T180000
DTSTAMP:20260421T055735
CREATED:20211014T144452Z
LAST-MODIFIED:20211014T144452Z
UID:10001088-1666519200-1666548000@www.normandielivre.fr
SUMMARY:4e Salon du livre de Bretoncelles (ORNE)
DESCRIPTION:Salon du livre généraliste associant des auteurs normands et d’auteurs venant de diverses régions. \nParticipation appuyée sur sélection de premiers ouvrages. \nSALLE DES FETES \nEntrée gratuite. \nPLUMES ET TALENTS/André Papazian contact
URL:https://www.normandielivre.fr/agenda-collaboratif/4e-salon-du-livre-de-bretoncelles-orne/
CATEGORIES:Salon
ORGANIZER;CN="PLUMES ET TALENTS/Andr&eacute%3B Papazian contact":MAILTO:papazian.a@wanadoo.fr
END:VEVENT
END:VCALENDAR