BEGIN:VCALENDAR
VERSION:2.0
PRODID:-//Normandie Livre &amp; Lecture - ECPv6.15.11//NONSGML v1.0//EN
CALSCALE:GREGORIAN
METHOD:PUBLISH
X-ORIGINAL-URL:https://www.normandielivre.fr
X-WR-CALDESC:Évènements pour Normandie Livre &amp; Lecture
REFRESH-INTERVAL;VALUE=DURATION:PT1H
X-Robots-Tag:noindex
X-PUBLISHED-TTL:PT1H
BEGIN:VTIMEZONE
TZID:Europe/Paris
BEGIN:DAYLIGHT
TZOFFSETFROM:+0100
TZOFFSETTO:+0200
TZNAME:CEST
DTSTART:20250330T010000
END:DAYLIGHT
BEGIN:STANDARD
TZOFFSETFROM:+0200
TZOFFSETTO:+0100
TZNAME:CET
DTSTART:20251026T010000
END:STANDARD
BEGIN:DAYLIGHT
TZOFFSETFROM:+0100
TZOFFSETTO:+0200
TZNAME:CEST
DTSTART:20260329T010000
END:DAYLIGHT
BEGIN:STANDARD
TZOFFSETFROM:+0200
TZOFFSETTO:+0100
TZNAME:CET
DTSTART:20261025T010000
END:STANDARD
BEGIN:DAYLIGHT
TZOFFSETFROM:+0100
TZOFFSETTO:+0200
TZNAME:CEST
DTSTART:20270328T010000
END:DAYLIGHT
BEGIN:STANDARD
TZOFFSETFROM:+0200
TZOFFSETTO:+0100
TZNAME:CET
DTSTART:20271031T010000
END:STANDARD
END:VTIMEZONE
BEGIN:VEVENT
DTSTART;TZID=Europe/Paris:20260121T104500
DTEND;TZID=Europe/Paris:20260121T114500
DTSTAMP:20260420T170641
CREATED:20251118T151229Z
LAST-MODIFIED:20251118T162148Z
UID:10002614-1768992300-1768995900@www.normandielivre.fr
SUMMARY:Rencontre et lecture avec Emmanuelle Halgand
DESCRIPTION:À la suite d’une dispute entre son papa et sa maman à son sujet\, un petit renardeau décide de sortir\, sans bruit\, de son terrier\, vers la liberté mais aussi vers les dangers. Emmanuelle Halgand présentera son dernier ouvrage Oh\, Renardeau ! (Magellan & Cie\, 2025) destiné aux plus jeunes.   \nRencontre à partir de 4 ans. \nRéservation obligatoire au 09 62 14 86 38 ou par mail à bibliotheque@bieville-beuville.fr \nVente de livres proposée par la librairie Le Cheval crayon\, Caen. \nRencontre organisée dans le cadre de l’événement Lire en hiver. \nLire en Hiver\, c’est le meilleur moment pour découvrir les actualités des auteurs\, autrices et maisons d’édition normands\, au plus près de chez vous. Du 20 janvier au 8 février\, partez à la découverte d’univers artistiques et littéraires variés\, dans les bibliothèques et librairies de Normandie. Renseignements : https://www.normandielivre.fr/lire-en-hiver/  \nN2L
URL:https://www.normandielivre.fr/agenda-collaboratif/rencontre-et-lecture-avec-emmanuelle-halgand/
LOCATION:Bibliothèque de Biéville-Beuville\, Centre multi-activités\, rue Mozart\, Biéville-Beuville\, 14112\, France
CATEGORIES:Lecture,Lire en hiver,Nuits de la lecture,Rencontre
ATTACH;FMTTYPE=image/png:https://www.normandielivre.fr/wp-content/uploads/2025/11/reseaux-sociaux-_-emmanuelle-halgand.png
END:VEVENT
BEGIN:VEVENT
DTSTART;TZID=Europe/Paris:20260121T103000
DTEND;TZID=Europe/Paris:20260121T113000
DTSTAMP:20260420T170641
CREATED:20251117T161634Z
LAST-MODIFIED:20251117T161634Z
UID:10002643-1768991400-1768995000@www.normandielivre.fr
SUMMARY:Lecture et atelier La Grande nuit de Petit Sapin avec Oreli Gouel
DESCRIPTION:Quand un sapin est tout riquiqui\, aucun humain ne le choisit pour fêter Noël. Cette année\, c’est décidé\, Petit Sapin veut découvrir où sont partis ses grands frères de la forêt. Autour de son ouvrage\, l’autrice Oreli Gouel (La Grande nuit de Petit Sapin\, Gautier-Languereau\, 2025) proposera un atelier pour les tous petits.   \nAtelier à partir de 3 ans \nRéservation conseillée au 09 54 98 34 35 ou par mail à librairiecafelatonne@gmail.com   \nRencontre organisée dans le cadre de l’événement Lire en hiver. \nLire en Hiver\, c’est le meilleur moment pour découvrir les actualités des auteurs\, autrices et maisons d’édition normands\, au plus près de chez vous. Du 20 janvier au 8 février\, partez à la découverte d’univers artistiques et littéraires variés\, dans les bibliothèques et librairies de Normandie. Renseignements : https://www.normandielivre.fr/lire-en-hiver/  \nN2L
URL:https://www.normandielivre.fr/agenda-collaboratif/lecture-et-atelier-la-grande-nuit-de-petit-sapin-avec-oreli-gouel/
LOCATION:Librairie-café La tonne\, 11-13 rue Saint Vivien\, Rouen\, 76000\, France
CATEGORIES:Atelier,Jeunesse,Lire en hiver,Nuits de la lecture,Rencontre
ATTACH;FMTTYPE=image/png:https://www.normandielivre.fr/wp-content/uploads/2025/11/reseaux-sociaux-_oreli-gouel.png
END:VEVENT
END:VCALENDAR