BEGIN:VCALENDAR
VERSION:2.0
PRODID:-//Normandie Livre &amp; Lecture - ECPv6.15.11//NONSGML v1.0//EN
CALSCALE:GREGORIAN
METHOD:PUBLISH
X-WR-CALNAME:Normandie Livre &amp; Lecture
X-ORIGINAL-URL:https://www.normandielivre.fr
X-WR-CALDESC:Évènements pour Normandie Livre &amp; Lecture
REFRESH-INTERVAL;VALUE=DURATION:PT1H
X-Robots-Tag:noindex
X-PUBLISHED-TTL:PT1H
BEGIN:VTIMEZONE
TZID:Europe/Paris
BEGIN:DAYLIGHT
TZOFFSETFROM:+0100
TZOFFSETTO:+0200
TZNAME:CEST
DTSTART:20210328T010000
END:DAYLIGHT
BEGIN:STANDARD
TZOFFSETFROM:+0200
TZOFFSETTO:+0100
TZNAME:CET
DTSTART:20211031T010000
END:STANDARD
BEGIN:DAYLIGHT
TZOFFSETFROM:+0100
TZOFFSETTO:+0200
TZNAME:CEST
DTSTART:20220327T010000
END:DAYLIGHT
BEGIN:STANDARD
TZOFFSETFROM:+0200
TZOFFSETTO:+0100
TZNAME:CET
DTSTART:20221030T010000
END:STANDARD
BEGIN:DAYLIGHT
TZOFFSETFROM:+0100
TZOFFSETTO:+0200
TZNAME:CEST
DTSTART:20230326T010000
END:DAYLIGHT
BEGIN:STANDARD
TZOFFSETFROM:+0200
TZOFFSETTO:+0100
TZNAME:CET
DTSTART:20231029T010000
END:STANDARD
BEGIN:DAYLIGHT
TZOFFSETFROM:+0100
TZOFFSETTO:+0200
TZNAME:CEST
DTSTART:20240331T010000
END:DAYLIGHT
BEGIN:STANDARD
TZOFFSETFROM:+0200
TZOFFSETTO:+0100
TZNAME:CET
DTSTART:20241027T010000
END:STANDARD
END:VTIMEZONE
BEGIN:VEVENT
DTSTART;TZID=Europe/Paris:20230224T093000
DTEND;TZID=Europe/Paris:20230224T103000
DTSTAMP:20260420T163916
CREATED:20221215T084717Z
LAST-MODIFIED:20221215T084717Z
UID:10001251-1677231000-1677234600@www.normandielivre.fr
SUMMARY:Bébés Lecteurs
DESCRIPTION:Lectures d’histoires pour les tout-petits.\nMusique\, comptines et jeux de doigts. Deux séances sont proposées : 9h30 ou 10h30.\nAge : 0-3 ans \nMédiathèque de Dives-sur-Mer
URL:https://www.normandielivre.fr/agenda-collaboratif/bebes-lecteurs-14/
LOCATION:Médiathèque Jacques-Prévert\, Place du Commandant Charcot\, Dives-sur-Mer\, 14160
CATEGORIES:Jeunesse
ORGANIZER;CN="M&eacute%3Bdiath&egrave%3Bque de Dives-sur-Mer":MAILTO:mediatheque@dives-sur-mer.fr
END:VEVENT
BEGIN:VEVENT
DTSTART;TZID=Europe/Paris:20230127T093000
DTEND;TZID=Europe/Paris:20230127T113000
DTSTAMP:20260420T163916
CREATED:20221117T095057Z
LAST-MODIFIED:20221117T095057Z
UID:10001446-1674811800-1674819000@www.normandielivre.fr
SUMMARY:Bébés Lecteurs
DESCRIPTION:Lectures d’histoires pour les tout-petits (0-3 ans). Musique\, comptines et jeux de doigts. Deux séances sont proposées : 9h30 ou 10h30. \nMédiathèque de Dives-sur-Mer
URL:https://www.normandielivre.fr/agenda-collaboratif/bebes-lecteurs-13/
LOCATION:Médiathèque Jacques-Prévert\, Place du Commandant Charcot\, Dives-sur-Mer\, 14160
CATEGORIES:Jeunesse,Lecture
ATTACH;FMTTYPE=image/jpeg:https://www.normandielivre.fr/wp-content/uploads/2022/11/2022-Bebes_lecteurs-scaled.jpg
ORGANIZER;CN="M&eacute%3Bdiath&egrave%3Bque de Dives-sur-Mer":MAILTO:mediatheque@dives-sur-mer.fr
END:VEVENT
BEGIN:VEVENT
DTSTART;TZID=Europe/Paris:20230120T170000
DTEND;TZID=Europe/Paris:20230121T180000
DTSTAMP:20260420T163916
CREATED:20221027T075334Z
LAST-MODIFIED:20221027T075334Z
UID:10001373-1674234000-1674324000@www.normandielivre.fr
SUMMARY:Nuit de la lecture
DESCRIPTION:VENDREDI 20 JANVIER \n\n17h Spectacle Chromacity : Dans ce spectacle de la Cie Datakidz il est question de petits personnages de couleurs qui dansent\, pleurent\, se mélangent\, se baignent\, font du ski\, se marient et voient plutôt la vie en rose. Une histoire loufoque et colorée\, accompagnée d’un musicien. De 3 à 7 ans. Durée 40 min. Sur réservation\n\nSAMEDI 21 JANVIER \n\n10h30 Atelier gravure : Le libraire jeunesse Wilfried Loriot de la librairie Pomme\, Mouette & Colibri de Cabourg propose un atelier gravure pour les enfants. À partir de 10 ans. Durée 1h30. Sur réservation;\n11h et 15h Heure du conte colorée : Habillez-vous d’une seule couleur\, celle de votre choix et participez à une heure du conte haute en couleur ! À partir de 4 ans. Durée 30 min.\n15h Atelier illustration : L’artiste caennaise et éditrice des « Petites manies » Isabelle Pellouin\, vous invite à un atelier illustration. Public adulte. Durée 1h30. Sur réservation;\n17h Blind-test : Sur le thème de la couleur : saurez-vous retrouver le compositeur et le titre de la musique ?\nToute la journée : jeux\, tatoos et café-lecture;\n\nMédiathèque de Dives-sur-Mer
URL:https://www.normandielivre.fr/agenda-collaboratif/nuit-de-la-lecture/
LOCATION:Médiathèque Jacques-Prévert\, Place du Commandant Charcot\, Dives-sur-Mer\, 14160
CATEGORIES:Atelier,Lecture,Spectacle
ATTACH;FMTTYPE=image/jpeg:https://www.normandielivre.fr/wp-content/uploads/2022/10/202301-NDLL3.jpg
ORGANIZER;CN="M&eacute%3Bdiath&egrave%3Bque de Dives-sur-Mer":MAILTO:mediatheque@dives-sur-mer.fr
END:VEVENT
BEGIN:VEVENT
DTSTART;TZID=Europe/Paris:20230118T160000
DTEND;TZID=Europe/Paris:20230118T173000
DTSTAMP:20260420T163916
CREATED:20221117T094950Z
LAST-MODIFIED:20221117T094950Z
UID:10001444-1674057600-1674063000@www.normandielivre.fr
SUMMARY:Heure du conte
DESCRIPTION:Lectures d’histoires pour les enfants de 4 ans et plus\, suivies d’un atelier créatif. \nMédiathèque de Dives-sur-Mer
URL:https://www.normandielivre.fr/agenda-collaboratif/heure-du-conte-6/
LOCATION:Médiathèque Jacques-Prévert\, Place du Commandant Charcot\, Dives-sur-Mer\, 14160
CATEGORIES:Lecture
ATTACH;FMTTYPE=image/jpeg:https://www.normandielivre.fr/wp-content/uploads/2022/11/Heure-du-conte-scaled.jpg
ORGANIZER;CN="M&eacute%3Bdiath&egrave%3Bque de Dives-sur-Mer":MAILTO:mediatheque@dives-sur-mer.fr
END:VEVENT
BEGIN:VEVENT
DTSTART;TZID=Europe/Paris:20230113T170000
DTEND;TZID=Europe/Paris:20230113T180000
DTSTAMP:20260420T163916
CREATED:20221117T092728Z
LAST-MODIFIED:20221117T095815Z
UID:10001443-1673629200-1673632800@www.normandielivre.fr
SUMMARY:Croqueurs de livres
DESCRIPTION:Votre enfant a plus de 9 ans ? \nIl adore la lecture et dévore les livres ? \nUne fois par mois\, les croqueurs de livres s’attablent avec Florence pour parler de leurs lectures\, le tout accompagné d’un goûter et assaisonné de bonne humeur. \nMédiathèque de Dives-sur-Mer
URL:https://www.normandielivre.fr/agenda-collaboratif/croqueurs-de-livres-3/
LOCATION:Médiathèque Jacques-Prévert\, Place du Commandant Charcot\, Dives-sur-Mer\, 14160
CATEGORIES:Club de lecteurs,Jeunesse
ATTACH;FMTTYPE=image/jpeg:https://www.normandielivre.fr/wp-content/uploads/2022/11/croqueurs_de_livres02-scaled.jpg
ORGANIZER;CN="M&eacute%3Bdiath&egrave%3Bque de Dives-sur-Mer":MAILTO:mediatheque@dives-sur-mer.fr
END:VEVENT
BEGIN:VEVENT
DTSTART;TZID=Europe/Paris:20230110T103000
DTEND;TZID=Europe/Paris:20230228T180000
DTSTAMP:20260420T163916
CREATED:20221027T075729Z
LAST-MODIFIED:20221027T075729Z
UID:10001381-1673346600-1677607200@www.normandielivre.fr
SUMMARY:Exposition de Laurent Corvaisier
DESCRIPTION:Dans le cadre de l’évènement Colorissimo lancé par le collectif de bibliothécaires locales Bib’ Gang\, Laurent Corvaisier\, artiste peintre et illustrateur\, nous fait l’honneur d’exposer ses oeuvres colorées : des sérigraphies originales en passant par des totems peints sur bois\, vos yeux verront la vie en rose. \nMédiathèque de Dives-sur-Mer
URL:https://www.normandielivre.fr/agenda-collaboratif/exposition-de-laurent-corvaisier/
LOCATION:Médiathèque Jacques-Prévert\, Place du Commandant Charcot\, Dives-sur-Mer\, 14160
ATTACH;FMTTYPE=image/jpeg:https://www.normandielivre.fr/wp-content/uploads/2022/10/2023-expo_Corvaisier.jpg
ORGANIZER;CN="M&eacute%3Bdiath&egrave%3Bque de Dives-sur-Mer":MAILTO:mediatheque@dives-sur-mer.fr
END:VEVENT
BEGIN:VEVENT
DTSTART;TZID=Europe/Paris:20221216T170000
DTEND;TZID=Europe/Paris:20221216T180000
DTSTAMP:20260420T163916
CREATED:20221027T075626Z
LAST-MODIFIED:20221027T075626Z
UID:10001377-1671210000-1671213600@www.normandielivre.fr
SUMMARY:Croqueurs de livres
DESCRIPTION:Votre enfant a plus de 9 ans ? Il adore la lecture et dévore les livres ? Une fois par mois\, les croqueurs de livres s’attablent avec Florence pour parler de leurs lectures\, le tout accompagné d’un goûter et assaisonné de bonne humeur. \nMédiathèque de Dives-sur-Mer
URL:https://www.normandielivre.fr/agenda-collaboratif/croqueurs-de-livres-2/
LOCATION:Médiathèque Jacques-Prévert\, Place du Commandant Charcot\, Dives-sur-Mer\, 14160
CATEGORIES:Club de lecteurs
ATTACH;FMTTYPE=image/jpeg:https://www.normandielivre.fr/wp-content/uploads/2022/10/croqueurs_de_livres02-1-scaled.jpg
ORGANIZER;CN="M&eacute%3Bdiath&egrave%3Bque de Dives-sur-Mer":MAILTO:mediatheque@dives-sur-mer.fr
END:VEVENT
BEGIN:VEVENT
DTSTART;TZID=Europe/Paris:20221216T093000
DTEND;TZID=Europe/Paris:20221216T113000
DTSTAMP:20260420T163916
CREATED:20221027T075554Z
LAST-MODIFIED:20221027T075554Z
UID:10001374-1671183000-1671190200@www.normandielivre.fr
SUMMARY:Bébés Lecteurs
DESCRIPTION:Lectures d’histoires pour les tout-petits (0-3 ans). Musique\, comptines et jeux de doigts. Deux séances sont proposées : 9h30 ou 10h30. Durée 50 min. \nMédiathèque de Dives-sur-Mer
URL:https://www.normandielivre.fr/agenda-collaboratif/bebes-lecteurs-12/
LOCATION:Médiathèque Jacques-Prévert\, Place du Commandant Charcot\, Dives-sur-Mer\, 14160
CATEGORIES:Lecture
ATTACH;FMTTYPE=image/jpeg:https://www.normandielivre.fr/wp-content/uploads/2022/10/2022-Bebes_lecteurs-1-scaled.jpg
ORGANIZER;CN="M&eacute%3Bdiath&egrave%3Bque de Dives-sur-Mer":MAILTO:mediatheque@dives-sur-mer.fr
END:VEVENT
BEGIN:VEVENT
DTSTART;TZID=Europe/Paris:20221214T160000
DTEND;TZID=Europe/Paris:20221214T170000
DTSTAMP:20260420T163916
CREATED:20221027T075659Z
LAST-MODIFIED:20221027T075659Z
UID:10001378-1671033600-1671037200@www.normandielivre.fr
SUMMARY:Mercredi du conte
DESCRIPTION:Lectures d’histoires pour les enfants de 4 ans et plus\, suivies d’un atelier créatif. \nGratuit. \nMédiathèque de Dives-sur-Mer
URL:https://www.normandielivre.fr/agenda-collaboratif/mercredi-du-conte-3/
LOCATION:Médiathèque Jacques-Prévert\, Place du Commandant Charcot\, Dives-sur-Mer\, 14160
CATEGORIES:Lecture
ATTACH;FMTTYPE=image/jpeg:https://www.normandielivre.fr/wp-content/uploads/2022/10/Heure-du-conte-1-scaled.jpg
ORGANIZER;CN="M&eacute%3Bdiath&egrave%3Bque de Dives-sur-Mer":MAILTO:mediatheque@dives-sur-mer.fr
END:VEVENT
BEGIN:VEVENT
DTSTART;VALUE=DATE:20221201
DTEND;VALUE=DATE:20230108
DTSTAMP:20260420T163916
CREATED:20220930T142939Z
LAST-MODIFIED:20220930T142939Z
UID:10001360-1669852800-1673135999@www.normandielivre.fr
SUMMARY:Exposition aquarelle d'Olivier Scouflaire
DESCRIPTION:L’artiste Olivier Scouflaire présentera ses paysages maritimes réalisés à l’aquarelle et rehaussés à l’encre de chine. Il est entre autre le gagnant de la journée des peintres de l’édition 2021 de Villers-sur-Mer. \nMédiathèque de Dives-sur-Mer
URL:https://www.normandielivre.fr/agenda-collaboratif/exposition-aquarelle-dolivier-scouflaire/
LOCATION:Médiathèque Jacques-Prévert\, Place du Commandant Charcot\, Dives-sur-Mer\, 14160
CATEGORIES:Exposition
ATTACH;FMTTYPE=image/jpeg:https://www.normandielivre.fr/wp-content/uploads/2022/09/202212-expo_scouflaire3.jpg
ORGANIZER;CN="M&eacute%3Bdiath&egrave%3Bque de Dives-sur-Mer":MAILTO:mediatheque@dives-sur-mer.fr
END:VEVENT
BEGIN:VEVENT
DTSTART;TZID=Europe/Paris:20221125T093000
DTEND;TZID=Europe/Paris:20221125T113000
DTSTAMP:20260420T163916
CREATED:20221011T100026Z
LAST-MODIFIED:20221013T100119Z
UID:10001363-1669368600-1669375800@www.normandielivre.fr
SUMMARY:Bébés Lecteurs
DESCRIPTION:Lectures d’histoires pour les tout-petits. Deux séances sont proposées : 9h30 ou 10h30. \nPour les 0-3 ans. \nMédiathèque de Dives-sur-Mer
URL:https://www.normandielivre.fr/agenda-collaboratif/bebes-lecteurs-11/
LOCATION:Médiathèque Jacques-Prévert\, Place du Commandant Charcot\, Dives-sur-Mer\, 14160
CATEGORIES:Jeunesse,Lecture
ATTACH;FMTTYPE=image/jpeg:https://www.normandielivre.fr/wp-content/uploads/2022/10/2022-Bebes_lecteurs-scaled.jpg
ORGANIZER;CN="M&eacute%3Bdiath&egrave%3Bque de Dives-sur-Mer":MAILTO:mediatheque@dives-sur-mer.fr
END:VEVENT
BEGIN:VEVENT
DTSTART;TZID=Europe/Paris:20221123T163000
DTEND;TZID=Europe/Paris:20221123T173000
DTSTAMP:20260420T163916
CREATED:20221013T100111Z
LAST-MODIFIED:20221013T100111Z
UID:10001365-1669221000-1669224600@www.normandielivre.fr
SUMMARY:Mercredi du conte
DESCRIPTION:Lectures d’histoires « Balade dans la savane » pour les enfants de 4 ans et plus\, suivies d’un atelier créatif et d’un goûter. \nMédiathèque de Dives-sur-Mer
URL:https://www.normandielivre.fr/agenda-collaboratif/mercredi-du-conte-2/
LOCATION:Médiathèque Jacques-Prévert\, Place du Commandant Charcot\, Dives-sur-Mer\, 14160
CATEGORIES:Jeunesse,Lecture
ATTACH;FMTTYPE=image/jpeg:https://www.normandielivre.fr/wp-content/uploads/2022/10/Heure-du-conte-scaled.jpg
ORGANIZER;CN="M&eacute%3Bdiath&egrave%3Bque de Dives-sur-Mer":MAILTO:mediatheque@dives-sur-mer.fr
END:VEVENT
BEGIN:VEVENT
DTSTART;TZID=Europe/Paris:20221118T170000
DTEND;TZID=Europe/Paris:20221118T180000
DTSTAMP:20260420T163916
CREATED:20221013T113559Z
LAST-MODIFIED:20221013T113559Z
UID:10001199-1668790800-1668794400@www.normandielivre.fr
SUMMARY:Croqueurs de livres
DESCRIPTION:Votre enfant a plus de 9 ans ? \nIl adore la lecture et dévore les livres ? \nUne fois par mois\, les croqueurs de livres s’attablent avec Florence pour parler de leurs lectures\, le tout accompagné d’un goûter et assaisonné de bonne humeur. \nMédiathèque de Dives-sur-Mer
URL:https://www.normandielivre.fr/agenda-collaboratif/croqueurs-de-livres/
LOCATION:Médiathèque Jacques-Prévert\, Place du Commandant Charcot\, Dives-sur-Mer\, 14160
CATEGORIES:Club de lecteurs,Jeunesse
ATTACH;FMTTYPE=image/jpeg:https://www.normandielivre.fr/wp-content/uploads/2022/10/croqueurs_de_livres02-scaled.jpg
ORGANIZER;CN="M&eacute%3Bdiath&egrave%3Bque de Dives-sur-Mer":MAILTO:mediatheque@dives-sur-mer.fr
END:VEVENT
BEGIN:VEVENT
DTSTART;TZID=Europe/Paris:20221026T160000
DTEND;TZID=Europe/Paris:20221026T170000
DTSTAMP:20260420T163916
CREATED:20220721T103308Z
LAST-MODIFIED:20220721T103308Z
UID:10001263-1666800000-1666803600@www.normandielivre.fr
SUMMARY:Heure du conte
DESCRIPTION:Lectures d’histoires pour les enfants de 4 ans et plus\, suivies d’un atelier de travail manuel. \nMédiathèque de Dives-sur-Mer
URL:https://www.normandielivre.fr/agenda-collaboratif/heure-du-conte-5/
LOCATION:Médiathèque Jacques-Prévert\, Place du Commandant Charcot\, Dives-sur-Mer\, 14160
CATEGORIES:Lecture
ATTACH;FMTTYPE=image/jpeg:https://www.normandielivre.fr/wp-content/uploads/2022/07/Heure-du-conte-scaled.jpg
ORGANIZER;CN="M&eacute%3Bdiath&egrave%3Bque de Dives-sur-Mer":MAILTO:mediatheque@dives-sur-mer.fr
END:VEVENT
BEGIN:VEVENT
DTSTART;TZID=Europe/Paris:20221025T150000
DTEND;TZID=Europe/Paris:20221025T173000
DTSTAMP:20260420T163916
CREATED:20220729T103303Z
LAST-MODIFIED:20220729T103303Z
UID:10001268-1666710000-1666719000@www.normandielivre.fr
SUMMARY:Après-midi jeux de société
DESCRIPTION:Annelyse Choin et sa ludothèque mobile s’installe à la médiathèque pour un après-midi jeux ! \nMédiathèque de Dives-sur-Mer
URL:https://www.normandielivre.fr/agenda-collaboratif/apres-midi-jeux-de-societe-3/
LOCATION:Médiathèque Jacques-Prévert\, Place du Commandant Charcot\, Dives-sur-Mer\, 14160
CATEGORIES:Jeunesse
ATTACH;FMTTYPE=image/jpeg:https://www.normandielivre.fr/wp-content/uploads/2022/07/2022-Affiche_pm_jeux3-scaled.jpg
ORGANIZER;CN="M&eacute%3Bdiath&egrave%3Bque de Dives-sur-Mer":MAILTO:mediatheque@dives-sur-mer.fr
END:VEVENT
BEGIN:VEVENT
DTSTART;TZID=Europe/Paris:20221020T103000
DTEND;TZID=Europe/Paris:20221126T183000
DTSTAMP:20260420T163916
CREATED:20220930T093136Z
LAST-MODIFIED:20220930T093136Z
UID:10001358-1666261800-1669487400@www.normandielivre.fr
SUMMARY:Exposition : "Le Ksar" d'Hélène Balcer
DESCRIPTION:L’illustratrice Hélène Balcer présente l’aventure de son roman graphique « Le Ksar » : la rencontre avec le héros de son livre\, Jean-Paul Bassaget capitaine de la Calypso du Commandant Cousteau\, son parcours\, l’élaboration du scénario\, les différentes étapes de travail du roman graphique et toute la documentation qui a servi à l’auteur. Le tout sera illustré des planches de la BD. \nRencontre avec l’auteure et Jean-Paul Bassaget le samedi 26 novembre à 15h30. Gratuit. \nMédiathèque de Dives-sur-Mer
URL:https://www.normandielivre.fr/agenda-collaboratif/exposition-le-ksar-dhelene-balcer/
LOCATION:Médiathèque Jacques-Prévert\, Place du Commandant Charcot\, Dives-sur-Mer\, 14160
CATEGORIES:Exposition
ATTACH;FMTTYPE=image/jpeg:https://www.normandielivre.fr/wp-content/uploads/2022/09/202210-expo_balcer.jpg
ORGANIZER;CN="M&eacute%3Bdiath&egrave%3Bque de Dives-sur-Mer":MAILTO:mediatheque@dives-sur-mer.fr
END:VEVENT
BEGIN:VEVENT
DTSTART;TZID=Europe/Paris:20221015T160000
DTEND;TZID=Europe/Paris:20221015T173000
DTSTAMP:20260420T163916
CREATED:20220721T103436Z
LAST-MODIFIED:20220721T103436Z
UID:10001264-1665849600-1665855000@www.normandielivre.fr
SUMMARY:Conférence scientifique : Changement climatique\, atténuation et adaptation
DESCRIPTION:Les chercheurs Stéphane Costa\, co-président du GIEC normand (Groupe d’experts intergouvernemental sur l’évolution du climat) et Sophie Madeleine\, directrice du laboratoire CIREVE (Centre Interdisciplinaire de Réalité Virtuelle) proposeront une conférence sur la thématique : changement climatique\, atténuation et adaptation. \nRetransmission de la conférence de la Bibliothèque de Mathieu dans le cadre de la Fête de la science 2022. \nMédiathèque de Dives-sur-Mer
URL:https://www.normandielivre.fr/agenda-collaboratif/conference-scientifique-changement-climatique-attenuation-et-adaptation/
LOCATION:Médiathèque Jacques-Prévert\, Place du Commandant Charcot\, Dives-sur-Mer\, 14160
CATEGORIES:Conférence
ATTACH;FMTTYPE=image/jpeg:https://www.normandielivre.fr/wp-content/uploads/2022/07/202210-fds_conference3-scaled.jpg
ORGANIZER;CN="M&eacute%3Bdiath&egrave%3Bque de Dives-sur-Mer":MAILTO:mediatheque@dives-sur-mer.fr
END:VEVENT
BEGIN:VEVENT
DTSTART;TZID=Europe/Paris:20221001T170000
DTEND;TZID=Europe/Paris:20221001T173000
DTSTAMP:20260420T163916
CREATED:20220822T092734Z
LAST-MODIFIED:20220822T092734Z
UID:10001276-1664643600-1664645400@www.normandielivre.fr
SUMMARY:Le Bal des mouflets
DESCRIPTION:Quelques classiques dansés du répertoire enfantin\, des instruments traditionnels au swing\, des chansons d’auteurs\, des créations originales… Le bal des mouflets alterne des musiques endiablées\, des rondes et folles farandoles\, un moment de calme autour de la rivière bruissante\, de la douceur avec des tulles.\nLa participation des enfants est sollicitée avec des maracas\, des bâtons de pluie\, des foulards… Antonin Jouan à la guitare-bizarre et Claire Marion au chant et percussions proposent un moment joyeux\, poétique et dynamique. \nDans le cadre de « Une naissance\, un arbre\, un livre » de la ville de Dives-sur-Mer. \nDe 0 à 6 ans. Gratuit. Durée : 30 minutes. Sans réservation \nMédiathèque de Dives-sur-Mer
URL:https://www.normandielivre.fr/agenda-collaboratif/le-bal-des-mouflets/2022-10-01/2/
LOCATION:Médiathèque Jacques-Prévert\, Place du Commandant Charcot\, Dives-sur-Mer\, 14160
CATEGORIES:Spectacle
ATTACH;FMTTYPE=image/jpeg:https://www.normandielivre.fr/wp-content/uploads/2022/08/2022-spectacle_bal_mouflets3-1-scaled.jpg
ORGANIZER;CN="M&eacute%3Bdiath&egrave%3Bque de Dives-sur-Mer":MAILTO:mediatheque@dives-sur-mer.fr
END:VEVENT
BEGIN:VEVENT
DTSTART;TZID=Europe/Paris:20221001T160000
DTEND;TZID=Europe/Paris:20221001T163000
DTSTAMP:20260420T163916
CREATED:20220822T092734Z
LAST-MODIFIED:20220822T092734Z
UID:10001275-1664640000-1664641800@www.normandielivre.fr
SUMMARY:Le Bal des mouflets
DESCRIPTION:Quelques classiques dansés du répertoire enfantin\, des instruments traditionnels au swing\, des chansons d’auteurs\, des créations originales… Le bal des mouflets alterne des musiques endiablées\, des rondes et folles farandoles\, un moment de calme autour de la rivière bruissante\, de la douceur avec des tulles.\nLa participation des enfants est sollicitée avec des maracas\, des bâtons de pluie\, des foulards… Antonin Jouan à la guitare-bizarre et Claire Marion au chant et percussions proposent un moment joyeux\, poétique et dynamique. \nDans le cadre de « Une naissance\, un arbre\, un livre » de la ville de Dives-sur-Mer. \nDe 0 à 6 ans. Gratuit. Durée : 30 minutes. Sans réservation \nMédiathèque de Dives-sur-Mer
URL:https://www.normandielivre.fr/agenda-collaboratif/le-bal-des-mouflets/2022-10-01/1/
LOCATION:Médiathèque Jacques-Prévert\, Place du Commandant Charcot\, Dives-sur-Mer\, 14160
CATEGORIES:Spectacle
ATTACH;FMTTYPE=image/jpeg:https://www.normandielivre.fr/wp-content/uploads/2022/08/2022-spectacle_bal_mouflets3-1-scaled.jpg
ORGANIZER;CN="M&eacute%3Bdiath&egrave%3Bque de Dives-sur-Mer":MAILTO:mediatheque@dives-sur-mer.fr
END:VEVENT
BEGIN:VEVENT
DTSTART;TZID=Europe/Paris:20220924T190000
DTEND;TZID=Europe/Paris:20220924T200000
DTSTAMP:20260420T163916
CREATED:20220812T102057Z
LAST-MODIFIED:20220812T102057Z
UID:10001270-1664046000-1664049600@www.normandielivre.fr
SUMMARY:Spectacle : Double Boucle à Dives-sur-Mer
DESCRIPTION:Recherche sonore et visuelle autour des boucles et d’un carnet de voyage imaginaire.\nDouble Boucle se déploie autour d’une voix off enregistrée il y a 20 ans par une documentariste de retour du Mexique. Elle narre\, essaye ou se trompe et recommence\, ajuste sa diction\, tente de trouver le meilleur ton pour raconter leurs folles aventures en forêt Amazonienne. Cette histoire\, récupérée sur une bande magnétique est bouclée. Elle est le support de l’improvisation musicale et visuelle qui eux-même sont construits de la Boucle.\nPaatrice Marchand et Martin Debisschop présentent ce travail comme un carnet de voyage qu’ils n’ont pas fait avec les aventures de Tchak qu’ils n’ont jamais rencontré. \nDans le cadre de la Biennale internationale du livre d’artiste de l’association Artlibris. \nMédiathèque de Dives-sur-Mer
URL:https://www.normandielivre.fr/agenda-collaboratif/spectacle-double-boucle-a-dives-sur-mer/
LOCATION:Halles médiévales de Dives-sur-Mer\, Rue Paul Canta\, Dives-sur-Mer\, 14160
CATEGORIES:Spectacle
ATTACH;FMTTYPE=image/jpeg:https://www.normandielivre.fr/wp-content/uploads/2022/08/paatrice-double-boucle-1-scaled.jpg
ORGANIZER;CN="M&eacute%3Bdiath&egrave%3Bque de Dives-sur-Mer":MAILTO:mediatheque@dives-sur-mer.fr
END:VEVENT
BEGIN:VEVENT
DTSTART;TZID=Europe/Paris:20220924T163000
DTEND;TZID=Europe/Paris:20220926T163000
DTSTAMP:20260420T163916
CREATED:20220816T133330Z
LAST-MODIFIED:20220816T133330Z
UID:10001272-1664037000-1664209800@www.normandielivre.fr
SUMMARY:8e Biennale Internationale du livre d'artiste
DESCRIPTION:L’association Artlibris est heureuse de vous retrouver sous les Halles médiévales de Dives-sur-Mer pour cette 8ème Biennale du livre d’artiste du 24 au 26 septembre 2022.\nCette année encore\, plus de trente artistes vous présenteront dans un cadre exceptionnel leurs créations originales aux techniques variées et singulières. Artlibris exposera l’oeuvre collective réalisée par tous les participants de la Biennale\, qui était cette année sur le thème « Entre mer et terre ». Des temps forts ponctueront ces rencontres pendant ces 3 jours de festival. \nHoraires : samedi : 16h30-20h30 / dimanche : 10h-19h / lundi : 9h-13h \nLe programme complet sur : http://artlibris-dives.fr/ \nMédiathèque de Dives-sur-Mer
URL:https://www.normandielivre.fr/agenda-collaboratif/8e-biennale-internationale-du-livre-dartiste/
LOCATION:Halles médiévales de Dives-sur-Mer\, Rue Paul Canta\, Dives-sur-Mer\, 14160
CATEGORIES:Festival
ATTACH;FMTTYPE=image/jpeg:https://www.normandielivre.fr/wp-content/uploads/2022/08/2022-instagram-biennale_artlibris.jpg
END:VEVENT
BEGIN:VEVENT
DTSTART;TZID=Europe/Paris:20220323T160000
DTEND;TZID=Europe/Paris:20220323T170000
DTSTAMP:20260420T163916
CREATED:20220203T090919Z
LAST-MODIFIED:20220203T090919Z
UID:10001136-1648051200-1648054800@www.normandielivre.fr
SUMMARY:Heure du conte
DESCRIPTION:Lectures d’histoires sur les enfants du monde pour les enfants de 4 ans et plus\, suivies d’un atelier créatif. \nGratuit. + 4 ans \nMédiathèque de Dives-sur-Mer
URL:https://www.normandielivre.fr/agenda-collaboratif/heure-du-conte-2/
CATEGORIES:Lecture
ATTACH;FMTTYPE=image/jpeg:https://www.normandielivre.fr/wp-content/uploads/2022/02/Heure-du-conte-1-scaled.jpg
ORGANIZER;CN="M&eacute%3Bdiath&egrave%3Bque de Dives-sur-Mer":MAILTO:mediatheque@dives-sur-mer.fr
END:VEVENT
END:VCALENDAR