BEGIN:VCALENDAR
VERSION:2.0
PRODID:-//Normandie Livre &amp; Lecture - ECPv6.15.11//NONSGML v1.0//EN
CALSCALE:GREGORIAN
METHOD:PUBLISH
X-WR-CALNAME:Normandie Livre &amp; Lecture
X-ORIGINAL-URL:https://www.normandielivre.fr
X-WR-CALDESC:Évènements pour Normandie Livre &amp; Lecture
REFRESH-INTERVAL;VALUE=DURATION:PT1H
X-Robots-Tag:noindex
X-PUBLISHED-TTL:PT1H
BEGIN:VTIMEZONE
TZID:Europe/Paris
BEGIN:DAYLIGHT
TZOFFSETFROM:+0100
TZOFFSETTO:+0200
TZNAME:CEST
DTSTART:20220327T010000
END:DAYLIGHT
BEGIN:STANDARD
TZOFFSETFROM:+0200
TZOFFSETTO:+0100
TZNAME:CET
DTSTART:20221030T010000
END:STANDARD
BEGIN:DAYLIGHT
TZOFFSETFROM:+0100
TZOFFSETTO:+0200
TZNAME:CEST
DTSTART:20230326T010000
END:DAYLIGHT
BEGIN:STANDARD
TZOFFSETFROM:+0200
TZOFFSETTO:+0100
TZNAME:CET
DTSTART:20231029T010000
END:STANDARD
BEGIN:DAYLIGHT
TZOFFSETFROM:+0100
TZOFFSETTO:+0200
TZNAME:CEST
DTSTART:20240331T010000
END:DAYLIGHT
BEGIN:STANDARD
TZOFFSETFROM:+0200
TZOFFSETTO:+0100
TZNAME:CET
DTSTART:20241027T010000
END:STANDARD
END:VTIMEZONE
BEGIN:VEVENT
DTSTART;VALUE=DATE:20231007
DTEND;VALUE=DATE:20231009
DTSTAMP:20260422T053010
CREATED:20230929T115248Z
LAST-MODIFIED:20230929T115248Z
UID:10001428-1696636800-1696809599@www.normandielivre.fr
SUMMARY:Salon du livre de Ouistreham Riva-Bella
DESCRIPTION:Pour sa première édition\, le Salon du Livre de Ouistreham Riva-Bella accueillera les visiteurs à la Grange aux Dîmes et dans des lieux hors-les-murs du 6 au 8 octobre prochains. Durant trois jours d’une programmation riche et éclectique\, une cinquantaine d’auteurs et de maisons d’édition de toutes tailles\, d’envergure nationale ou locale\, viendront à la rencontre d’un public que nous espérons nombreux. \nPROGRAMME\nSamedi 7 et dimanche 8 octobre\nLa grange aux dîmes se transforme en grande librairie ! Retrouvez dans la grande salle\, samedi et dimanche de 10h à 18h\, les stands des maisons d’éditions et leurs auteurs en dédicace\, avec la librairie ouistrehamaise Des Vagues et des Mots. \nLes auteurs invités :\nVéronique Beaumont\, Stéphane Bellat\, Anouar Benmalek\, Helena Bers\, Michael Biabaud\, Isabelle Boiscras\, Catherine Boissel\, Marianne Catzaras\, Marion Chemin\, Rodolphe Danjou\, Dany Deb\, Mireille Delaunay\, Pauline de la Provôté\, Raphaël Delpard\, Christophe Dubourg\, Charline Effah\, Léo Falke\, Philippe Gaillard\, Nicolas Garma-Berman\, Laure Gombault\, Jean-Marie Duclos-Grenet\, Meryma Haelströme\, Florent Herouard\, Maire-Pierre Labonne\, Clotilde Latrobe\, Corinne Le Bars\, Jean-Michel Leboulanger\, Jérémie Lechevalier\, Elise Le Port\, Gérard Leroux\, Bernard Martin\, Florent Meyer\, Timour Mudhidine\, Marie Nimier\, Alexandra Pasquer\, Brigite Piedfert\, Nolwenn Prud’homme\, Walid Hajar Rachedi\, Frédéric Rémond\, Arnaud Roquier\, Sapho\, Vanessa Simon Catelin\, Stéphane Simmonet. \nVendredi 6 octobre\n20h – Dansoir : Soirée inaugurale du Salon du livre\, créations Karine Saporta\nSpectacle – « A comme Alice » d’après Alice au pays de merveille de Lewis Caroll. Suivi de « Jeux »\, une création chorégraphique en forme de mots croisés reposant sur les productions des ateliers d’écritures menés avec les enfants du centre de loisirs de la ville et des Ouistrehamais\, par l’auteur Zadig Hamroune en collaboration avec le plasticien Christophe Morlet.. Gratuit sur réservation au Dansoir 06 43 45 66 84 \nSamedi 7 octobre\nMairie – Salle des mariages : Rencontre avec les Editions Collas\nGrands portraits\, animés par Zadig Hamroune\n11h – Anouar Benmalek (L’amour au temps des scélérats\, Grand prix SGDL 2022 de fiction)\n12h – Timour Mudhidine (La fille de l’ethnographe) et leur éditrice Emmanuelle Collas.\nLectrice Marie-Armelle Deguy. \n14h – Cinéma Le Cabieu : Projection du film «Barrage»\nde Laura Schroeder\, coscénarisé par Marie Nimier.\nAvec Lolita Chammah\, Isabelle Huppert. 2017 – Tarifs du cinéma\nSuivi d’un échange entre Marie Nimier\, et Florent Meyer\, scénaristes\, animé par Zadig Hamroune. \n15h – Hall de la Mairie : Rencontre avec la maison d’édition ouistrehamaise Entresol\nAnimée par Sandra Dézé\, Directrice de la culture de la Ville de Ouistreham Riva-Bella\nAvec Florent Herouard\, Directeur de la maison d’éditions Entresol\, auteur (Villas et architecture de bord de mer : Ouistreham\, et son tout nouveau livre Face à face : Côte de Nacre – West Sussex) et professeur d’architecture à l’Université de Caen\, et Michael Biabaud (Caen 1920-1940. De l’art déco au modernisme). \n17h – Cinéma Le Cabieu : Visite guidée de l’exposition «L’air du temps» par l’artiste Gil Adamy \n17h – Dansoir : Rencontre et échanges autour du conte\nsur la narration\, les traditions et l’approche psychanalytique. Suivis d’une lecture musicale de contes kabyles de la lune et du soleil.\nAvec Zadig Hamroune et Marie-Armelle Deguy\, comédienne\, et les contributions de Christophe Morlet\, vidéaste et Frédéric Garcia\, pianiste. \n17h – Hall de la Mairie : Table ronde : Place aux thrillers normands\nAnimé par Jean-Noël Levavasseur\, journaliste et écrivain\nAvec Jean-Michel Leboulanger\, (gagnant du Polars de Nacre 2022 avec Le prix du silence\, Éditions du Loir)\, Corinne Le Bars (Dans la diagonale du vide\, Harmattan)\, Arnaud Roquier (Tempête sur la Hague\, la Gronde) et Christophe Dubourg (L’année des loups\, Magnus). \n18h – Hall de la Mairie : Portraits croisés de primo-romanciers et rentrée littéraire\nAnimé par Zadig Hamroune\nAvec Nicolas Garma -Berman (La fille aux plumes de poussière\, Belfond)\, Charline Effah (Les Femmes de Bidibidi\, éditions Emmanuelle Collas)\, Walid Hajar Rachedi (Qu’est-ce que j’irais faire au paradis?\, éditions Emmanuelle Collas) et Rodolphe Danjou (Ces vies d’où l’on vient\, Robert Laffont). \nA partir de 19h – Dansoir – Soirée concert\, suivi d’un dîner\nRéservation auprès du Dansoir 06 43 45 66 84\nConcert 14€ / concert + repas 27€.\nCo-production Dansoir/New Morning : Concert du groupe Ab spatio (jazz fusion ethnique).\nAvec Frédéric Garcia\, clavier\, synthé – Axel Rigaud\, saxophones\, flûte traversière – Augustin Parsy\, synthés\, guitare basse et Richard Cailleux\, batterie\, percussions. \nDimanche 8 octobre\nLe dimanche des enfants – Hall de la Mairie\nJournée d’animations et de rencontres avec les auteurs\, les bibliothécaires\, les bénévoles de la bibliothèque\, les associations «Les Passeurs de livres» et «Lire et faire lire dans le Calvados».\nPauline de la Provôté\, (Oscar tome 1\, La Vague rouge\, Dupuis)\, Nolwenn Prud’homme (Zoocratie tome 1\, Le frère des lions\, autoédition)\, Vanessa Simon Catelin (L’expédition rocambolesque du professeur Schmetterling\, Kaléidoscope) et Dany Deb (Le petit cheval de bois\, Brévédent) \nAteliers sur inscription auprès de la bibliothèque municipale – 02 31 97 08 43\n10h : Atelier Lecture et Musique avec Nuria Lopes Sanchez\, musicienne\, et Leticia Rodriguez\, responsable de la bibliothèque de la ville – public 0-6 ans\, accompagné d’un adulte.\n10h30 : Atelier d’écriture créative en famille avec Sophie Eugène\, artiste en résidence à la Maison des artistes de Ouistreham Riva-Bella – 1 enfant + 1 parent.\n15h : Atelier d’écriture « Les animaux bavards » avec Nolwenn Prud’homme\, auteure.\nà partir de 8 ans. \nEt de 10h à 12h / 14h à 18h : RDV toutes les heures avec les conteuses pour écouter plein d’histoires ! \n11h – Mairie – Salle des mariages : Débat : «Arts et poésie : écrire\, faire entendre et faire voir»\nAnimé par Catherine Farhi\, Directrice du New-Morning\nAvec Élise Le Port (Une zone de Froid\, Éditions du Chameau)\, Jean-Marie Duclos-Grenet et Véronique Foucher\, (Seasons\, Éditions du Chameau)\, Sapho (Aujourd’hui – Journal au bord\, Doucey)\, et Marianne Catzaras (J’ai fermé mes maisons\, Doucey). \n14h – Mairie – Salle des mariages : Rencontre autour du roman historique\nAnimé par Zadig Hamroune\nAvec Brigite Piedfert\, (Tu seras princesse de Tarragone\, Calmann-Lévy)\, Clotilde Latrobe (Les héritières du silence\, Les Passagères)\, Laure Gombault (Les sans-gloire\, Souffles Littéraires) et Stéphane Bellat (La chambre d’Hannah\, MA Éditions). \n15h30 – Salle des mariages : Matrimoine littéraire\, grand entretien avec Mireille Delaunay\nAnimé par Sandra Dézé\, Directrice de la culture de la Ville de Ouistreham Riva-Bella\nAvec Mireille Delaunay\, Le grand almanach des femmes de lettres surprenantes de l’Antiquité à nos jours\, Métive\, 2022\, bandeau signé par Amélie Nothomb\, suivi par Le grand almanach des femmes de lettres remarquables\, bandeau signé par Annie Ernaux\, octobre 2023. \n15h30 – Eglise Saint-Samson : Lecture musicale « Petite sœur »\nLecture musicale par Marie Nimier (texte) et Karinn Helbert (orgue de cristal)\nMarie Nimier explore l’ambiguïté des relations fraternelles et le pouvoir des mots. Il s’agit d’une traversée du roman\, où les personnages prennent une dimension bouleversante\, grâce aux musiques originales de Karinn Helbert\, interprétées au Cristal Baschet\, instrument aussi rare que fascinant.\nSuivie de dédicaces et de la découverte de l’instrument. \n17h – Salle des mariages : Portrait de Zadig Hamroune\, Directeur littéraire du Salon\nAnimé par Catherine Farhi\, Directrice du New-Morning \n18h – Galerie Belle-Rive : Carte blanche à Sapho \nExpositions\nDans la Grange aux Dîmes : Seasons\, œuvres de Véronique Foucher\, extraites du recueil édité avec Jean-Marie Duclos-Grenet aux Éditions du Chameau.\nAu Cinéma Le Cabieu : L’air du temps\, Gil Adamy\, plasticien du sens\, puise dans les héros de la Bande Dessinée traités en noir et blanc et utilisés à contre-emploi en situation de parodie ou l’absurde le partage avec l’inconscience et la folie des hommes. Il utilise le poids des mots pour enrichir le choc visuel de ses toiles.\nA la galerie Belle-Rive : Écritures et territoires\, exposition photographique\, Jacqueline Salmon et François Louchet le temps du salon. Vernissage jeudi 5 octobre 18h30 – lectures de textes produits dans le cadre des ateliers d’écriture.\nSur la plage\, Promenade de la Paix : Reliées\, exposition photographique de Karine Saporta.\nA la Maison des Artistes : venez découvrir les œuvres de Sophie Eugène\, artiste en résidence à la Maison des artistes de Ouistreham Riva-Bella. \nMairie de Ouistreham Riva-Bella
URL:https://www.normandielivre.fr/agenda-collaboratif/salon-du-livre-de-ouistreham-riva-bella/
LOCATION:²Grange aux dîmes de Ouistreham Riva-Bella\, place lemarignier\, ouistreham riva-bella\, 14150\, France
CATEGORIES:Salon
ATTACH;FMTTYPE=image/jpeg:https://www.normandielivre.fr/wp-content/uploads/2023/09/salonLivre2023-scaled.jpg
ORGANIZER;CN="Mairie de Ouistreham Riva-Bella":MAILTO:directrice.education.culture@ville-ouistreham.fr
END:VEVENT
END:VCALENDAR