BEGIN:VCALENDAR
VERSION:2.0
PRODID:-//Normandie Livre &amp; Lecture - ECPv6.15.11//NONSGML v1.0//EN
CALSCALE:GREGORIAN
METHOD:PUBLISH
X-ORIGINAL-URL:https://www.normandielivre.fr
X-WR-CALDESC:Évènements pour Normandie Livre &amp; Lecture
REFRESH-INTERVAL;VALUE=DURATION:PT1H
X-Robots-Tag:noindex
X-PUBLISHED-TTL:PT1H
BEGIN:VTIMEZONE
TZID:Europe/Paris
BEGIN:DAYLIGHT
TZOFFSETFROM:+0100
TZOFFSETTO:+0200
TZNAME:CEST
DTSTART:20220327T010000
END:DAYLIGHT
BEGIN:STANDARD
TZOFFSETFROM:+0200
TZOFFSETTO:+0100
TZNAME:CET
DTSTART:20221030T010000
END:STANDARD
BEGIN:DAYLIGHT
TZOFFSETFROM:+0100
TZOFFSETTO:+0200
TZNAME:CEST
DTSTART:20230326T010000
END:DAYLIGHT
BEGIN:STANDARD
TZOFFSETFROM:+0200
TZOFFSETTO:+0100
TZNAME:CET
DTSTART:20231029T010000
END:STANDARD
BEGIN:DAYLIGHT
TZOFFSETFROM:+0100
TZOFFSETTO:+0200
TZNAME:CEST
DTSTART:20240331T010000
END:DAYLIGHT
BEGIN:STANDARD
TZOFFSETFROM:+0200
TZOFFSETTO:+0100
TZNAME:CET
DTSTART:20241027T010000
END:STANDARD
END:VTIMEZONE
BEGIN:VEVENT
DTSTART;TZID=Europe/Paris:20231014T163000
DTEND;TZID=Europe/Paris:20231014T190000
DTSTAMP:20260421T164739
CREATED:20230929T132511Z
LAST-MODIFIED:20230929T132511Z
UID:10001429-1697301000-1697310000@www.normandielivre.fr
SUMMARY:Rencontre avec les Livres Agités
DESCRIPTION:Le samedi 14 octobre\, la librairie l’Oiseau Lire reçoit les éditions des Livre Agités.\nLivres Agités est une maison d’édition indépendante\, engagée et féministe publiant exclusivement des premiers romans d’autrices françaises. \nLa librairie accueillera les éditrices Jeanne THIRIET et Vanessa CAFFIN ainsi que leur autrices Mona MESSINE\, Juliette GARRIGUE et Nadège ERIKA. Une table ronde accompagnée des autrices et éditrices sera organisé à partir de 16h30\, suivie à 18h par les dédicaces de leurs livres. \nVous pouvez réserver votre venue en contactant la librairie l’Oiseau Lire au 09.84.13.94.77 ou par mail via info@oiseaulire.fr \nL’Oiseau Lire
URL:https://www.normandielivre.fr/agenda-collaboratif/rencontre-avec-les-livres-agites/
LOCATION:Librairie l’Oiseau Lire\, 24 rue du Dr Oursel\, Évreux\, 27000
CATEGORIES:Rencontre
ATTACH;FMTTYPE=image/png:https://www.normandielivre.fr/wp-content/uploads/2023/09/Rencontre-dedicace-avec-les-Livres-Agites.png
ORGANIZER;CN="L'Oiseau Lire":MAILTO:info@oiseaulire.fr
END:VEVENT
END:VCALENDAR