BEGIN:VCALENDAR
VERSION:2.0
PRODID:-//Normandie Livre &amp; Lecture - ECPv6.15.11//NONSGML v1.0//EN
CALSCALE:GREGORIAN
METHOD:PUBLISH
X-WR-CALNAME:Normandie Livre &amp; Lecture
X-ORIGINAL-URL:https://www.normandielivre.fr
X-WR-CALDESC:Évènements pour Normandie Livre &amp; Lecture
REFRESH-INTERVAL;VALUE=DURATION:PT1H
X-Robots-Tag:noindex
X-PUBLISHED-TTL:PT1H
BEGIN:VTIMEZONE
TZID:Europe/Paris
BEGIN:DAYLIGHT
TZOFFSETFROM:+0100
TZOFFSETTO:+0200
TZNAME:CEST
DTSTART:20240331T010000
END:DAYLIGHT
BEGIN:STANDARD
TZOFFSETFROM:+0200
TZOFFSETTO:+0100
TZNAME:CET
DTSTART:20241027T010000
END:STANDARD
BEGIN:DAYLIGHT
TZOFFSETFROM:+0100
TZOFFSETTO:+0200
TZNAME:CEST
DTSTART:20250330T010000
END:DAYLIGHT
BEGIN:STANDARD
TZOFFSETFROM:+0200
TZOFFSETTO:+0100
TZNAME:CET
DTSTART:20251026T010000
END:STANDARD
BEGIN:DAYLIGHT
TZOFFSETFROM:+0100
TZOFFSETTO:+0200
TZNAME:CEST
DTSTART:20260329T010000
END:DAYLIGHT
BEGIN:STANDARD
TZOFFSETFROM:+0200
TZOFFSETTO:+0100
TZNAME:CET
DTSTART:20261025T010000
END:STANDARD
END:VTIMEZONE
BEGIN:VEVENT
DTSTART;TZID=Europe/Paris:20250118T143000
DTEND;TZID=Europe/Paris:20250118T160000
DTSTAMP:20260420T002603
CREATED:20241213T134611Z
LAST-MODIFIED:20241219T102921Z
UID:10002070-1737210600-1737216000@www.normandielivre.fr
SUMMARY:Le polar sous toutes ses formes avec Pauline Toulet et Miceal O’Griafa / Tullamore
DESCRIPTION:Rencontre avec l’autrice Pauline Toulet et l’auteur Miceal O’Griafa / Tullamore à la librairie Les mots dans la théière\, L’Aigle (61) pour découvrir leur nouveauté respective.   \nÉchange et rencontre avec Miceal O’Griafa / Tullamore autour de l’adaptation en BD du polar Les morsures de l’ombre et Pauline Toulet pour son premier roman\, polar burlesque : Anatole Bernolu a disparu. \nModération : Catherine Pupin \nÀ partir de quel âge : Public adulte \nRéservation : 02 33 34 98 56 ou par mail desmotsdanslatheiere@orange.fr \nRencontre organisée dans le cadre de l’événement Lire en hiver. \nLire en Hiver\, c’est le meilleur moment pour découvrir les actualités des auteurs\, autrices et maisons d’édition normands\, au plus près de chez vous. Du 14 janvier au 2 février\, partez à la découverte d’univers artistiques et littéraires variés\, dans les bibliothèques et librairies de Normandie. Renseignements : https://www.normandielivre.fr/lire-en-hiver/  \nLibrairie Les Mots dans la théière
URL:https://www.normandielivre.fr/agenda-collaboratif/le-polar-sous-toutes-ses-formes-avec-pauline-toulet-et-miceal-ogriafa-tullamore/
LOCATION:Librairie Les mots dans la théière\, 14 place de la Halle\, L'Aigle\, 61300
CATEGORIES:Lire en hiver,Rencontre
ATTACH;FMTTYPE=image/png:https://www.normandielivre.fr/wp-content/uploads/2024/12/6.png
END:VEVENT
END:VCALENDAR