BEGIN:VCALENDAR
VERSION:2.0
PRODID:-//Normandie Livre &amp; Lecture - ECPv6.15.11//NONSGML v1.0//EN
CALSCALE:GREGORIAN
METHOD:PUBLISH
X-ORIGINAL-URL:https://www.normandielivre.fr
X-WR-CALDESC:Évènements pour Normandie Livre &amp; Lecture
REFRESH-INTERVAL;VALUE=DURATION:PT1H
X-Robots-Tag:noindex
X-PUBLISHED-TTL:PT1H
BEGIN:VTIMEZONE
TZID:Europe/Paris
BEGIN:DAYLIGHT
TZOFFSETFROM:+0100
TZOFFSETTO:+0200
TZNAME:CEST
DTSTART:20250330T010000
END:DAYLIGHT
BEGIN:STANDARD
TZOFFSETFROM:+0200
TZOFFSETTO:+0100
TZNAME:CET
DTSTART:20251026T010000
END:STANDARD
BEGIN:DAYLIGHT
TZOFFSETFROM:+0100
TZOFFSETTO:+0200
TZNAME:CEST
DTSTART:20260329T010000
END:DAYLIGHT
BEGIN:STANDARD
TZOFFSETFROM:+0200
TZOFFSETTO:+0100
TZNAME:CET
DTSTART:20261025T010000
END:STANDARD
BEGIN:DAYLIGHT
TZOFFSETFROM:+0100
TZOFFSETTO:+0200
TZNAME:CEST
DTSTART:20270328T010000
END:DAYLIGHT
BEGIN:STANDARD
TZOFFSETFROM:+0200
TZOFFSETTO:+0100
TZNAME:CET
DTSTART:20271031T010000
END:STANDARD
END:VTIMEZONE
BEGIN:VEVENT
DTSTART;TZID=Europe/Paris:20260429T190000
DTEND;TZID=Europe/Paris:20260429T203000
DTSTAMP:20260422T025707
CREATED:20260421T115304Z
LAST-MODIFIED:20260421T115304Z
UID:10003457-1777489200-1777494600@www.normandielivre.fr
SUMMARY:Rencontre avec Hugo Boris
DESCRIPTION:Hugo Boris vient présenter ses ouvrages et en particulier son dernier roman « Regarde-moi tomber\, mon amour » (Edition de l’Iconoclaste) le 29 avril à 19h00 à la librairie. \nLibrairie Encre Marine
URL:https://www.normandielivre.fr/agenda-collaboratif/rencontre-avec-hugo-boris/
LOCATION:Librairie Encre Marine\, 19 rue Paul Bignon\, EU\, 76260\, France
CATEGORIES:Rencontre
ATTACH;FMTTYPE=image/jpeg:https://www.normandielivre.fr/wp-content/uploads/2026/04/1776264136312-66521484-47cd-4917-8ebe-dfebc3bcbb2e_1.jpg
ORGANIZER;CN="Librairie Encre Marine":MAILTO:encre.marine@orange.fr
END:VEVENT
END:VCALENDAR