BEGIN:VCALENDAR
VERSION:2.0
PRODID:-//Normandie Livre &amp; Lecture - ECPv6.15.11//NONSGML v1.0//EN
CALSCALE:GREGORIAN
METHOD:PUBLISH
X-WR-CALNAME:Normandie Livre &amp; Lecture
X-ORIGINAL-URL:https://www.normandielivre.fr
X-WR-CALDESC:Évènements pour Normandie Livre &amp; Lecture
REFRESH-INTERVAL;VALUE=DURATION:PT1H
X-Robots-Tag:noindex
X-PUBLISHED-TTL:PT1H
BEGIN:VTIMEZONE
TZID:Europe/Paris
BEGIN:DAYLIGHT
TZOFFSETFROM:+0100
TZOFFSETTO:+0200
TZNAME:CEST
DTSTART:20230326T010000
END:DAYLIGHT
BEGIN:STANDARD
TZOFFSETFROM:+0200
TZOFFSETTO:+0100
TZNAME:CET
DTSTART:20231029T010000
END:STANDARD
BEGIN:DAYLIGHT
TZOFFSETFROM:+0100
TZOFFSETTO:+0200
TZNAME:CEST
DTSTART:20240331T010000
END:DAYLIGHT
BEGIN:STANDARD
TZOFFSETFROM:+0200
TZOFFSETTO:+0100
TZNAME:CET
DTSTART:20241027T010000
END:STANDARD
BEGIN:DAYLIGHT
TZOFFSETFROM:+0100
TZOFFSETTO:+0200
TZNAME:CEST
DTSTART:20250330T010000
END:DAYLIGHT
BEGIN:STANDARD
TZOFFSETFROM:+0200
TZOFFSETTO:+0100
TZNAME:CET
DTSTART:20251026T010000
END:STANDARD
END:VTIMEZONE
BEGIN:VEVENT
DTSTART;TZID=Europe/Paris:20240210T110000
DTEND;TZID=Europe/Paris:20240210T120000
DTSTAMP:20260422T165225
CREATED:20240209T140909Z
LAST-MODIFIED:20240209T140909Z
UID:10001753-1707562800-1707566400@www.normandielivre.fr
SUMMARY:Café Philo
DESCRIPTION:Un café philo se tient chaque samedi à 11h\, à la Librairie Convergences. \n1/ La liberté de pensée. Où le sens du mot démocratie\, et discussion démocratique\, repose en la disjonction de la vérité et du pouvoir. Une discussion non autoritaire\, donc\, ouverte à tous. \n2/ Une loi de la pensée partagée par tous. De toute affirmation découlent des conséquences qu’il convient d’examiner. Aucun propos ne peut être tenu pour auto-suffisant ou péremptoire\, afin que la discussion puisse avoir lieu. \n3/ La possibilité de l’universalité. Tout propos énoncé s’adresse à tout le monde. Pas de rétablissement anti-démocratique d’une autorité\, quelle qu’elle soit. Ce qui détermine l’être humain c’est la possibilité d’accéder à des vérités universelles par l’exercice démocratique et égalitaire de la pensée. Nous avons convenu de placer le Café Philo sous la devise : « Les gens pensent ». \n\n\n\n\n\n\nLibrairie Convergences
URL:https://www.normandielivre.fr/agenda-collaboratif/cafe-philo/
LOCATION:Librairie Convergences\, 65 Grande rue\, Sainte-Gauburge-Sainte-Colombe\, 61370\, France
CATEGORIES:Atelier
ATTACH;FMTTYPE=image/jpeg:https://www.normandielivre.fr/wp-content/uploads/2024/02/419189078_122132894600046250_1802043864669046717_n-1.jpg
ORGANIZER;CN="Librairie Convergences":MAILTO:james@librairie-convergences.fr
END:VEVENT
END:VCALENDAR