BEGIN:VCALENDAR
VERSION:2.0
PRODID:-//Normandie Livre &amp; Lecture - ECPv6.15.11//NONSGML v1.0//EN
CALSCALE:GREGORIAN
METHOD:PUBLISH
X-WR-CALNAME:Normandie Livre &amp; Lecture
X-ORIGINAL-URL:https://www.normandielivre.fr
X-WR-CALDESC:Évènements pour Normandie Livre &amp; Lecture
REFRESH-INTERVAL;VALUE=DURATION:PT1H
X-Robots-Tag:noindex
X-PUBLISHED-TTL:PT1H
BEGIN:VTIMEZONE
TZID:Europe/Paris
BEGIN:DAYLIGHT
TZOFFSETFROM:+0100
TZOFFSETTO:+0200
TZNAME:CEST
DTSTART:20230326T010000
END:DAYLIGHT
BEGIN:STANDARD
TZOFFSETFROM:+0200
TZOFFSETTO:+0100
TZNAME:CET
DTSTART:20231029T010000
END:STANDARD
BEGIN:DAYLIGHT
TZOFFSETFROM:+0100
TZOFFSETTO:+0200
TZNAME:CEST
DTSTART:20240331T010000
END:DAYLIGHT
BEGIN:STANDARD
TZOFFSETFROM:+0200
TZOFFSETTO:+0100
TZNAME:CET
DTSTART:20241027T010000
END:STANDARD
BEGIN:DAYLIGHT
TZOFFSETFROM:+0100
TZOFFSETTO:+0200
TZNAME:CEST
DTSTART:20250330T010000
END:DAYLIGHT
BEGIN:STANDARD
TZOFFSETFROM:+0200
TZOFFSETTO:+0100
TZNAME:CET
DTSTART:20251026T010000
END:STANDARD
END:VTIMEZONE
BEGIN:VEVENT
DTSTART;TZID=Europe/Paris:20241220T090000
DTEND;TZID=Europe/Paris:20241221T180000
DTSTAMP:20260420T081844
CREATED:20241212T103450Z
LAST-MODIFIED:20241212T103450Z
UID:10002060-1734685200-1734804000@www.normandielivre.fr
SUMMARY:Dominique Letellier signe ses 5 romans à la Maison de la Presse de Sotteville-lès-Rouen les 20/21 décembre 2024
DESCRIPTION:Née à Rouen\, Dominique Letellier aura le plaisir de dédicacer ses 5 romans à la Maison de la Presse de Sotteville-lès-Rouen le vendredi 20 et le samedi 21 décembre 2024 (9h à 12h\, de 14h30 à 18h). L’action de trois de ses œuvres se déroule dans la préfecture de la Seine-Maritime\, dans le département même. Le concept original de « Moteur ! Nous jouons ! » permet à ses lecteurs de découvrir le patrimoine exceptionnel de Rouen sous le signe du cinéma\, des rires. \nDominique Letellier signera aussi bien sûr « Aventures à Lausanne »\, présenté en avant-première à… Lausanne en Suisse le 14 juillet 2024. Les amoureux de la lecture suivent les péripéties de ses héros entre filatures\, surveillances et missions d’infiltration au bord du Léman. Tous les adversaires ont la même devise : A malin\, malin et demi ! \nLes Editions de l’Aventure
URL:https://www.normandielivre.fr/agenda-collaboratif/dominique-letellier-signe-ses-5-romans-a-la-maison-de-la-presse-de-sotteville-les-rouen-les-20-21-decembre-2024/
LOCATION:Maison de la Presse – Sotteville-lès-Rouen\, 33\, Place de l'Hôtel de ville\, Sotteville-lès-Rouen\, 76300
CATEGORIES:Dédicace
ATTACH;FMTTYPE=image/jpeg:https://www.normandielivre.fr/wp-content/uploads/2024/12/DominiqueLetellierAventuresALausanne9782951898554Couv.jpg
ORGANIZER;CN="Les Editions de l'Aventure":MAILTO:communication@editionsdelaventure.fr
END:VEVENT
END:VCALENDAR