BEGIN:VCALENDAR
VERSION:2.0
PRODID:-//Normandie Livre &amp; Lecture - ECPv6.15.11//NONSGML v1.0//EN
CALSCALE:GREGORIAN
METHOD:PUBLISH
X-ORIGINAL-URL:https://www.normandielivre.fr
X-WR-CALDESC:Évènements pour Normandie Livre &amp; Lecture
REFRESH-INTERVAL;VALUE=DURATION:PT1H
X-Robots-Tag:noindex
X-PUBLISHED-TTL:PT1H
BEGIN:VTIMEZONE
TZID:Europe/Paris
BEGIN:DAYLIGHT
TZOFFSETFROM:+0100
TZOFFSETTO:+0200
TZNAME:CEST
DTSTART:20240331T010000
END:DAYLIGHT
BEGIN:STANDARD
TZOFFSETFROM:+0200
TZOFFSETTO:+0100
TZNAME:CET
DTSTART:20241027T010000
END:STANDARD
BEGIN:DAYLIGHT
TZOFFSETFROM:+0100
TZOFFSETTO:+0200
TZNAME:CEST
DTSTART:20250330T010000
END:DAYLIGHT
BEGIN:STANDARD
TZOFFSETFROM:+0200
TZOFFSETTO:+0100
TZNAME:CET
DTSTART:20251026T010000
END:STANDARD
BEGIN:DAYLIGHT
TZOFFSETFROM:+0100
TZOFFSETTO:+0200
TZNAME:CEST
DTSTART:20260329T010000
END:DAYLIGHT
BEGIN:STANDARD
TZOFFSETFROM:+0200
TZOFFSETTO:+0100
TZNAME:CET
DTSTART:20261025T010000
END:STANDARD
END:VTIMEZONE
BEGIN:VEVENT
DTSTART;TZID=Europe/Paris:20251001T200000
DTEND;TZID=Europe/Paris:20251001T213000
DTSTAMP:20260424T220554
CREATED:20250922T152424Z
LAST-MODIFIED:20250922T152424Z
UID:10002569-1759348800-1759354200@www.normandielivre.fr
SUMMARY:"En Haut des marches"\, spectacle théâtral sur la transidentité
DESCRIPTION:En haut des marches est un roman de Fabrice Pataut\, paru aux éditions du Seuil en 2007 et qui traite de la transidentité. De manière parallèle\, le texte adapté pour la scène par Ulysse Robin donne à voir les sensations et les hésitations secrètes d’un adolescent\, Antoine\, avec en alternance les réflexions du personnage de Dorine\, une adulte qui convoque ses souvenirs. \nAu fil de la représentation\, la Compagnie Australe nous embarque dans le trajet intérieur qui conduisit Antoine vers sa transformation. Sa transidentité se révèle ici personnelle et le spectateur se trouve confronté à un monologue à deux voix\, aussi intime que peut l’être la lecture solitaire de chacun. \nLe clos des Fées Paluel
URL:https://www.normandielivre.fr/agenda-collaboratif/en-haut-des-marches-spectacle-theatral-sur-la-transidentite/
CATEGORIES:Spectacle
ATTACH;FMTTYPE=image/jpeg:https://www.normandielivre.fr/wp-content/uploads/2025/09/©-Cie-Destination-Australe-scaled.jpg
ORGANIZER;CN="Le clos des F%C3%A9es Paluel":MAILTO:accueil.closdesfees@mairie-paluel.fr
END:VEVENT
END:VCALENDAR