BEGIN:VCALENDAR
VERSION:2.0
PRODID:-//Normandie Livre &amp; Lecture - ECPv6.15.11//NONSGML v1.0//EN
CALSCALE:GREGORIAN
METHOD:PUBLISH
X-WR-CALNAME:Normandie Livre &amp; Lecture
X-ORIGINAL-URL:https://www.normandielivre.fr
X-WR-CALDESC:Évènements pour Normandie Livre &amp; Lecture
REFRESH-INTERVAL;VALUE=DURATION:PT1H
X-Robots-Tag:noindex
X-PUBLISHED-TTL:PT1H
BEGIN:VTIMEZONE
TZID:Europe/Paris
BEGIN:DAYLIGHT
TZOFFSETFROM:+0100
TZOFFSETTO:+0200
TZNAME:CEST
DTSTART:20250330T010000
END:DAYLIGHT
BEGIN:STANDARD
TZOFFSETFROM:+0200
TZOFFSETTO:+0100
TZNAME:CET
DTSTART:20251026T010000
END:STANDARD
BEGIN:DAYLIGHT
TZOFFSETFROM:+0100
TZOFFSETTO:+0200
TZNAME:CEST
DTSTART:20260329T010000
END:DAYLIGHT
BEGIN:STANDARD
TZOFFSETFROM:+0200
TZOFFSETTO:+0100
TZNAME:CET
DTSTART:20261025T010000
END:STANDARD
BEGIN:DAYLIGHT
TZOFFSETFROM:+0100
TZOFFSETTO:+0200
TZNAME:CEST
DTSTART:20270328T010000
END:DAYLIGHT
BEGIN:STANDARD
TZOFFSETFROM:+0200
TZOFFSETTO:+0100
TZNAME:CET
DTSTART:20271031T010000
END:STANDARD
END:VTIMEZONE
BEGIN:VEVENT
DTSTART;TZID=Europe/Paris:20260109T170000
DTEND;TZID=Europe/Paris:20260109T180000
DTSTAMP:20260420T075742
CREATED:20260107T121851Z
LAST-MODIFIED:20260107T121851Z
UID:10002682-1767978000-1767981600@www.normandielivre.fr
SUMMARY:Premier kilomètre
DESCRIPTION:Parce que la campagne est souvent considérée comme le dernier kilomètre\, dans le cadre du projet “paroles d’élu.e.s” associant le master green sociologie de l’université de Caen et l’association insite\, 7 étudiant.e.s et 5 volontaires ont rencontré 8 maires de petites communes de moins de 1500 habitant.e.s pour collecter leurs parcours\, leurs engagements\, leurs difficultés\, leurs réussites… \nA partir de ces rencontres\, ils ont produit des récits entre témoignages des maires et réflexions personnelles. \n“Premier kilomètre” en est la lecture\, mise en musique par les vies possibles (charlotte rousseau). \nInSite
URL:https://www.normandielivre.fr/agenda-collaboratif/premier-kilometre/
CATEGORIES:Lecture
ATTACH;FMTTYPE=image/png:https://www.normandielivre.fr/wp-content/uploads/2026/01/Les-depositaires-2.png
ORGANIZER;CN="Universit&eacute%3B de Caen-Normandie":MAILTO:culture.sci@unicaen.fr
END:VEVENT
END:VCALENDAR