BEGIN:VCALENDAR
VERSION:2.0
PRODID:-//Normandie Livre &amp; Lecture - ECPv6.15.11//NONSGML v1.0//EN
CALSCALE:GREGORIAN
METHOD:PUBLISH
X-WR-CALNAME:Normandie Livre &amp; Lecture
X-ORIGINAL-URL:https://www.normandielivre.fr
X-WR-CALDESC:Évènements pour Normandie Livre &amp; Lecture
REFRESH-INTERVAL;VALUE=DURATION:PT1H
X-Robots-Tag:noindex
X-PUBLISHED-TTL:PT1H
BEGIN:VTIMEZONE
TZID:Europe/Paris
BEGIN:DAYLIGHT
TZOFFSETFROM:+0100
TZOFFSETTO:+0200
TZNAME:CEST
DTSTART:20230326T010000
END:DAYLIGHT
BEGIN:STANDARD
TZOFFSETFROM:+0200
TZOFFSETTO:+0100
TZNAME:CET
DTSTART:20231029T010000
END:STANDARD
BEGIN:DAYLIGHT
TZOFFSETFROM:+0100
TZOFFSETTO:+0200
TZNAME:CEST
DTSTART:20240331T010000
END:DAYLIGHT
BEGIN:STANDARD
TZOFFSETFROM:+0200
TZOFFSETTO:+0100
TZNAME:CET
DTSTART:20241027T010000
END:STANDARD
BEGIN:DAYLIGHT
TZOFFSETFROM:+0100
TZOFFSETTO:+0200
TZNAME:CEST
DTSTART:20250330T010000
END:DAYLIGHT
BEGIN:STANDARD
TZOFFSETFROM:+0200
TZOFFSETTO:+0100
TZNAME:CET
DTSTART:20251026T010000
END:STANDARD
END:VTIMEZONE
BEGIN:VEVENT
DTSTART;TZID=Europe/Paris:20240405T093000
DTEND;TZID=Europe/Paris:20240922T180000
DTSTAMP:20260420T022520
CREATED:20240405T140328Z
LAST-MODIFIED:20240405T140328Z
UID:10001826-1712309400-1727028000@www.normandielivre.fr
SUMMARY:Le Livre dans l’art\, objet magique et mystérieux
DESCRIPTION:Exposition à L’ATELIER de CONDÉ-sur-NOIREAU du 23/03/ 2024 aux Journées du Patrimoine le 22/09/2024 \n« Le livre\, compagnon silencieux et pourtant bavard\, reste un objet magique »\nStéphane Mallarmé\, Le livre\, instrument spirituel\, 1897. \nL’ATELIER de Condé-sur-Noireau abrite entre autres\, une Médiathèque et un Musée\, le Musée Charles Léandre. Il nous est apparu opportun de profiter de ces deux espaces unis\, pour imaginer une exposition sur « Le Livre dans l’Art\, objet magique et mystérieux ». \nLes œuvres empruntées sont sélectionnées dans les riches collections des différentes structures culturelles de Normandie (musées\, médiathèques\, artothèque\, …) mais également à des collectionneurs privés. Des artistes et des artisans des métiers du livre de la région\, participent aussi à cette manifestation. \nL’exposition aborde l’histoire du Livre\, allant du codex au livre numérique ; celle de la lecture passant de l’ouvrage religieux à la littérature profane ; elle s’intéresse à la manière dont les artistes ont pu représenter le livre au cours des siècles. \nPour ce qui est de la lecture\, le thème de la transmission\, ceux de la concentration\, du silence\, de la solitude\, de l’abandon\, de la naissance de la liberté\, sont évoqués pour les représentations des femmes lectrices du XVIIIe au XXIe siècle. Les hommes lecteurs\, naguère\, si souvent peints jusqu’au XVIIIe siècle\, comme saints\, scientifiques\, philosophes ou sages\, se feront plus rares ! \nUne salle est consacrée aux peintures et aux photographies d’écrivains et d’artistes lisant\, ou tenant un livre à la main\, ou encore dans leur bibliothèque\, entourés d’ouvrages. \nPeintures\, sculptures\, gravures\, photographies\, livres illustrés (manuscrits entre autres…) livres d’artistes\, livres-objets\, belles reliures\, pop ups\, flip books\, planches de B.D et illustrations originales…\, sont ainsi présentés pour mettre en lumière le lien majeur entre le Livre et l’Art. \nMartine Baransky\nHistorienne de l’art et commissaire de l’exposition \n« Le livre constitue une possibilité de voir le monde autrement et peut donner l’élan de tout quitter\, de s’envoler vers d’autres horizons en ayant conquis par la lecture les armes de la liberté ».\nLaure Adler \nEspace Musée Charles Léandre\, Condé-sur-Noireau
URL:https://www.normandielivre.fr/agenda-collaboratif/le-livre-dans-lart-objet-magique-et-mysterieux/
LOCATION:Condé-sur-Noireau 14110 CONDE-EN-NORMANDIE\, 9/11 rue Saint-Martin\, Condé-sur-Noireau\, 14110 Condé-en-Normandie
CATEGORIES:Exposition
ATTACH;FMTTYPE=image/jpeg:https://www.normandielivre.fr/wp-content/uploads/2024/04/affiche-A3-1-scaled.jpeg
ORGANIZER;CN="Espace Mus%C3%A9e Charles L%C3%A9andre%2C Cond%C3%A9-sur-Noireau":MAILTO:contact@musee-charles-leandre.fr
END:VEVENT
END:VCALENDAR