BEGIN:VCALENDAR
VERSION:2.0
PRODID:-//Normandie Livre &amp; Lecture - ECPv6.15.11//NONSGML v1.0//EN
CALSCALE:GREGORIAN
METHOD:PUBLISH
X-ORIGINAL-URL:https://www.normandielivre.fr
X-WR-CALDESC:Évènements pour Normandie Livre &amp; Lecture
REFRESH-INTERVAL;VALUE=DURATION:PT1H
X-Robots-Tag:noindex
X-PUBLISHED-TTL:PT1H
BEGIN:VTIMEZONE
TZID:Europe/Paris
BEGIN:DAYLIGHT
TZOFFSETFROM:+0100
TZOFFSETTO:+0200
TZNAME:CEST
DTSTART:20230326T010000
END:DAYLIGHT
BEGIN:STANDARD
TZOFFSETFROM:+0200
TZOFFSETTO:+0100
TZNAME:CET
DTSTART:20231029T010000
END:STANDARD
BEGIN:DAYLIGHT
TZOFFSETFROM:+0100
TZOFFSETTO:+0200
TZNAME:CEST
DTSTART:20240331T010000
END:DAYLIGHT
BEGIN:STANDARD
TZOFFSETFROM:+0200
TZOFFSETTO:+0100
TZNAME:CET
DTSTART:20241027T010000
END:STANDARD
BEGIN:DAYLIGHT
TZOFFSETFROM:+0100
TZOFFSETTO:+0200
TZNAME:CEST
DTSTART:20250330T010000
END:DAYLIGHT
BEGIN:STANDARD
TZOFFSETFROM:+0200
TZOFFSETTO:+0100
TZNAME:CET
DTSTART:20251026T010000
END:STANDARD
BEGIN:DAYLIGHT
TZOFFSETFROM:+0100
TZOFFSETTO:+0200
TZNAME:CEST
DTSTART:20260329T010000
END:DAYLIGHT
BEGIN:STANDARD
TZOFFSETFROM:+0200
TZOFFSETTO:+0100
TZNAME:CET
DTSTART:20261025T010000
END:STANDARD
END:VTIMEZONE
BEGIN:VEVENT
DTSTART;TZID=Europe/Paris:20251108T100000
DTEND;TZID=Europe/Paris:20251108T180000
DTSTAMP:20260422T035818
CREATED:20251010T135408Z
LAST-MODIFIED:20251010T135408Z
UID:10002582-1762596000-1762624800@www.normandielivre.fr
SUMMARY:Lire pour tous & tous pour lire
DESCRIPTION:Pour cette 4e édition de Lire pour tous & tous pour lire\, les Éditions Skjaldmö en collaboration avec le magasin Intermarché de Bourg-Achard recevront une trentaine d’auteurs normands le samedi 8 novembre\, de 10 h à 18 h dans la galerie marchande. \nÀ 11 h\, une causerie autour des troubles DYS/TDHA sera animée par l’éditrice Marguerite Soudey. \nLes Enfants de Rollon animeront cette édition placée sous le thème des vikings. Une causerie \nÉditions Skjaldmö
URL:https://www.normandielivre.fr/agenda-collaboratif/lire-pour-tous-tous-pour-lire/
LOCATION:Intermarché Bourg-Achard\, 530 rue Docteur Duvrac\, Bourg-Achard\, 27310\, France
CATEGORIES:Salon
ATTACH;FMTTYPE=image/jpeg:https://www.normandielivre.fr/wp-content/uploads/2025/10/affiche-salon-2025.jpg
ORGANIZER;CN="%C3%89ditions Skjaldm%C3%B6":MAILTO:editions@editions-skjaldmo.fr
END:VEVENT
BEGIN:VEVENT
DTSTART;VALUE=DATE:20241102
DTEND;VALUE=DATE:20241103
DTSTAMP:20260422T035818
CREATED:20240916T125841Z
LAST-MODIFIED:20240916T125841Z
UID:10001976-1730505600-1730591999@www.normandielivre.fr
SUMMARY:Lire pour tous et tous pour lire
DESCRIPTION:La 3e édition du salon du livre Lire pour tous et tous pour lire est organisé conjointement par l’Intermarché de Bourg-Achard (27) et les Éditions Skjaldmö. \nÉditions Skjaldmö
URL:https://www.normandielivre.fr/agenda-collaboratif/lire-pour-tous-et-tous-pour-lire/
LOCATION:Galerie Intermarché\, 530 rue Docteur Duvrac\, Bourg Achard\, 27310\, France
CATEGORIES:Salon
ORGANIZER;CN="%C3%89ditions Skjaldm%C3%B6":MAILTO:editions@editions-skjaldmo.fr
END:VEVENT
END:VCALENDAR