BEGIN:VCALENDAR
VERSION:2.0
PRODID:-//Normandie Livre &amp; Lecture - ECPv6.15.11//NONSGML v1.0//EN
CALSCALE:GREGORIAN
METHOD:PUBLISH
X-WR-CALNAME:Normandie Livre &amp; Lecture
X-ORIGINAL-URL:https://www.normandielivre.fr
X-WR-CALDESC:Évènements pour Normandie Livre &amp; Lecture
REFRESH-INTERVAL;VALUE=DURATION:PT1H
X-Robots-Tag:noindex
X-PUBLISHED-TTL:PT1H
BEGIN:VTIMEZONE
TZID:Europe/Paris
BEGIN:DAYLIGHT
TZOFFSETFROM:+0100
TZOFFSETTO:+0200
TZNAME:CEST
DTSTART:20240331T010000
END:DAYLIGHT
BEGIN:STANDARD
TZOFFSETFROM:+0200
TZOFFSETTO:+0100
TZNAME:CET
DTSTART:20241027T010000
END:STANDARD
BEGIN:DAYLIGHT
TZOFFSETFROM:+0100
TZOFFSETTO:+0200
TZNAME:CEST
DTSTART:20250330T010000
END:DAYLIGHT
BEGIN:STANDARD
TZOFFSETFROM:+0200
TZOFFSETTO:+0100
TZNAME:CET
DTSTART:20251026T010000
END:STANDARD
BEGIN:DAYLIGHT
TZOFFSETFROM:+0100
TZOFFSETTO:+0200
TZNAME:CEST
DTSTART:20260329T010000
END:DAYLIGHT
BEGIN:STANDARD
TZOFFSETFROM:+0200
TZOFFSETTO:+0100
TZNAME:CET
DTSTART:20261025T010000
END:STANDARD
END:VTIMEZONE
BEGIN:VEVENT
DTSTART;TZID=Europe/Paris:20251217T180000
DTEND;TZID=Europe/Paris:20251217T200000
DTSTAMP:20260424T130927
CREATED:20250709T073658Z
LAST-MODIFIED:20250709T074630Z
UID:10002465-1765994400-1766001600@www.normandielivre.fr
SUMMARY:Atelier écriture/édition
DESCRIPTION:Une collaboration artistique et littéraire au long cours entre une plasticienne et un collectif d’auteur-e-s inspiré-e-s par ses images. \nEditions Les Ateliers
URL:https://www.normandielivre.fr/agenda-collaboratif/atelier-ecriture-edition-2/2025-12-17/
LOCATION:Maison de quartier Saint-Paul Caen\, 30 rue de Secqueville\, CAEN\, 14000
CATEGORIES:Atelier
ATTACH;FMTTYPE=image/jpeg:https://www.normandielivre.fr/wp-content/uploads/2025/06/1270922-w.jpg
ORGANIZER;CN="Editions Les Ateliers":MAILTO:ateliers.cnoyelle@neuf.fr
END:VEVENT
BEGIN:VEVENT
DTSTART;TZID=Europe/Paris:20251203T180000
DTEND;TZID=Europe/Paris:20251203T200000
DTSTAMP:20260424T130927
CREATED:20250709T073658Z
LAST-MODIFIED:20250709T074630Z
UID:10002464-1764784800-1764792000@www.normandielivre.fr
SUMMARY:Atelier écriture/édition
DESCRIPTION:Une collaboration artistique et littéraire au long cours entre une plasticienne et un collectif d’auteur-e-s inspiré-e-s par ses images. \nEditions Les Ateliers
URL:https://www.normandielivre.fr/agenda-collaboratif/atelier-ecriture-edition-2/2025-12-03/
LOCATION:Maison de quartier Saint-Paul Caen\, 30 rue de Secqueville\, CAEN\, 14000
CATEGORIES:Atelier
ATTACH;FMTTYPE=image/jpeg:https://www.normandielivre.fr/wp-content/uploads/2025/06/1270922-w.jpg
ORGANIZER;CN="Editions Les Ateliers":MAILTO:ateliers.cnoyelle@neuf.fr
END:VEVENT
BEGIN:VEVENT
DTSTART;TZID=Europe/Paris:20251119T180000
DTEND;TZID=Europe/Paris:20251119T200000
DTSTAMP:20260424T130927
CREATED:20250709T073658Z
LAST-MODIFIED:20250709T074630Z
UID:10002463-1763575200-1763582400@www.normandielivre.fr
SUMMARY:Atelier écriture/édition
DESCRIPTION:Une collaboration artistique et littéraire au long cours entre une plasticienne et un collectif d’auteur-e-s inspiré-e-s par ses images. \nEditions Les Ateliers
URL:https://www.normandielivre.fr/agenda-collaboratif/atelier-ecriture-edition-2/2025-11-19/
LOCATION:Maison de quartier Saint-Paul Caen\, 30 rue de Secqueville\, CAEN\, 14000
CATEGORIES:Atelier
ATTACH;FMTTYPE=image/jpeg:https://www.normandielivre.fr/wp-content/uploads/2025/06/1270922-w.jpg
ORGANIZER;CN="Editions Les Ateliers":MAILTO:ateliers.cnoyelle@neuf.fr
END:VEVENT
BEGIN:VEVENT
DTSTART;TZID=Europe/Paris:20251105T180000
DTEND;TZID=Europe/Paris:20251105T200000
DTSTAMP:20260424T130927
CREATED:20250709T073658Z
LAST-MODIFIED:20250709T074630Z
UID:10002462-1762365600-1762372800@www.normandielivre.fr
SUMMARY:Atelier écriture/édition
DESCRIPTION:Une collaboration artistique et littéraire au long cours entre une plasticienne et un collectif d’auteur-e-s inspiré-e-s par ses images. \nEditions Les Ateliers
URL:https://www.normandielivre.fr/agenda-collaboratif/atelier-ecriture-edition-2/2025-11-05/
LOCATION:Maison de quartier Saint-Paul Caen\, 30 rue de Secqueville\, CAEN\, 14000
CATEGORIES:Atelier
ATTACH;FMTTYPE=image/jpeg:https://www.normandielivre.fr/wp-content/uploads/2025/06/1270922-w.jpg
ORGANIZER;CN="Editions Les Ateliers":MAILTO:ateliers.cnoyelle@neuf.fr
END:VEVENT
BEGIN:VEVENT
DTSTART;TZID=Europe/Paris:20251022T180000
DTEND;TZID=Europe/Paris:20251022T200000
DTSTAMP:20260424T130927
CREATED:20250709T073658Z
LAST-MODIFIED:20250709T074630Z
UID:10002461-1761156000-1761163200@www.normandielivre.fr
SUMMARY:Atelier écriture/édition
DESCRIPTION:Une collaboration artistique et littéraire au long cours entre une plasticienne et un collectif d’auteur-e-s inspiré-e-s par ses images. \nEditions Les Ateliers
URL:https://www.normandielivre.fr/agenda-collaboratif/atelier-ecriture-edition-2/2025-10-22/
LOCATION:Maison de quartier Saint-Paul Caen\, 30 rue de Secqueville\, CAEN\, 14000
CATEGORIES:Atelier
ATTACH;FMTTYPE=image/jpeg:https://www.normandielivre.fr/wp-content/uploads/2025/06/1270922-w.jpg
ORGANIZER;CN="Editions Les Ateliers":MAILTO:ateliers.cnoyelle@neuf.fr
END:VEVENT
BEGIN:VEVENT
DTSTART;TZID=Europe/Paris:20251008T180000
DTEND;TZID=Europe/Paris:20251008T200000
DTSTAMP:20260424T130927
CREATED:20250709T073658Z
LAST-MODIFIED:20250709T074630Z
UID:10002460-1759946400-1759953600@www.normandielivre.fr
SUMMARY:Atelier écriture/édition
DESCRIPTION:Une collaboration artistique et littéraire au long cours entre une plasticienne et un collectif d’auteur-e-s inspiré-e-s par ses images. \nEditions Les Ateliers
URL:https://www.normandielivre.fr/agenda-collaboratif/atelier-ecriture-edition-2/2025-10-08/
LOCATION:Maison de quartier Saint-Paul Caen\, 30 rue de Secqueville\, CAEN\, 14000
CATEGORIES:Atelier
ATTACH;FMTTYPE=image/jpeg:https://www.normandielivre.fr/wp-content/uploads/2025/06/1270922-w.jpg
ORGANIZER;CN="Editions Les Ateliers":MAILTO:ateliers.cnoyelle@neuf.fr
END:VEVENT
BEGIN:VEVENT
DTSTART;TZID=Europe/Paris:20250924T180000
DTEND;TZID=Europe/Paris:20250924T200000
DTSTAMP:20260424T130927
CREATED:20250709T073658Z
LAST-MODIFIED:20250709T074630Z
UID:10002459-1758736800-1758744000@www.normandielivre.fr
SUMMARY:Atelier écriture/édition
DESCRIPTION:Une collaboration artistique et littéraire au long cours entre une plasticienne et un collectif d’auteur-e-s inspiré-e-s par ses images. \nEditions Les Ateliers
URL:https://www.normandielivre.fr/agenda-collaboratif/atelier-ecriture-edition-2/2025-09-24/
LOCATION:Maison de quartier Saint-Paul Caen\, 30 rue de Secqueville\, CAEN\, 14000
CATEGORIES:Atelier
ATTACH;FMTTYPE=image/jpeg:https://www.normandielivre.fr/wp-content/uploads/2025/06/1270922-w.jpg
ORGANIZER;CN="Editions Les Ateliers":MAILTO:ateliers.cnoyelle@neuf.fr
END:VEVENT
BEGIN:VEVENT
DTSTART;TZID=Europe/Paris:20250910T180000
DTEND;TZID=Europe/Paris:20250910T200000
DTSTAMP:20260424T130927
CREATED:20250709T073658Z
LAST-MODIFIED:20250709T074630Z
UID:10002458-1757527200-1757534400@www.normandielivre.fr
SUMMARY:Atelier écriture/édition
DESCRIPTION:Une collaboration artistique et littéraire au long cours entre une plasticienne et un collectif d’auteur-e-s inspiré-e-s par ses images. \nEditions Les Ateliers
URL:https://www.normandielivre.fr/agenda-collaboratif/atelier-ecriture-edition-2/2025-09-10/
LOCATION:Maison de quartier Saint-Paul Caen\, 30 rue de Secqueville\, CAEN\, 14000
CATEGORIES:Atelier
ATTACH;FMTTYPE=image/jpeg:https://www.normandielivre.fr/wp-content/uploads/2025/06/1270922-w.jpg
ORGANIZER;CN="Editions Les Ateliers":MAILTO:ateliers.cnoyelle@neuf.fr
END:VEVENT
BEGIN:VEVENT
DTSTART;TZID=Europe/Paris:20250716T180000
DTEND;TZID=Europe/Paris:20250716T200000
DTSTAMP:20260424T130927
CREATED:20250709T073658Z
LAST-MODIFIED:20250709T074630Z
UID:10002452-1752688800-1752696000@www.normandielivre.fr
SUMMARY:Atelier écriture/édition
DESCRIPTION:Une collaboration artistique et littéraire au long cours entre une plasticienne et un collectif d’auteur-e-s inspiré-e-s par ses images. \nEditions Les Ateliers
URL:https://www.normandielivre.fr/agenda-collaboratif/atelier-ecriture-edition-2/2025-07-16/
LOCATION:Maison de quartier Saint-Paul Caen\, 30 rue de Secqueville\, CAEN\, 14000
CATEGORIES:Atelier
ATTACH;FMTTYPE=image/jpeg:https://www.normandielivre.fr/wp-content/uploads/2025/06/1270922-w.jpg
ORGANIZER;CN="Editions Les Ateliers":MAILTO:ateliers.cnoyelle@neuf.fr
END:VEVENT
BEGIN:VEVENT
DTSTART;TZID=Europe/Paris:20250702T180000
DTEND;TZID=Europe/Paris:20250702T200000
DTSTAMP:20260424T130927
CREATED:20250630T115518Z
LAST-MODIFIED:20250630T115518Z
UID:10002433-1751479200-1751486400@www.normandielivre.fr
SUMMARY:Atelier écriture/édition
DESCRIPTION:Une collaboration artistique et littéraire au long cours entre une plasticienne et un collectif d’auteur-e-s inspiré-e-s par ses images. \nEditions Les Ateliers
URL:https://www.normandielivre.fr/agenda-collaboratif/atelier-ecriture-edition/2025-07-02/2/
LOCATION:Maison de quartier Saint-Paul Caen\, 30 rue de Secqueville\, CAEN\, 14000
CATEGORIES:Atelier
ATTACH;FMTTYPE=image/jpeg:https://www.normandielivre.fr/wp-content/uploads/2025/06/1270922-w.jpg
ORGANIZER;CN="Editions Les Ateliers":MAILTO:ateliers.cnoyelle@neuf.fr
END:VEVENT
BEGIN:VEVENT
DTSTART;TZID=Europe/Paris:20250702T080000
DTEND;TZID=Europe/Paris:20250702T170000
DTSTAMP:20260424T130927
CREATED:20250630T115518Z
LAST-MODIFIED:20250630T115518Z
UID:10002442-1751443200-1751475600@www.normandielivre.fr
SUMMARY:Atelier écriture/édition
DESCRIPTION:Une collaboration artistique et littéraire au long cours entre une plasticienne et un collectif d’auteur-e-s inspiré-e-s par ses images. \nEditions Les Ateliers
URL:https://www.normandielivre.fr/agenda-collaboratif/atelier-ecriture-edition/2025-07-02/1/
LOCATION:Maison de quartier Saint-Paul Caen\, 30 rue de Secqueville\, CAEN\, 14000
CATEGORIES:Atelier
ATTACH;FMTTYPE=image/jpeg:https://www.normandielivre.fr/wp-content/uploads/2025/06/1270922-w.jpg
ORGANIZER;CN="Editions Les Ateliers":MAILTO:ateliers.cnoyelle@neuf.fr
END:VEVENT
END:VCALENDAR