BEGIN:VCALENDAR
VERSION:2.0
PRODID:-//Normandie Livre &amp; Lecture - ECPv6.15.11//NONSGML v1.0//EN
CALSCALE:GREGORIAN
METHOD:PUBLISH
X-ORIGINAL-URL:https://www.normandielivre.fr
X-WR-CALDESC:Évènements pour Normandie Livre &amp; Lecture
REFRESH-INTERVAL;VALUE=DURATION:PT1H
X-Robots-Tag:noindex
X-PUBLISHED-TTL:PT1H
BEGIN:VTIMEZONE
TZID:Europe/Paris
BEGIN:DAYLIGHT
TZOFFSETFROM:+0100
TZOFFSETTO:+0200
TZNAME:CEST
DTSTART:20240331T010000
END:DAYLIGHT
BEGIN:STANDARD
TZOFFSETFROM:+0200
TZOFFSETTO:+0100
TZNAME:CET
DTSTART:20241027T010000
END:STANDARD
BEGIN:DAYLIGHT
TZOFFSETFROM:+0100
TZOFFSETTO:+0200
TZNAME:CEST
DTSTART:20250330T010000
END:DAYLIGHT
BEGIN:STANDARD
TZOFFSETFROM:+0200
TZOFFSETTO:+0100
TZNAME:CET
DTSTART:20251026T010000
END:STANDARD
BEGIN:DAYLIGHT
TZOFFSETFROM:+0100
TZOFFSETTO:+0200
TZNAME:CEST
DTSTART:20260329T010000
END:DAYLIGHT
BEGIN:STANDARD
TZOFFSETFROM:+0200
TZOFFSETTO:+0100
TZNAME:CET
DTSTART:20261025T010000
END:STANDARD
END:VTIMEZONE
BEGIN:VEVENT
DTSTART;VALUE=DATE:20250913
DTEND;VALUE=DATE:20250914
DTSTAMP:20260424T184040
CREATED:20250715T084913Z
LAST-MODIFIED:20250715T084913Z
UID:10002466-1757721600-1757807999@www.normandielivre.fr
SUMMARY:Fête du livre "Imaginons la Paix"
DESCRIPTION:La fête du Livre de Saint-Omer est un événement qui anime tous les deux ans la Communauté de Communes de Cingal-Suisse Normande. Il est organisé par un collectif regroupant les Amis de la Bibliothèque de Saint-Omer et les Ecrivains en Suisse Normande. \nCette année il a pour thème Imaginons la Paix. 32 écrivains normands y participent dont 15 de Suisse Normande. \nPlusieurs animations\, dont une promenade patrimoine (à 9h30)\, des lectures musicales de 14h30 à 17h30\, des expositions d’artistes locaux sur le thème de la paix et de l’harmonie avec la nature (Florence Boisjoly)\, des initiations à la méditation (yoga)\, des animations et jeux pour les enfants\, une buvette et petite restauration font de cet événement une vraie fête populaire en milieu rural. \nCette année des musiciens de l’école de musique de la Communauté de Communes ainsi que de nombreux bénévoles y participent. \nCollectif Ame-Amis de la Bibliothèque de Saint-Omer et Ecrivains en Suisse Normande
URL:https://www.normandielivre.fr/agenda-collaboratif/fete-du-livre-imaginons-la-paix/
LOCATION:Salle municipale et bibliothèque\, Le Bourg-place de la mairie\, Saint-Omer\, 14220
CATEGORIES:Festival
ATTACH;FMTTYPE=image/jpeg:https://www.normandielivre.fr/wp-content/uploads/2025/07/affiche-saint-omer-scaled.jpg
ORGANIZER;CN="Collectif Ame-Amis de la Biblioth%C3%A8que de Saint-Omer et Ecrivains en Suisse Normande":MAILTO:bib132@orange.fr
END:VEVENT
END:VCALENDAR