BEGIN:VCALENDAR
VERSION:2.0
PRODID:-//Normandie Livre &amp; Lecture - ECPv6.15.11//NONSGML v1.0//EN
CALSCALE:GREGORIAN
METHOD:PUBLISH
X-ORIGINAL-URL:https://www.normandielivre.fr
X-WR-CALDESC:Évènements pour Normandie Livre &amp; Lecture
REFRESH-INTERVAL;VALUE=DURATION:PT1H
X-Robots-Tag:noindex
X-PUBLISHED-TTL:PT1H
BEGIN:VTIMEZONE
TZID:Europe/Paris
BEGIN:DAYLIGHT
TZOFFSETFROM:+0100
TZOFFSETTO:+0200
TZNAME:CEST
DTSTART:20220327T010000
END:DAYLIGHT
BEGIN:STANDARD
TZOFFSETFROM:+0200
TZOFFSETTO:+0100
TZNAME:CET
DTSTART:20221030T010000
END:STANDARD
BEGIN:DAYLIGHT
TZOFFSETFROM:+0100
TZOFFSETTO:+0200
TZNAME:CEST
DTSTART:20230326T010000
END:DAYLIGHT
BEGIN:STANDARD
TZOFFSETFROM:+0200
TZOFFSETTO:+0100
TZNAME:CET
DTSTART:20231029T010000
END:STANDARD
BEGIN:DAYLIGHT
TZOFFSETFROM:+0100
TZOFFSETTO:+0200
TZNAME:CEST
DTSTART:20240331T010000
END:DAYLIGHT
BEGIN:STANDARD
TZOFFSETFROM:+0200
TZOFFSETTO:+0100
TZNAME:CET
DTSTART:20241027T010000
END:STANDARD
END:VTIMEZONE
BEGIN:VEVENT
DTSTART;TZID=Europe/Paris:20230701T080000
DTEND;TZID=Europe/Paris:20230805T233000
DTSTAMP:20260423T152258
CREATED:20230601T124140Z
LAST-MODIFIED:20230601T124141Z
UID:10001576-1688198400-1691278200@www.normandielivre.fr
SUMMARY:Concours d'écriture
DESCRIPTION:« Petite brocante de l’intime : quand les objets\, les sons\, les odeurs ou les gestes déclenchent une impression de réminiscence. Et vous ? À l’instar de Marcel Proust\, quelle est votre madeleine ? » \nOuvert à toutes les personnes de plus de 15 ans. Règlement disponible dans les bibliothèques participantes. \nRemise des prix le sam. 19 août à 11h – Médiathèque Jacques Prévert – Dives/Mer. \nCie PMVV le grain de sable
URL:https://www.normandielivre.fr/agenda-collaboratif/concours-decriture-2/
LOCATION:Médiathèque Jacques-Prévert\, Place du Commandant Charcot\, Dives-sur-Mer\, 14160
CATEGORIES:Concours
ATTACH;FMTTYPE=image/jpeg:https://www.normandielivre.fr/wp-content/uploads/2023/06/visuel-carre-RE23©vifdesign.jpg
ORGANIZER;CN="Cie PMVV le grain de sable":MAILTO:pmvvgraindesable@orange.fr
END:VEVENT
END:VCALENDAR