BEGIN:VCALENDAR
VERSION:2.0
PRODID:-//Normandie Livre &amp; Lecture - ECPv6.15.11//NONSGML v1.0//EN
CALSCALE:GREGORIAN
METHOD:PUBLISH
X-ORIGINAL-URL:https://www.normandielivre.fr
X-WR-CALDESC:Évènements pour Normandie Livre &amp; Lecture
REFRESH-INTERVAL;VALUE=DURATION:PT1H
X-Robots-Tag:noindex
X-PUBLISHED-TTL:PT1H
BEGIN:VTIMEZONE
TZID:Europe/Paris
BEGIN:DAYLIGHT
TZOFFSETFROM:+0100
TZOFFSETTO:+0200
TZNAME:CEST
DTSTART:20230326T010000
END:DAYLIGHT
BEGIN:STANDARD
TZOFFSETFROM:+0200
TZOFFSETTO:+0100
TZNAME:CET
DTSTART:20231029T010000
END:STANDARD
BEGIN:DAYLIGHT
TZOFFSETFROM:+0100
TZOFFSETTO:+0200
TZNAME:CEST
DTSTART:20240331T010000
END:DAYLIGHT
BEGIN:STANDARD
TZOFFSETFROM:+0200
TZOFFSETTO:+0100
TZNAME:CET
DTSTART:20241027T010000
END:STANDARD
BEGIN:DAYLIGHT
TZOFFSETFROM:+0100
TZOFFSETTO:+0200
TZNAME:CEST
DTSTART:20250330T010000
END:DAYLIGHT
BEGIN:STANDARD
TZOFFSETFROM:+0200
TZOFFSETTO:+0100
TZNAME:CET
DTSTART:20251026T010000
END:STANDARD
END:VTIMEZONE
BEGIN:VEVENT
DTSTART;VALUE=DATE:20240518
DTEND;VALUE=DATE:20240519
DTSTAMP:20260422T061658
CREATED:20240223T154029Z
LAST-MODIFIED:20240403T073709Z
UID:10001769-1715990400-1716076799@www.normandielivre.fr
SUMMARY:Salon du livre du château de Carel
DESCRIPTION:De la BD jeunesse au roman historique\, en passant par la description du patrimoine du pays d’auge et de l’Orne. \nLieu : Château de Carel\, D511 – 14170  Saint Pierre sur Dives \nHoraires : 11h-18h \nThème : Histoire et Patrimoine \n\n\n\n\n\n\nCarel Environnement et Patrimoine – Jérôme SERRAT
URL:https://www.normandielivre.fr/agenda-collaboratif/salon-du-livre-du-chateau-de-carel-2/
CATEGORIES:Salon
ATTACH;FMTTYPE=image/png:https://www.normandielivre.fr/wp-content/uploads/2024/02/chateau-de-carel.png
ORGANIZER;CN="Carel Environnement et Patrimoine - J%C3%A9r%C3%B4me SERRAT":MAILTO:chateaudecarel@sfr.fr
END:VEVENT
END:VCALENDAR