BEGIN:VCALENDAR
VERSION:2.0
PRODID:-//Normandie Livre &amp; Lecture - ECPv6.15.11//NONSGML v1.0//EN
CALSCALE:GREGORIAN
METHOD:PUBLISH
X-ORIGINAL-URL:https://www.normandielivre.fr
X-WR-CALDESC:Évènements pour Normandie Livre &amp; Lecture
REFRESH-INTERVAL;VALUE=DURATION:PT1H
X-Robots-Tag:noindex
X-PUBLISHED-TTL:PT1H
BEGIN:VTIMEZONE
TZID:Europe/Paris
BEGIN:DAYLIGHT
TZOFFSETFROM:+0100
TZOFFSETTO:+0200
TZNAME:CEST
DTSTART:20240331T010000
END:DAYLIGHT
BEGIN:STANDARD
TZOFFSETFROM:+0200
TZOFFSETTO:+0100
TZNAME:CET
DTSTART:20241027T010000
END:STANDARD
BEGIN:DAYLIGHT
TZOFFSETFROM:+0100
TZOFFSETTO:+0200
TZNAME:CEST
DTSTART:20250330T010000
END:DAYLIGHT
BEGIN:STANDARD
TZOFFSETFROM:+0200
TZOFFSETTO:+0100
TZNAME:CET
DTSTART:20251026T010000
END:STANDARD
BEGIN:DAYLIGHT
TZOFFSETFROM:+0100
TZOFFSETTO:+0200
TZNAME:CEST
DTSTART:20260329T010000
END:DAYLIGHT
BEGIN:STANDARD
TZOFFSETFROM:+0200
TZOFFSETTO:+0100
TZNAME:CET
DTSTART:20261025T010000
END:STANDARD
END:VTIMEZONE
BEGIN:VEVENT
DTSTART;TZID=Europe/Paris:20251106T080000
DTEND;TZID=Europe/Paris:20251106T170000
DTSTAMP:20260424T182054
CREATED:20251106T160924Z
LAST-MODIFIED:20251106T160924Z
UID:10002607-1762416000-1762448400@www.normandielivre.fr
SUMMARY:Café littéraire
DESCRIPTION:Un café littéraire organisé par la bibliothèque Marc Sangnier\, en partenariat avec la librairie Colbert\, sur le thème de la rentrée littéraire 2025 \nBibliothèque Marc Sangnier
URL:https://www.normandielivre.fr/agenda-collaboratif/cafe-litteraire/
LOCATION:Espace Marc Sangnier\, Rue Nicolas Poussin\, MONT-SAINT-AIGNAN\, 76130
ATTACH;FMTTYPE=image/jpeg:https://www.normandielivre.fr/wp-content/uploads/2025/11/cafe-litteraire-de-la-rentree-scaled.jpg
ORGANIZER;CN="Biblioth%C3%A8que Marc Sangnier":MAILTO:bib.ems@montsaintaignan.fr
END:VEVENT
END:VCALENDAR