BEGIN:VCALENDAR
VERSION:2.0
PRODID:-//Normandie Livre &amp; Lecture - ECPv6.15.11//NONSGML v1.0//EN
CALSCALE:GREGORIAN
METHOD:PUBLISH
X-WR-CALNAME:Normandie Livre &amp; Lecture
X-ORIGINAL-URL:https://www.normandielivre.fr
X-WR-CALDESC:Évènements pour Normandie Livre &amp; Lecture
REFRESH-INTERVAL;VALUE=DURATION:PT1H
X-Robots-Tag:noindex
X-PUBLISHED-TTL:PT1H
BEGIN:VTIMEZONE
TZID:Europe/Paris
BEGIN:DAYLIGHT
TZOFFSETFROM:+0100
TZOFFSETTO:+0200
TZNAME:CEST
DTSTART:20240331T010000
END:DAYLIGHT
BEGIN:STANDARD
TZOFFSETFROM:+0200
TZOFFSETTO:+0100
TZNAME:CET
DTSTART:20241027T010000
END:STANDARD
BEGIN:DAYLIGHT
TZOFFSETFROM:+0100
TZOFFSETTO:+0200
TZNAME:CEST
DTSTART:20250330T010000
END:DAYLIGHT
BEGIN:STANDARD
TZOFFSETFROM:+0200
TZOFFSETTO:+0100
TZNAME:CET
DTSTART:20251026T010000
END:STANDARD
BEGIN:DAYLIGHT
TZOFFSETFROM:+0100
TZOFFSETTO:+0200
TZNAME:CEST
DTSTART:20260329T010000
END:DAYLIGHT
BEGIN:STANDARD
TZOFFSETFROM:+0200
TZOFFSETTO:+0100
TZNAME:CET
DTSTART:20261025T010000
END:STANDARD
END:VTIMEZONE
BEGIN:VEVENT
DTSTART;TZID=Europe/Paris:20250913T100000
DTEND;TZID=Europe/Paris:20250914T180000
DTSTAMP:20260421T221534
CREATED:20250606T125304Z
LAST-MODIFIED:20250728T093729Z
UID:10002400-1757757600-1757872800@www.normandielivre.fr
SUMMARY:Petit Salon du Lire et des Auteurs Normands
DESCRIPTION:Le Petit Salon du Lire et des Auteurs Normands est un salon généraliste qui va rassembler une trentaine d’auteurs (romanciers\, dessinateurs\, littérature jeunesse\, fantasy\, documentaires). \nPour sa 10ème édition\, le Salon va célébrer les Arts en invitant des artistes en plus des auteurs\, et va mettre en valeur différentes œuvres (sculpture\, peinture\, concert avec lecture musicale\, photographie). \nNous privilégierons les moments de rencontre et de partage entre les auteurs et le public tout au long de la journée du dimanche. \nCôté animations\, nous proposerons le samedi plusieurs ateliers créatifs à destination aussi bien des enfants que des adultes pour découvrir les arts de la poterie\, de la peinture ou bien encore de la calligraphie. \nBibliothèque de Saint Romain de Colbosc
URL:https://www.normandielivre.fr/agenda-collaboratif/petit-salon-du-lire-et-des-auteurs-normands/
LOCATION:Chateau de Gromesnil – Saint Romain de Colbosc\, parc éco normandie\, Saint Romain de Colbosc\, 76430\, France
CATEGORIES:Salon
ATTACH;FMTTYPE=image/png:https://www.normandielivre.fr/wp-content/uploads/2025/06/Affiche-PSL-25.png
ORGANIZER;CN="Biblioth%C3%A8que de Saint Romain de Colbosc":MAILTO:bibliotheque.mptsrc@gmail.com
END:VEVENT
END:VCALENDAR