BEGIN:VCALENDAR
VERSION:2.0
PRODID:-//Normandie Livre &amp; Lecture - ECPv6.15.11//NONSGML v1.0//EN
CALSCALE:GREGORIAN
METHOD:PUBLISH
X-WR-CALNAME:Normandie Livre &amp; Lecture
X-ORIGINAL-URL:https://www.normandielivre.fr
X-WR-CALDESC:Évènements pour Normandie Livre &amp; Lecture
REFRESH-INTERVAL;VALUE=DURATION:PT1H
X-Robots-Tag:noindex
X-PUBLISHED-TTL:PT1H
BEGIN:VTIMEZONE
TZID:Europe/Paris
BEGIN:DAYLIGHT
TZOFFSETFROM:+0100
TZOFFSETTO:+0200
TZNAME:CEST
DTSTART:20210328T010000
END:DAYLIGHT
BEGIN:STANDARD
TZOFFSETFROM:+0200
TZOFFSETTO:+0100
TZNAME:CET
DTSTART:20211031T010000
END:STANDARD
BEGIN:DAYLIGHT
TZOFFSETFROM:+0100
TZOFFSETTO:+0200
TZNAME:CEST
DTSTART:20220327T010000
END:DAYLIGHT
BEGIN:STANDARD
TZOFFSETFROM:+0200
TZOFFSETTO:+0100
TZNAME:CET
DTSTART:20221030T010000
END:STANDARD
BEGIN:DAYLIGHT
TZOFFSETFROM:+0100
TZOFFSETTO:+0200
TZNAME:CEST
DTSTART:20230326T010000
END:DAYLIGHT
BEGIN:STANDARD
TZOFFSETFROM:+0200
TZOFFSETTO:+0100
TZNAME:CET
DTSTART:20231029T010000
END:STANDARD
END:VTIMEZONE
BEGIN:VEVENT
DTSTART;VALUE=DATE:20220716
DTEND;VALUE=DATE:20220718
DTSTAMP:20260420T041136
CREATED:20220630T090414Z
LAST-MODIFIED:20220630T090422Z
UID:10001128-1657929600-1658102399@www.normandielivre.fr
SUMMARY:FESTIVAL BD DE DIEPPE
DESCRIPTION:L’Association Normande de Bande Dessinée – ANBD\, fête les 20 ans de son festival. 51 auteurs\, dont Jérémy\, qui a réalisé l’affiche. Pour n’en citer que quelques uns : Anlor\, Jean Dufaux\, Olivier TaDuc\, Turf\, Jacques Terpant\, Lele Vianello\, Jaime Calderon\, Philippe Luguy\, Béatrice Tillier\, Hugues Labiano\, Richard Guérineau\, Jean-Claude Bourret\, ancien journaliste de TF1\, spécialiste des ovnis (en guestar)… une quinzaine de stands au programme. Laurent Touceul animera un spectacle pour enfants le samedi. \nAssociation normande de bande dessinée – ANBD
URL:https://www.normandielivre.fr/agenda-collaboratif/festival-bd-de-dieppe/
LOCATION:Pelouse de Dieppe\, Boulevard de Verdun\, DIEPPE\, 76200\, France
CATEGORIES:Festival
ATTACH;FMTTYPE=image/jpeg:https://www.normandielivre.fr/wp-content/uploads/2022/06/image.jpeg
ORGANIZER;CN="Association normande de bande dessin%C3%A9e - ANBD":MAILTO:surest.jean-pierre@neuf.fr
END:VEVENT
END:VCALENDAR