BEGIN:VCALENDAR
VERSION:2.0
PRODID:-//Normandie Livre &amp; Lecture - ECPv6.15.11//NONSGML v1.0//EN
CALSCALE:GREGORIAN
METHOD:PUBLISH
X-ORIGINAL-URL:https://www.normandielivre.fr
X-WR-CALDESC:Évènements pour Normandie Livre &amp; Lecture
REFRESH-INTERVAL;VALUE=DURATION:PT1H
X-Robots-Tag:noindex
X-PUBLISHED-TTL:PT1H
BEGIN:VTIMEZONE
TZID:Europe/Paris
BEGIN:DAYLIGHT
TZOFFSETFROM:+0100
TZOFFSETTO:+0200
TZNAME:CEST
DTSTART:20240331T010000
END:DAYLIGHT
BEGIN:STANDARD
TZOFFSETFROM:+0200
TZOFFSETTO:+0100
TZNAME:CET
DTSTART:20241027T010000
END:STANDARD
BEGIN:DAYLIGHT
TZOFFSETFROM:+0100
TZOFFSETTO:+0200
TZNAME:CEST
DTSTART:20250330T010000
END:DAYLIGHT
BEGIN:STANDARD
TZOFFSETFROM:+0200
TZOFFSETTO:+0100
TZNAME:CET
DTSTART:20251026T010000
END:STANDARD
BEGIN:DAYLIGHT
TZOFFSETFROM:+0100
TZOFFSETTO:+0200
TZNAME:CEST
DTSTART:20260329T010000
END:DAYLIGHT
BEGIN:STANDARD
TZOFFSETFROM:+0200
TZOFFSETTO:+0100
TZNAME:CET
DTSTART:20261025T010000
END:STANDARD
END:VTIMEZONE
BEGIN:VEVENT
DTSTART;TZID=Europe/Paris:20251205T183000
DTEND;TZID=Europe/Paris:20251205T203000
DTSTAMP:20260420T230250
CREATED:20251105T155510Z
LAST-MODIFIED:20251105T155510Z
UID:10002588-1764959400-1764966600@www.normandielivre.fr
SUMMARY:Lancement d'un cercle littéraire au féminin
DESCRIPTION:« En l’absence de modèles\, il est difficile de travailler ; en l’absence de contexte\, il est malaisé de juger ; en l’absence de pairs\, il est quasi impossible de parler » \nÀ la lecture de cet extrait de « Comment torpiller l’écriture des femmes »\, écrit en 1974 par l’autrice Joanna Russ\, la création de ce cercle littéraire m’est apparue comme une évidence. Les femmes\, à travers l’histoire\, n’ont cessé d’écrire : mais leurs mots sont souvent tombés dans l’oubli\, malgré leur force\, leur puissance\, leur audace. Leur découverte ne fera qu’enrichir nos futurs écrits : que nous soyons déjà en chemin plume au poing\, ou de « simples » lecteurs curieux\, amateurs\, ou assidus. \nArpentons ensemble ce Matrimoine\, immergeons-nous dans une époque\, des styles et des formes d’écriture riches et diversifiés. Le concept est simple : un rendez-vous tous les deux mois\, autour d’une autrice (très connue ou non) pour lire ensemble quelques morceaux choisis et poursuivre par un court atelier d’écriture. Le premier nom d’autrice sera suggéré\, puis nous déciderons ensemble des futures bibliographies à explorer. \nPremière autrice : Virginia Woolf.\nPremière date : le 5 décembre 2025\, de 18h30 à 20h30.\nA la Maison de Quartier Chemin Vert\,\n3\, rue Pierre Corneille\n14000 Caen \nCe cercle littéraire est ouvert à toutes et tous\, et les hommes sont encouragés à participer. \nSi vous êtes intéressé-es\, merci de m’écrire à nora.lesmotsjustes@gmail.com \nAssociation Les Eco-histoires
URL:https://www.normandielivre.fr/agenda-collaboratif/lancement-dun-cercle-litteraire-au-feminin/
LOCATION:maison de quartier du chemin vert\, 3\, rue Pierre Corneille\, Caen\, 14000
CATEGORIES:Club de lecteurs
ORGANIZER;CN="Association Les Eco-histoires":MAILTO:contact@cooperative-oasis.org
END:VEVENT
END:VCALENDAR