BEGIN:VCALENDAR
VERSION:2.0
PRODID:-//Normandie Livre &amp; Lecture - ECPv6.15.11//NONSGML v1.0//EN
CALSCALE:GREGORIAN
METHOD:PUBLISH
X-ORIGINAL-URL:https://www.normandielivre.fr
X-WR-CALDESC:Évènements pour Normandie Livre &amp; Lecture
REFRESH-INTERVAL;VALUE=DURATION:PT1H
X-Robots-Tag:noindex
X-PUBLISHED-TTL:PT1H
BEGIN:VTIMEZONE
TZID:Europe/Paris
BEGIN:DAYLIGHT
TZOFFSETFROM:+0100
TZOFFSETTO:+0200
TZNAME:CEST
DTSTART:20210328T010000
END:DAYLIGHT
BEGIN:STANDARD
TZOFFSETFROM:+0200
TZOFFSETTO:+0100
TZNAME:CET
DTSTART:20211031T010000
END:STANDARD
BEGIN:DAYLIGHT
TZOFFSETFROM:+0100
TZOFFSETTO:+0200
TZNAME:CEST
DTSTART:20220327T010000
END:DAYLIGHT
BEGIN:STANDARD
TZOFFSETFROM:+0200
TZOFFSETTO:+0100
TZNAME:CET
DTSTART:20221030T010000
END:STANDARD
BEGIN:DAYLIGHT
TZOFFSETFROM:+0100
TZOFFSETTO:+0200
TZNAME:CEST
DTSTART:20230326T010000
END:DAYLIGHT
BEGIN:STANDARD
TZOFFSETFROM:+0200
TZOFFSETTO:+0100
TZNAME:CET
DTSTART:20231029T010000
END:STANDARD
BEGIN:DAYLIGHT
TZOFFSETFROM:+0100
TZOFFSETTO:+0200
TZNAME:CEST
DTSTART:20240331T010000
END:DAYLIGHT
BEGIN:STANDARD
TZOFFSETFROM:+0200
TZOFFSETTO:+0100
TZNAME:CET
DTSTART:20241027T010000
END:STANDARD
END:VTIMEZONE
BEGIN:VEVENT
DTSTART;TZID=Europe/Paris:20230922T100000
DTEND;TZID=Europe/Paris:20230924T170000
DTSTAMP:20260421T164632
CREATED:20230824T114504Z
LAST-MODIFIED:20230824T114504Z
UID:10001630-1695376800-1695574800@www.normandielivre.fr
SUMMARY:Festival Entreles Deux B
DESCRIPTION:Entreles deux B ou l’entre deux biennales du livre d’artiste aura lieu du 22 au 24 septembre 2023. \nCes éditions un peu spéciales promeuvent le livre d’artiste collectif et mettent en lumière certaines professions du métier du livre tel que la reliure. \nLe programme sur www.artlibris-dives.fr \nArtlibris
URL:https://www.normandielivre.fr/agenda-collaboratif/festival-entreles-deux-b/
LOCATION:Beffroi de Dives-sur-Mer\, Rue de l'Avenir\, Dives-sur-Mer\, 14160
CATEGORIES:Festival
ATTACH;FMTTYPE=image/jpeg:https://www.normandielivre.fr/wp-content/uploads/2023/08/2023-Entreles2B-BDef.jpg
END:VEVENT
BEGIN:VEVENT
DTSTART;TZID=Europe/Paris:20220924T163000
DTEND;TZID=Europe/Paris:20220926T163000
DTSTAMP:20260421T164632
CREATED:20220816T133330Z
LAST-MODIFIED:20220816T133330Z
UID:10001272-1664037000-1664209800@www.normandielivre.fr
SUMMARY:8e Biennale Internationale du livre d'artiste
DESCRIPTION:L’association Artlibris est heureuse de vous retrouver sous les Halles médiévales de Dives-sur-Mer pour cette 8ème Biennale du livre d’artiste du 24 au 26 septembre 2022.\nCette année encore\, plus de trente artistes vous présenteront dans un cadre exceptionnel leurs créations originales aux techniques variées et singulières. Artlibris exposera l’oeuvre collective réalisée par tous les participants de la Biennale\, qui était cette année sur le thème « Entre mer et terre ». Des temps forts ponctueront ces rencontres pendant ces 3 jours de festival. \nHoraires : samedi : 16h30-20h30 / dimanche : 10h-19h / lundi : 9h-13h \nLe programme complet sur : http://artlibris-dives.fr/ \nArtlibris
URL:https://www.normandielivre.fr/agenda-collaboratif/8e-biennale-internationale-du-livre-dartiste/
LOCATION:Halles médiévales de Dives-sur-Mer\, Rue Paul Canta\, Dives-sur-Mer\, 14160
CATEGORIES:Festival
ATTACH;FMTTYPE=image/jpeg:https://www.normandielivre.fr/wp-content/uploads/2022/08/2022-instagram-biennale_artlibris.jpg
END:VEVENT
END:VCALENDAR