BEGIN:VCALENDAR
VERSION:2.0
PRODID:-//Normandie Livre &amp; Lecture - ECPv6.15.11//NONSGML v1.0//EN
CALSCALE:GREGORIAN
METHOD:PUBLISH
X-WR-CALNAME:Normandie Livre &amp; Lecture
X-ORIGINAL-URL:https://www.normandielivre.fr
X-WR-CALDESC:Évènements pour Normandie Livre &amp; Lecture
REFRESH-INTERVAL;VALUE=DURATION:PT1H
X-Robots-Tag:noindex
X-PUBLISHED-TTL:PT1H
BEGIN:VTIMEZONE
TZID:Europe/Paris
BEGIN:DAYLIGHT
TZOFFSETFROM:+0100
TZOFFSETTO:+0200
TZNAME:CEST
DTSTART:20250330T010000
END:DAYLIGHT
BEGIN:STANDARD
TZOFFSETFROM:+0200
TZOFFSETTO:+0100
TZNAME:CET
DTSTART:20251026T010000
END:STANDARD
BEGIN:DAYLIGHT
TZOFFSETFROM:+0100
TZOFFSETTO:+0200
TZNAME:CEST
DTSTART:20260329T010000
END:DAYLIGHT
BEGIN:STANDARD
TZOFFSETFROM:+0200
TZOFFSETTO:+0100
TZNAME:CET
DTSTART:20261025T010000
END:STANDARD
BEGIN:DAYLIGHT
TZOFFSETFROM:+0100
TZOFFSETTO:+0200
TZNAME:CEST
DTSTART:20270328T010000
END:DAYLIGHT
BEGIN:STANDARD
TZOFFSETFROM:+0200
TZOFFSETTO:+0100
TZNAME:CET
DTSTART:20271031T010000
END:STANDARD
END:VTIMEZONE
BEGIN:VEVENT
DTSTART;VALUE=DATE:20261025
DTEND;VALUE=DATE:20261026
DTSTAMP:20260419T145052
CREATED:20251120T135238Z
LAST-MODIFIED:20251120T135238Z
UID:10002652-1792886400-1792972799@www.normandielivre.fr
SUMMARY:Salon du livre et de la BD
DESCRIPTION:L’association ABCD de FERRERES EN BRAY organise son 11ème salon du livre et de la BD. \nL’entrée est gratuite et ouverte à tous. \nSalle polyvalente 76220 FERRIÈRES-EN-BRAY
URL:https://www.normandielivre.fr/agenda-collaboratif/salon-du-livre-et-de-la-bd-2/
LOCATION:Salle polyvalente 76220 FERRIÈRES-EN-BRAY\, Rue Charles Gervais\, FERRIÈRES EN BRAY\, 76220
CATEGORIES:Salon
ORGANIZER;CN="ABCD":MAILTO:abcdferrieresenbray@hotmail.com
END:VEVENT
END:VCALENDAR