BEGIN:VCALENDAR
VERSION:2.0
PRODID:-//Normandie Livre &amp; Lecture - ECPv6.15.11//NONSGML v1.0//EN
CALSCALE:GREGORIAN
METHOD:PUBLISH
X-ORIGINAL-URL:https://www.normandielivre.fr
X-WR-CALDESC:Évènements pour Normandie Livre &amp; Lecture
REFRESH-INTERVAL;VALUE=DURATION:PT1H
X-Robots-Tag:noindex
X-PUBLISHED-TTL:PT1H
BEGIN:VTIMEZONE
TZID:Europe/Paris
BEGIN:DAYLIGHT
TZOFFSETFROM:+0100
TZOFFSETTO:+0200
TZNAME:CEST
DTSTART:20230326T010000
END:DAYLIGHT
BEGIN:STANDARD
TZOFFSETFROM:+0200
TZOFFSETTO:+0100
TZNAME:CET
DTSTART:20231029T010000
END:STANDARD
BEGIN:DAYLIGHT
TZOFFSETFROM:+0100
TZOFFSETTO:+0200
TZNAME:CEST
DTSTART:20240331T010000
END:DAYLIGHT
BEGIN:STANDARD
TZOFFSETFROM:+0200
TZOFFSETTO:+0100
TZNAME:CET
DTSTART:20241027T010000
END:STANDARD
BEGIN:DAYLIGHT
TZOFFSETFROM:+0100
TZOFFSETTO:+0200
TZNAME:CEST
DTSTART:20250330T010000
END:DAYLIGHT
BEGIN:STANDARD
TZOFFSETFROM:+0200
TZOFFSETTO:+0100
TZNAME:CET
DTSTART:20251026T010000
END:STANDARD
END:VTIMEZONE
BEGIN:VEVENT
DTSTART;TZID=Europe/Paris:20240224T180000
DTEND;TZID=Europe/Paris:20240224T193000
DTSTAMP:20260423T050100
CREATED:20240111T141130Z
LAST-MODIFIED:20240111T141130Z
UID:10001720-1708797600-1708803000@www.normandielivre.fr
SUMMARY:Rencontre Jean Rolin/Jean-Christophe Bailly à Granville
DESCRIPTION:Les Rencontres Victor Hugo & Co de Granville vous invitent à leur prochain événement\, le samedi 24 février\, qui réunira l’essayiste Jean-Christophe Bailly et le romancier Jean Rolin. Ces deux grands écrivains\, arpenteurs du monde et des idées\, nous parleront de leur parcours\, de leur travail et du monde tel qu’il va. Jean-Christophe Bailly a publié une cinquantaine d’essais et de récits autour de l’art\, des paysages\, du théâtre\, de la photographie. \nAuteur singulier à la croisée de l’histoire\, de l’histoire de l’art\, de la philosophie et de la poésie\, il a obtenu le prix France Culture pour Description d’Olonne et le prix Décembre pour Le Dépaysement. Voyages en France. Jean Rolin est l’auteur de récits de voyage\, de chroniques\, de souvenirs\, de romans et de nouvelles. Il a notamment reçu le prix Médicis pour L’Organisation\, le prix Alexandre-Vialatte pour Le Traquet kurde et le prix Joseph-Kessel pour Le Pont de Bezons. Son dernier ouvrage paru est La traversée de Bondoufle (aux éditions POL) \n\n\n\n\n\n\nSalle des mariages du batiment Bazeilles\, rue du Roc\, Granville
URL:https://www.normandielivre.fr/agenda-collaboratif/rencontre-jean-rolin-jean-christophe-bailly-a-granville/
LOCATION:Salle des mariages du batiment Bazeilles\, rue du Roc\, Granville\, Rue du Roc\, Granville\, 50400\, France
CATEGORIES:Rencontre
ATTACH;FMTTYPE=image/png:https://www.normandielivre.fr/wp-content/uploads/2024/01/Capture-decran-2023-12-28-a-16.27.45.png
ORGANIZER;CN="Rencontres Victor Hugo & Co":MAILTO:victorhugoandco@gmail.com
END:VEVENT
END:VCALENDAR