BEGIN:VCALENDAR
VERSION:2.0
PRODID:-//Normandie Livre &amp; Lecture - ECPv6.15.11//NONSGML v1.0//EN
CALSCALE:GREGORIAN
METHOD:PUBLISH
X-ORIGINAL-URL:https://www.normandielivre.fr
X-WR-CALDESC:Évènements pour Normandie Livre &amp; Lecture
REFRESH-INTERVAL;VALUE=DURATION:PT1H
X-Robots-Tag:noindex
X-PUBLISHED-TTL:PT1H
BEGIN:VTIMEZONE
TZID:Europe/Paris
BEGIN:DAYLIGHT
TZOFFSETFROM:+0100
TZOFFSETTO:+0200
TZNAME:CEST
DTSTART:20240331T010000
END:DAYLIGHT
BEGIN:STANDARD
TZOFFSETFROM:+0200
TZOFFSETTO:+0100
TZNAME:CET
DTSTART:20241027T010000
END:STANDARD
BEGIN:DAYLIGHT
TZOFFSETFROM:+0100
TZOFFSETTO:+0200
TZNAME:CEST
DTSTART:20250330T010000
END:DAYLIGHT
BEGIN:STANDARD
TZOFFSETFROM:+0200
TZOFFSETTO:+0100
TZNAME:CET
DTSTART:20251026T010000
END:STANDARD
BEGIN:DAYLIGHT
TZOFFSETFROM:+0100
TZOFFSETTO:+0200
TZNAME:CEST
DTSTART:20260329T010000
END:DAYLIGHT
BEGIN:STANDARD
TZOFFSETFROM:+0200
TZOFFSETTO:+0100
TZNAME:CET
DTSTART:20261025T010000
END:STANDARD
END:VTIMEZONE
BEGIN:VEVENT
DTSTART;TZID=Europe/Paris:20251109T143000
DTEND;TZID=Europe/Paris:20251109T183000
DTSTAMP:20260426T023211
CREATED:20251003T092539Z
LAST-MODIFIED:20251003T092539Z
UID:10002579-1762698600-1762713000@www.normandielivre.fr
SUMMARY:Festi'livre
DESCRIPTION:Rencontre d’auteurs et dédicaces. Animations autour du livre. Vente de livres d’occasion. \nSalle des fêtes 14290 St CYR du RONCERAY
URL:https://www.normandielivre.fr/agenda-collaboratif/festilivre-2/
LOCATION:Salle des fêtes 14290 St CYR du RONCERAY\, 14 chemin d'Auquainville\, St Cyr du Ronceray-Valorbiquet\, 14290
CATEGORIES:Festival
ATTACH;FMTTYPE=image/jpeg:https://www.normandielivre.fr/wp-content/uploads/2025/10/Festilivre-2025.jpg
ORGANIZER;CN="Association Marque Page":MAILTO:assomarquepage@gmail.com
END:VEVENT
END:VCALENDAR