BEGIN:VCALENDAR
VERSION:2.0
PRODID:-//Normandie Livre &amp; Lecture - ECPv6.15.11//NONSGML v1.0//EN
CALSCALE:GREGORIAN
METHOD:PUBLISH
X-ORIGINAL-URL:https://www.normandielivre.fr
X-WR-CALDESC:Évènements pour Normandie Livre &amp; Lecture
REFRESH-INTERVAL;VALUE=DURATION:PT1H
X-Robots-Tag:noindex
X-PUBLISHED-TTL:PT1H
BEGIN:VTIMEZONE
TZID:Europe/Paris
BEGIN:DAYLIGHT
TZOFFSETFROM:+0100
TZOFFSETTO:+0200
TZNAME:CEST
DTSTART:20210328T010000
END:DAYLIGHT
BEGIN:STANDARD
TZOFFSETFROM:+0200
TZOFFSETTO:+0100
TZNAME:CET
DTSTART:20211031T010000
END:STANDARD
BEGIN:DAYLIGHT
TZOFFSETFROM:+0100
TZOFFSETTO:+0200
TZNAME:CEST
DTSTART:20220327T010000
END:DAYLIGHT
BEGIN:STANDARD
TZOFFSETFROM:+0200
TZOFFSETTO:+0100
TZNAME:CET
DTSTART:20221030T010000
END:STANDARD
BEGIN:DAYLIGHT
TZOFFSETFROM:+0100
TZOFFSETTO:+0200
TZNAME:CEST
DTSTART:20230326T010000
END:DAYLIGHT
BEGIN:STANDARD
TZOFFSETFROM:+0200
TZOFFSETTO:+0100
TZNAME:CET
DTSTART:20231029T010000
END:STANDARD
END:VTIMEZONE
BEGIN:VEVENT
DTSTART;TZID=Europe/Paris:20220225T163000
DTEND;TZID=Europe/Paris:20220227T180000
DTSTAMP:20260420T215457
CREATED:20210914T144603Z
LAST-MODIFIED:20210914T144603Z
UID:10001063-1645806600-1645984800@www.normandielivre.fr
SUMMARY:Bloody Fleury - Festival du polar et du mystère
DESCRIPTION:Bloody Fleury met à l’honneur la littérature policière à travers une programmation tout public mêlant rencontres d’auteurs\, expositions\, animations et spectacles.\nLes visiteurs\, grands ou petits\, néophytes ou fans de polar\, pourront découvrir l’incroyable talent de l’illustrateur Laurent Durieux qui réalise les affiches alternatives des plus grands polars hollywoodiens\, suivre une conférence interactive sur l’évolution de la musique dans les films policiers\, résoudre une dizaine d’enquêtes en BD\, écouter une spécialiste de Jack l’Éventreur leur faire part de sa théorie (qui est évidemment la bonne)\, rencontrer une équipe de scientifiques chasseur de fantômes\, prendre un cours de mentalisme avec Sherlock Holmes himself\, découvrir tous les secrets de l’inspecteur Columbo où d’Arsène Lupin. \nLes enfants ne seront pas en reste puisque nous les inviterons à rencontrer le gentleman cambrioleur à travers un spectacle de magie. S’ils préfèrent Sherlock Holmes\, pas de problème puisqu’il sera la vedette de 3 spectacles. Les plus jeunes pourront également partir à la recherche de l’Atlantide à travers une fabuleuse chasse au trésor entièrement scénographiée. \nAu total\, c’est deux soirées\, deux expos et plus de 10 spectacles qui seront proposés à nos visiteurs. Bloody Fleury accueillera également 20 auteurs de littérature policière dont Hannelore Cayre\, Caryl Férey et Michel Bussi\nPlus d’informations sur https://bloody.fleurysurorne.fr \nSalle Auguste Delaune\, Fleury-sur-Orne
URL:https://www.normandielivre.fr/agenda-collaboratif/bloody-fleury-festival-du-polar-et-du-mystere/
LOCATION:Salle Auguste Delaune\, Fleury-sur-Orne\, rue François Mitterrand\, Fleury-sur-Orne\, 14123\, France
CATEGORIES:Festival
ATTACH;FMTTYPE=image/jpeg:https://www.normandielivre.fr/wp-content/uploads/2021/09/Aff-A5.jpg
ORGANIZER;CN="Mairie de Fleury-sur-Orne":MAILTO:jerome.felix@fleurysurorne.fr
END:VEVENT
END:VCALENDAR