BEGIN:VCALENDAR
VERSION:2.0
PRODID:-//Normandie Livre &amp; Lecture - ECPv6.15.11//NONSGML v1.0//EN
CALSCALE:GREGORIAN
METHOD:PUBLISH
X-ORIGINAL-URL:https://www.normandielivre.fr
X-WR-CALDESC:Évènements pour Normandie Livre &amp; Lecture
REFRESH-INTERVAL;VALUE=DURATION:PT1H
X-Robots-Tag:noindex
X-PUBLISHED-TTL:PT1H
BEGIN:VTIMEZONE
TZID:Europe/Paris
BEGIN:DAYLIGHT
TZOFFSETFROM:+0100
TZOFFSETTO:+0200
TZNAME:CEST
DTSTART:20220327T010000
END:DAYLIGHT
BEGIN:STANDARD
TZOFFSETFROM:+0200
TZOFFSETTO:+0100
TZNAME:CET
DTSTART:20221030T010000
END:STANDARD
BEGIN:DAYLIGHT
TZOFFSETFROM:+0100
TZOFFSETTO:+0200
TZNAME:CEST
DTSTART:20230326T010000
END:DAYLIGHT
BEGIN:STANDARD
TZOFFSETFROM:+0200
TZOFFSETTO:+0100
TZNAME:CET
DTSTART:20231029T010000
END:STANDARD
BEGIN:DAYLIGHT
TZOFFSETFROM:+0100
TZOFFSETTO:+0200
TZNAME:CEST
DTSTART:20240331T010000
END:DAYLIGHT
BEGIN:STANDARD
TZOFFSETFROM:+0200
TZOFFSETTO:+0100
TZNAME:CET
DTSTART:20241027T010000
END:STANDARD
END:VTIMEZONE
BEGIN:VEVENT
DTSTART;TZID=Europe/Paris:20230725T143000
DTEND;TZID=Europe/Paris:20230727T163000
DTSTAMP:20260420T225153
CREATED:20230718T140117Z
LAST-MODIFIED:20230720T134640Z
UID:10001593-1690295400-1690475400@www.normandielivre.fr
SUMMARY:Été culturel 2023 : Alice Brière-Haquet dans les médiathèques de la Communauté urbaine d'Alençon (61)
DESCRIPTION:Poésie d’ici\nLe quotidien est une mine où le poète déniche des pépites\, les extrait\, les polit. L’autrice Alice Brière-Haquet invite les publics du pays d’Alençon\, jeune ou moins jeune\, seul ou accompagné\, à écrire à partir de leur « ici ». \nPlanning\nInformations et réservations auprès de la médiathèque \n– Mardi 25 juillet 14h30-16h30 : Atelier d’écriture « Poésie d’ici »\nMédiathèque de Champfleur\, passage du Lavoir – 02 33 31 20 02 \n– Mercredi 26 juillet 10h-11h30 : Atelier d’écriture « Poésie d’ici »\nMédiathèque de Perseigne\, 34 place de la Paix – 02 33 26 69 82 \n– Mercredi 26 juillet 14h30-16h : Atelier d’écriture « Les légendes de l’Etang »\nMédiathèque de la Vallée du Sarthon – Près de l’étang de l’Etansiau (ou à la médiathèque en cas de mauvais temps) – 02 33 27 03 07 \n– Jeudi 27 juillet 10h-11h30 : Atelier d’écriture « Poésie d’ici »\nMédiathèque Aveline\, espace jeunesse\, Cour carrée de la dentelle – 02 33 82 46 00 \n– Jeudi 27 juillet 15h-16h30 : Atelier d’écriture « Les légendes du jardin »\nMédiathèque de Courteille\, 28 rue de Vicques – 02 33 29 56 55 \nBiographie\nAlice Brière-Haquet\, écrivaine\, vit à Caen. Elle a publié une centaine de livres pour les enfants\, traduits dans une vingtaine de langues et récompensés par des prix nationaux et internationaux\, dont un New York Time Award. Elle enseigne à l’Université de Caen\, où elle s’occupe notamment de l’atelier d’écriture créative. Elle fait régulièrement des rencontres en milieu scolaire. \nRéseau des médiathèques de la Communauté urbaine d’Alençon
URL:https://www.normandielivre.fr/agenda-collaboratif/ete-culturel-2023-alice-briere-haquet-dans-les-mediatheques-de-la-communaute-urbaine-dalencon-61/
LOCATION:Réseau des médiathèques de la Communauté urbaine d’Alençon
CATEGORIES:Atelier,Été culturel
ATTACH;FMTTYPE=image/jpeg:https://www.normandielivre.fr/wp-content/uploads/2023/07/piquantedouceur_2019_me-1-e1689860793557.jpg
END:VEVENT
END:VCALENDAR