BEGIN:VCALENDAR
VERSION:2.0
PRODID:-//Normandie Livre &amp; Lecture - ECPv6.15.11//NONSGML v1.0//EN
CALSCALE:GREGORIAN
METHOD:PUBLISH
X-WR-CALNAME:Normandie Livre &amp; Lecture
X-ORIGINAL-URL:https://www.normandielivre.fr
X-WR-CALDESC:Évènements pour Normandie Livre &amp; Lecture
REFRESH-INTERVAL;VALUE=DURATION:PT1H
X-Robots-Tag:noindex
X-PUBLISHED-TTL:PT1H
BEGIN:VTIMEZONE
TZID:Europe/Paris
BEGIN:DAYLIGHT
TZOFFSETFROM:+0100
TZOFFSETTO:+0200
TZNAME:CEST
DTSTART:20230326T010000
END:DAYLIGHT
BEGIN:STANDARD
TZOFFSETFROM:+0200
TZOFFSETTO:+0100
TZNAME:CET
DTSTART:20231029T010000
END:STANDARD
BEGIN:DAYLIGHT
TZOFFSETFROM:+0100
TZOFFSETTO:+0200
TZNAME:CEST
DTSTART:20240331T010000
END:DAYLIGHT
BEGIN:STANDARD
TZOFFSETFROM:+0200
TZOFFSETTO:+0100
TZNAME:CET
DTSTART:20241027T010000
END:STANDARD
BEGIN:DAYLIGHT
TZOFFSETFROM:+0100
TZOFFSETTO:+0200
TZNAME:CEST
DTSTART:20250330T010000
END:DAYLIGHT
BEGIN:STANDARD
TZOFFSETFROM:+0200
TZOFFSETTO:+0100
TZNAME:CET
DTSTART:20251026T010000
END:STANDARD
END:VTIMEZONE
BEGIN:VEVENT
DTSTART;VALUE=DATE:20240518
DTEND;VALUE=DATE:20240603
DTSTAMP:20260420T002501
CREATED:20240412T075446Z
LAST-MODIFIED:20240412T075446Z
UID:10001830-1715990400-1717372799@www.normandielivre.fr
SUMMARY:POESIA / la poésie fait son festival
DESCRIPTION:24 poètes\, 4 villes impliquées pour ce festival tout en poésie qui fêtera les 10 ans des prix CoPo \nThème de cette 8ème édition: Fontaine\, je boirai de ton eau. \nNe manquez pas le grand WE des 25 et 26 mai dans l’île du Roi avec notamment Sanseverino\, Petite Gueule\, Rim Battal\, Saïd Mohamed\, Sabine Huynh\, Antoine Mouton\, Jenny Dahan\, Yoann Thommerel\, Nicolas Gonzalez\, Marlène Tissot\, Kenny Ozier Lafontaine\, Dominique Massot\, Zarah Mroueh\, Mahtab Gorbani\, Pierre Soletti\, Julia Lepère\, Ada Mondès\, Severine Rième… \nMPO Rouen
URL:https://www.normandielivre.fr/agenda-collaboratif/poesia-la-poesie-fait-son-festival/
LOCATION:La Factrorie / Maison de poésie de Normandie – Ile du Roy 27 100 Val-de-Reuil\, Ile du roy\, Val-de-Reuil\, 27100
CATEGORIES:Festival
ATTACH;FMTTYPE=image/jpeg:https://www.normandielivre.fr/wp-content/uploads/2024/04/Banniere-Image.jpg
ORGANIZER;CN="la FACTORIE / Maison de Po&eacute%3Bsie de Normandie":MAILTO:direction@factorie.fr
END:VEVENT
END:VCALENDAR