BEGIN:VCALENDAR
VERSION:2.0
PRODID:-//Normandie Livre &amp; Lecture - ECPv6.15.11//NONSGML v1.0//EN
CALSCALE:GREGORIAN
METHOD:PUBLISH
X-ORIGINAL-URL:https://www.normandielivre.fr
X-WR-CALDESC:Évènements pour Normandie Livre &amp; Lecture
REFRESH-INTERVAL;VALUE=DURATION:PT1H
X-Robots-Tag:noindex
X-PUBLISHED-TTL:PT1H
BEGIN:VTIMEZONE
TZID:Europe/Paris
BEGIN:DAYLIGHT
TZOFFSETFROM:+0100
TZOFFSETTO:+0200
TZNAME:CEST
DTSTART:20240331T010000
END:DAYLIGHT
BEGIN:STANDARD
TZOFFSETFROM:+0200
TZOFFSETTO:+0100
TZNAME:CET
DTSTART:20241027T010000
END:STANDARD
BEGIN:DAYLIGHT
TZOFFSETFROM:+0100
TZOFFSETTO:+0200
TZNAME:CEST
DTSTART:20250330T010000
END:DAYLIGHT
BEGIN:STANDARD
TZOFFSETFROM:+0200
TZOFFSETTO:+0100
TZNAME:CET
DTSTART:20251026T010000
END:STANDARD
BEGIN:DAYLIGHT
TZOFFSETFROM:+0100
TZOFFSETTO:+0200
TZNAME:CEST
DTSTART:20260329T010000
END:DAYLIGHT
BEGIN:STANDARD
TZOFFSETFROM:+0200
TZOFFSETTO:+0100
TZNAME:CET
DTSTART:20261025T010000
END:STANDARD
END:VTIMEZONE
BEGIN:VEVENT
DTSTART;TZID=Europe/Paris:20251213T100000
DTEND;TZID=Europe/Paris:20251213T180000
DTSTAMP:20260424T070946
CREATED:20251112T092808Z
LAST-MODIFIED:20251112T092808Z
UID:10002609-1765620000-1765648800@www.normandielivre.fr
SUMMARY:Dédicace de Chantal Lambert
DESCRIPTION:Dédicace de Chantal Lambert autrice de deux thrillers\, dont les enquêtes se passent au Havre. Premier roman : Le Diable et la Lune\, est inventé pour frissonner avec la folie d’un tueur en série dans la ville du Havre\, enfance maltraitée\, intrigue\, histoire d’amour\, personnages attachants… tous les ingrédients nécessaires pour le dévorer . \nLe Diable et la Lune avait obtenu un premier prix région Haute-Normandie dans un concours réalisé par l’éditeur. Les retours sur ce livre sont excellents\, les lecteurs ayant demandé une suite\, Le deuxième roman a vu le jour : De l’autre côté de l’ombre\, où la vie des personnages est en évolution. \nDédicace le 13 décembre chez Cultura Centre Commercial La Lézarde\, av. Maréchal Foch\, 76290 Montivilliers de 10h à 18h \nMontivilliers
URL:https://www.normandielivre.fr/agenda-collaboratif/dedicace-de-chantal-lambert/
LOCATION:Montivilliers\, Cultura centre commercial la lézarde\, Montivilliers\, 76290
CATEGORIES:Dédicace
ATTACH;FMTTYPE=image/jpeg:https://www.normandielivre.fr/wp-content/uploads/2025/11/9782754771269-scaled.jpg
END:VEVENT
END:VCALENDAR