BEGIN:VCALENDAR
VERSION:2.0
PRODID:-//Normandie Livre &amp; Lecture - ECPv6.15.11//NONSGML v1.0//EN
CALSCALE:GREGORIAN
METHOD:PUBLISH
X-ORIGINAL-URL:https://www.normandielivre.fr
X-WR-CALDESC:Évènements pour Normandie Livre &amp; Lecture
REFRESH-INTERVAL;VALUE=DURATION:PT1H
X-Robots-Tag:noindex
X-PUBLISHED-TTL:PT1H
BEGIN:VTIMEZONE
TZID:Europe/Paris
BEGIN:DAYLIGHT
TZOFFSETFROM:+0100
TZOFFSETTO:+0200
TZNAME:CEST
DTSTART:20250330T010000
END:DAYLIGHT
BEGIN:STANDARD
TZOFFSETFROM:+0200
TZOFFSETTO:+0100
TZNAME:CET
DTSTART:20251026T010000
END:STANDARD
BEGIN:DAYLIGHT
TZOFFSETFROM:+0100
TZOFFSETTO:+0200
TZNAME:CEST
DTSTART:20260329T010000
END:DAYLIGHT
BEGIN:STANDARD
TZOFFSETFROM:+0200
TZOFFSETTO:+0100
TZNAME:CET
DTSTART:20261025T010000
END:STANDARD
BEGIN:DAYLIGHT
TZOFFSETFROM:+0100
TZOFFSETTO:+0200
TZNAME:CEST
DTSTART:20270328T010000
END:DAYLIGHT
BEGIN:STANDARD
TZOFFSETFROM:+0200
TZOFFSETTO:+0100
TZNAME:CET
DTSTART:20271031T010000
END:STANDARD
END:VTIMEZONE
BEGIN:VEVENT
DTSTART;TZID=Europe/Paris:20260131T103000
DTEND;TZID=Europe/Paris:20260131T113000
DTSTAMP:20260420T204702
CREATED:20251117T153830Z
LAST-MODIFIED:20251117T153830Z
UID:10002620-1769855400-1769859000@www.normandielivre.fr
SUMMARY:Lecture et rencontre avec Oreli Gouel
DESCRIPTION:Quand un sapin est tout riquiqui\, aucun humain ne le choisit pour fêter Noël. Cette année\, c’est décidé\, Petit Sapin veut découvrir où sont partis ses grands frères de la forêt. \nAprès la lecture de La Grande nuit de Petit Sapin (Gautier-Languereau\, 2025)\, l’autrice Oreli Gouel répondra aux questions et présentera son travail d’autrice.   \nLecture et rencontre à partir de 3 ans \nRéservation conseillée au 02 31 80 38 93 ou par mail à  bibliocreully@gmail.com \nEn partenariat avec le Réseau de médiathèques Seulles Terre et Mer  \nRencontre organisée dans le cadre de l’événement Lire en hiver. \nLire en Hiver\, c’est le meilleur moment pour découvrir les actualités des auteurs\, autrices et maisons d’édition normands\, au plus près de chez vous. Du 20 janvier au 8 février\, partez à la découverte d’univers artistiques et littéraires variés\, dans les bibliothèques et librairies de Normandie. Renseignements : https://www.normandielivre.fr/lire-en-hiver/  \nMédiathèque de Tilly-sur-Seulles
URL:https://www.normandielivre.fr/agenda-collaboratif/lecture-et-rencontre-avec-oreli-gouel/
LOCATION:Médiathèque de Tilly-sur-Seulles\, 1 rue de Juvigny\, Tilly-sur-Seulles\, 14250\, France
CATEGORIES:Jeunesse,Lecture,Lire en hiver,Rencontre
ATTACH;FMTTYPE=image/png:https://www.normandielivre.fr/wp-content/uploads/2025/11/reseaux-sociaux_oreli-gouel.png
END:VEVENT
END:VCALENDAR