BEGIN:VCALENDAR
VERSION:2.0
PRODID:-//Normandie Livre &amp; Lecture - ECPv6.15.11//NONSGML v1.0//EN
CALSCALE:GREGORIAN
METHOD:PUBLISH
X-ORIGINAL-URL:https://www.normandielivre.fr
X-WR-CALDESC:Évènements pour Normandie Livre &amp; Lecture
REFRESH-INTERVAL;VALUE=DURATION:PT1H
X-Robots-Tag:noindex
X-PUBLISHED-TTL:PT1H
BEGIN:VTIMEZONE
TZID:Europe/Paris
BEGIN:DAYLIGHT
TZOFFSETFROM:+0100
TZOFFSETTO:+0200
TZNAME:CEST
DTSTART:20230326T010000
END:DAYLIGHT
BEGIN:STANDARD
TZOFFSETFROM:+0200
TZOFFSETTO:+0100
TZNAME:CET
DTSTART:20231029T010000
END:STANDARD
BEGIN:DAYLIGHT
TZOFFSETFROM:+0100
TZOFFSETTO:+0200
TZNAME:CEST
DTSTART:20240331T010000
END:DAYLIGHT
BEGIN:STANDARD
TZOFFSETFROM:+0200
TZOFFSETTO:+0100
TZNAME:CET
DTSTART:20241027T010000
END:STANDARD
BEGIN:DAYLIGHT
TZOFFSETFROM:+0100
TZOFFSETTO:+0200
TZNAME:CEST
DTSTART:20250330T010000
END:DAYLIGHT
BEGIN:STANDARD
TZOFFSETFROM:+0200
TZOFFSETTO:+0100
TZNAME:CET
DTSTART:20251026T010000
END:STANDARD
BEGIN:DAYLIGHT
TZOFFSETFROM:+0100
TZOFFSETTO:+0200
TZNAME:CEST
DTSTART:20260329T010000
END:DAYLIGHT
BEGIN:STANDARD
TZOFFSETFROM:+0200
TZOFFSETTO:+0100
TZNAME:CET
DTSTART:20261025T010000
END:STANDARD
BEGIN:DAYLIGHT
TZOFFSETFROM:+0100
TZOFFSETTO:+0200
TZNAME:CEST
DTSTART:20270328T010000
END:DAYLIGHT
BEGIN:STANDARD
TZOFFSETFROM:+0200
TZOFFSETTO:+0100
TZNAME:CET
DTSTART:20271031T010000
END:STANDARD
END:VTIMEZONE
BEGIN:VEVENT
DTSTART;TZID=Europe/Paris:20260124T153000
DTEND;TZID=Europe/Paris:20260124T170000
DTSTAMP:20260420T231308
CREATED:20251118T150336Z
LAST-MODIFIED:20251118T150336Z
UID:10002634-1769268600-1769274000@www.normandielivre.fr
SUMMARY:L’Heure du thé en langue normande avec les éditions Skjaldmö
DESCRIPTION:Et si on savourait le normand comme un bon thé ? Autour d’une tasse fumante et de douceurs locales\, redécouvrir ensemble les mots d’ici\, les histoires d’hier et la beauté vivante de notre parler normand. Avec Séverine Courard-Vieuxbled des éditions Skjaldmö. \nRéservation obligatoire au 02 78 99 06 25 \nRencontre organisée dans le cadre de l’événement Lire en hiver. \nLire en Hiver\, c’est le meilleur moment pour découvrir les actualités des auteurs\, autrices et maisons d’édition normands\, au plus près de chez vous. Du 20 janvier au 8 février\, partez à la découverte d’univers artistiques et littéraires variés\, dans les bibliothèques et librairies de Normandie. Renseignements : https://www.normandielivre.fr/lire-en-hiver/  \nMédiathèque de Pacy-sur-Eure
URL:https://www.normandielivre.fr/agenda-collaboratif/lheure-du-the-en-langue-normande-avec-les-editions-skjaldmo-2/
LOCATION:Médiathèque de Pacy-sur-Eure\, Place Dufay\, Pacy-sur-Eure\, 27120
CATEGORIES:Atelier,Lire en hiver,Nuits de la lecture,Rencontre
ATTACH;FMTTYPE=image/png:https://www.normandielivre.fr/wp-content/uploads/2025/11/reseaux-sociaux-_-Skjaldmo-editions.png
END:VEVENT
BEGIN:VEVENT
DTSTART;TZID=Europe/Paris:20240914T150000
DTEND;TZID=Europe/Paris:20240914T170000
DTSTAMP:20260420T231308
CREATED:20240904T142306Z
LAST-MODIFIED:20240904T142306Z
UID:10001959-1726326000-1726333200@www.normandielivre.fr
SUMMARY:Rencontre avec Aline Le Guluche à Pacy-sur-Eure
DESCRIPTION:Rencontre avec Aline Le Guluche\, autrice du livre « J’ai appris à lire à 50 ans ». Elle est aujourd’hui porte-parole du programme national de lutte contre l’illettrisme des femmes.  \nDébat avec le public et vente-dédicace de ses livres.\n \nUne rencontre organisée par la Médiathèque de l’Eure\, Normandie Livre & Lecture et la Bibliothèque de Pacy-sur-Eure.  \nTout public\, accès libre  \n  \nDans le cadre des Journées nationales d’action contre l’illettrisme portées par l’ANLCI\, la Médiathèque départementale de l’Eure et Normandie Livre & Lecture organisent quatre rencontres autour de l’illettrisme. \nMédiathèque de Pacy-sur-Eure
URL:https://www.normandielivre.fr/agenda-collaboratif/rencontre-avec-aline-le-guluche-a-pacy-sur-eure/
LOCATION:Médiathèque de Pacy-sur-Eure\, Place Dufay\, Pacy-sur-Eure\, 27120
CATEGORIES:Action contre l'illettrisme,Rencontre
ATTACH;FMTTYPE=image/jpeg:https://www.normandielivre.fr/wp-content/uploads/2024/09/J-ai-appris-a-lire-a-50-ans.jpg
END:VEVENT
END:VCALENDAR