BEGIN:VCALENDAR
VERSION:2.0
PRODID:-//Normandie Livre &amp; Lecture - ECPv6.15.11//NONSGML v1.0//EN
CALSCALE:GREGORIAN
METHOD:PUBLISH
X-WR-CALNAME:Normandie Livre &amp; Lecture
X-ORIGINAL-URL:https://www.normandielivre.fr
X-WR-CALDESC:Évènements pour Normandie Livre &amp; Lecture
REFRESH-INTERVAL;VALUE=DURATION:PT1H
X-Robots-Tag:noindex
X-PUBLISHED-TTL:PT1H
BEGIN:VTIMEZONE
TZID:Europe/Paris
BEGIN:DAYLIGHT
TZOFFSETFROM:+0100
TZOFFSETTO:+0200
TZNAME:CEST
DTSTART:20240331T010000
END:DAYLIGHT
BEGIN:STANDARD
TZOFFSETFROM:+0200
TZOFFSETTO:+0100
TZNAME:CET
DTSTART:20241027T010000
END:STANDARD
BEGIN:DAYLIGHT
TZOFFSETFROM:+0100
TZOFFSETTO:+0200
TZNAME:CEST
DTSTART:20250330T010000
END:DAYLIGHT
BEGIN:STANDARD
TZOFFSETFROM:+0200
TZOFFSETTO:+0100
TZNAME:CET
DTSTART:20251026T010000
END:STANDARD
BEGIN:DAYLIGHT
TZOFFSETFROM:+0100
TZOFFSETTO:+0200
TZNAME:CEST
DTSTART:20260329T010000
END:DAYLIGHT
BEGIN:STANDARD
TZOFFSETFROM:+0200
TZOFFSETTO:+0100
TZNAME:CET
DTSTART:20261025T010000
END:STANDARD
END:VTIMEZONE
BEGIN:VEVENT
DTSTART;TZID=Europe/Paris:20250118T153000
DTEND;TZID=Europe/Paris:20250118T170000
DTSTAMP:20260420T100302
CREATED:20241213T135414Z
LAST-MODIFIED:20241219T102926Z
UID:10002071-1737214200-1737219600@www.normandielivre.fr
SUMMARY:Rencontre et atelier avec l'autrice et illustratrice Emmanuelle Halgand
DESCRIPTION:Atelier à partir de 10 ans et temps de partage avec l’autrice et illustratrice Emmanuelle Halgand à la médiathèque Pierre Mendès-France de Barentin (76). \nModération : Isabelle Breem \nÀ partir de quel âge : 10 ans \nRéservation : à partir du 18 décembre au 02 35 91 61 67 ou par mail mediatheque@ville-barentin.fr \nRencontre organisée dans le cadre de l’événement Lire en hiver. \nLire en Hiver\, c’est le meilleur moment pour découvrir les actualités des auteurs\, autrices et maisons d’édition normands\, au plus près de chez vous. Du 14 janvier au 2 février\, partez à la découverte d’univers artistiques et littéraires variés\, dans les bibliothèques et librairies de Normandie. Renseignements : https://www.normandielivre.fr/lire-en-hiver/  \n\nMédiathèque de Barentin
URL:https://www.normandielivre.fr/agenda-collaboratif/rencontre-et-atelier-avec-lautrice-et-illustratrice-emmanuelle-halgand/
LOCATION:Médiathèque de Barentin\, Rue François Mitterrand\, Barentin\, 76300
CATEGORIES:Atelier,Lire en hiver,Rencontre
ATTACH;FMTTYPE=image/png:https://www.normandielivre.fr/wp-content/uploads/2024/12/7.png
END:VEVENT
END:VCALENDAR