BEGIN:VCALENDAR
VERSION:2.0
PRODID:-//Normandie Livre &amp; Lecture - ECPv6.15.11//NONSGML v1.0//EN
CALSCALE:GREGORIAN
METHOD:PUBLISH
X-ORIGINAL-URL:https://www.normandielivre.fr
X-WR-CALDESC:Évènements pour Normandie Livre &amp; Lecture
REFRESH-INTERVAL;VALUE=DURATION:PT1H
X-Robots-Tag:noindex
X-PUBLISHED-TTL:PT1H
BEGIN:VTIMEZONE
TZID:Europe/Paris
BEGIN:DAYLIGHT
TZOFFSETFROM:+0100
TZOFFSETTO:+0200
TZNAME:CEST
DTSTART:20250330T010000
END:DAYLIGHT
BEGIN:STANDARD
TZOFFSETFROM:+0200
TZOFFSETTO:+0100
TZNAME:CET
DTSTART:20251026T010000
END:STANDARD
BEGIN:DAYLIGHT
TZOFFSETFROM:+0100
TZOFFSETTO:+0200
TZNAME:CEST
DTSTART:20260329T010000
END:DAYLIGHT
BEGIN:STANDARD
TZOFFSETFROM:+0200
TZOFFSETTO:+0100
TZNAME:CET
DTSTART:20261025T010000
END:STANDARD
BEGIN:DAYLIGHT
TZOFFSETFROM:+0100
TZOFFSETTO:+0200
TZNAME:CEST
DTSTART:20270328T010000
END:DAYLIGHT
BEGIN:STANDARD
TZOFFSETFROM:+0200
TZOFFSETTO:+0100
TZNAME:CET
DTSTART:20271031T010000
END:STANDARD
END:VTIMEZONE
BEGIN:VEVENT
DTSTART;TZID=Europe/Paris:20260415T090000
DTEND;TZID=Europe/Paris:20260415T120000
DTSTAMP:20260419T174645
CREATED:20260202T125413Z
LAST-MODIFIED:20260202T125413Z
UID:10003097-1776243600-1776254400@www.normandielivre.fr
SUMMARY:Café-livre avec Lucie Félix
DESCRIPTION:Le café-livre est un rendez-vous pour parler de livres jeunesse autour d’un café. \nCette année\, Lucie Félix\, autrice et illustratrice de littérature jeunesse est l’invitée exceptionnelle ! Venez la rencontrer et échanger sur ses livres\, son parcours\, ses inspirations. \nMatinée ouverte à toute personne qui lit à des enfants : professionnels de l’enfance et de l’éducation\, bénévoles\, parents\, étudiants. \nEn partenariat avec l’association Lire et faire lire qui fête ses 25 ans. \nVente-dédicace à l’issue de la rencontre\, en partenariat avec la librairie Les Grands Chemins de Lisieux. \nMédiathèque André-Malraux Lisieux
URL:https://www.normandielivre.fr/agenda-collaboratif/cafe-livre-avec-lucie-felix/
LOCATION:Médiathèque André-Malraux Lisieux\, Place de la République\, Lisieux\, France\, LISIEUX\, 14100\, France
CATEGORIES:Club de lecteurs,Rencontre
ATTACH;FMTTYPE=image/jpeg:https://www.normandielivre.fr/wp-content/uploads/2026/01/lucie-felix-c-les-grandes-personnes.jpg
ORGANIZER;CN="M%C3%A9diath%C3%A8que Andr%C3%A9-Malraux Lisieux":MAILTO:mediatheque-lisieux@agglo-lisieux.fr
END:VEVENT
BEGIN:VEVENT
DTSTART;TZID=Europe/Paris:20260403T181500
DTEND;TZID=Europe/Paris:20260403T193000
DTSTAMP:20260419T174645
CREATED:20251216T091327Z
LAST-MODIFIED:20251216T091327Z
UID:10002679-1775240100-1775244600@www.normandielivre.fr
SUMMARY:Rencontre avec Clémentine Beauvais
DESCRIPTION:Clémentine Beauvais est autrice\, traductrice et enseignante en sciences de l’éducation à l’université de York. \nExperte en littérature jeunesse\, elle nous fait l’honneur de sa présence à la médiathèque de Lisieux à l’occasion d’une rencontre publique. \nNous parlerons du travail de cette autrice hyperproductive\, et de la lecture chez les jeunes. \nLa rencontre sera suivie d’une séance de vente-dédicace\, en partenariat avec une librairie. \nMédiathèque André-Malraux Lisieux
URL:https://www.normandielivre.fr/agenda-collaboratif/rencontre-avec-clementine-beauvais/
LOCATION:Médiathèque André-Malraux Lisieux\, Place de la République\, Lisieux\, France\, LISIEUX\, 14100\, France
CATEGORIES:Rencontre
ATTACH;FMTTYPE=image/jpeg:https://www.normandielivre.fr/wp-content/uploads/2025/12/Clementine-c-creative-commons.jpg
END:VEVENT
BEGIN:VEVENT
DTSTART;TZID=Europe/Paris:20260313T181500
DTEND;TZID=Europe/Paris:20260313T193000
DTSTAMP:20260419T174645
CREATED:20251229T083953Z
LAST-MODIFIED:20251229T083953Z
UID:10002680-1773425700-1773430200@www.normandielivre.fr
SUMMARY:Conférence d'Aurélia Blanc "Penser une éducation anti-sexiste pour les filles... et les garçons !"
DESCRIPTION:Pour lutter contre le sexisme\, nous encourageons volontiers les filles à s’émanciper des clichés. Mais qu’en est-il pour les garçons ? Éduque-t-on vraiment les filles et les garçons de la même façon ? Quel est l’impact des stéréotypes genrés et comment se défaire de nos automatismes sexistes ? En quoi les injonctions à la virilité sont-elles néfastes pour les garçons ? Comment permettre aux filles et aux garçons de développer des relations saines et harmonieuses ? \nAurélia Blanc est journaliste\, autrice\, conférencière et animatrice. Spécialiste des questions de genre\, elle s’intéresse plus largement aux luttes contre les discriminations\, aux enjeux liés à l’éducation et aux questions dites « de société ». \nMêlant données chiffrées\, travaux de recherches et exemples du quotidien\, cette conférence dynamique permet de comprendre les mécanismes\, souvent inconscients\, qui perpétuent le sexisme et réduisent les horizons de nos enfants. Proposant un angle d’approche original\, elle offre des pistes de réflexion et des ressources pratiques pour éduquer les enfants de manière vraiment égalitaire et leur permettre de s’épanouir pleinement. \nMédiathèque André-Malraux Lisieux
URL:https://www.normandielivre.fr/agenda-collaboratif/conference-daurelia-blanc-penser-une-education-anti-sexiste-pour-les-filles-et-les-garcons/
LOCATION:Médiathèque André-Malraux Lisieux\, Place de la République\, Lisieux\, France\, LISIEUX\, 14100\, France
CATEGORIES:Conférence
ATTACH;FMTTYPE=image/png:https://www.normandielivre.fr/wp-content/uploads/2025/12/aurelia-blanc-c-editions-marabout.png
ORGANIZER;CN="M%C3%A9diath%C3%A8que Andr%C3%A9-Malraux Lisieux":MAILTO:mediatheque-lisieux@agglo-lisieux.fr
END:VEVENT
END:VCALENDAR