BEGIN:VCALENDAR
VERSION:2.0
PRODID:-//Normandie Livre &amp; Lecture - ECPv6.15.11//NONSGML v1.0//EN
CALSCALE:GREGORIAN
METHOD:PUBLISH
X-WR-CALNAME:Normandie Livre &amp; Lecture
X-ORIGINAL-URL:https://www.normandielivre.fr
X-WR-CALDESC:Évènements pour Normandie Livre &amp; Lecture
REFRESH-INTERVAL;VALUE=DURATION:PT1H
X-Robots-Tag:noindex
X-PUBLISHED-TTL:PT1H
BEGIN:VTIMEZONE
TZID:Europe/Paris
BEGIN:DAYLIGHT
TZOFFSETFROM:+0100
TZOFFSETTO:+0200
TZNAME:CEST
DTSTART:20220327T010000
END:DAYLIGHT
BEGIN:STANDARD
TZOFFSETFROM:+0200
TZOFFSETTO:+0100
TZNAME:CET
DTSTART:20221030T010000
END:STANDARD
BEGIN:DAYLIGHT
TZOFFSETFROM:+0100
TZOFFSETTO:+0200
TZNAME:CEST
DTSTART:20230326T010000
END:DAYLIGHT
BEGIN:STANDARD
TZOFFSETFROM:+0200
TZOFFSETTO:+0100
TZNAME:CET
DTSTART:20231029T010000
END:STANDARD
BEGIN:DAYLIGHT
TZOFFSETFROM:+0100
TZOFFSETTO:+0200
TZNAME:CEST
DTSTART:20240331T010000
END:DAYLIGHT
BEGIN:STANDARD
TZOFFSETFROM:+0200
TZOFFSETTO:+0100
TZNAME:CET
DTSTART:20241027T010000
END:STANDARD
END:VTIMEZONE
BEGIN:VEVENT
DTSTART;TZID=Europe/Paris:20230725T143000
DTEND;TZID=Europe/Paris:20230729T170000
DTSTAMP:20260420T163719
CREATED:20230721T084330Z
LAST-MODIFIED:20230721T084330Z
UID:10001595-1690295400-1690650000@www.normandielivre.fr
SUMMARY:Été culturel 2023 : Béatrice Boutignon à la médiathèque de Rémalard-en-Perche (61)
DESCRIPTION:Je m’ennuie ?\nL’autrice illustratrice invite les enfants et leurs parents à participer à des ateliers d’arts plastiques autour de son projet d’album jeunesse. Échanges et réflexion sur le thème de l’ennui\, dessin de personnage\, peinture de paysage. Petit à petit\, le monde intérieur du personnage se mélange avec le paysage extérieur. \n\nPlanning\nInformations et réservation auprès de la médiathèque \n– du mardi 25 au vendredi 29\, de 14h30 à 16h30 : Atelier écriture et illustration « Je m’ennuie? »-\n– samedi 29\, de 15h à 17h : Rencontre avec l’artiste \n\nBiographie\nBéatrice Boutignon a étudié aux beaux-arts de Rueil-Malmaison et à l’école Estienne\, dont elle est diplômée en illustration. Peintre\, autrice et illustratrice de livres pour enfants\, elle est notamment l’autrice et l’illustratrice d’Un Air de familles (Le Baron Perché\, 2013)\, Tango a deux papas\, et pourquoi pas ? (Le Baron Perché\, 2009) et Tous les animaux ne sont pas bleus (Le Baron Perché\, 2007). \nmédiathèque Le Passage
URL:https://www.normandielivre.fr/agenda-collaboratif/ete-culturel-2023-beatrice-boutignon-a-la-mediatheque-de-remalard-en-perche-61/
LOCATION:médiathèque Le Passage\, 2 bis Rue de l'Huisne\, Rémalard-en-Perche\, 61110
CATEGORIES:Été culturel
ATTACH;FMTTYPE=image/png:https://www.normandielivre.fr/wp-content/uploads/2023/07/boutignon.png
END:VEVENT
END:VCALENDAR