BEGIN:VCALENDAR
VERSION:2.0
PRODID:-//Normandie Livre &amp; Lecture - ECPv6.15.11//NONSGML v1.0//EN
CALSCALE:GREGORIAN
METHOD:PUBLISH
X-WR-CALNAME:Normandie Livre &amp; Lecture
X-ORIGINAL-URL:https://www.normandielivre.fr
X-WR-CALDESC:Évènements pour Normandie Livre &amp; Lecture
REFRESH-INTERVAL;VALUE=DURATION:PT1H
X-Robots-Tag:noindex
X-PUBLISHED-TTL:PT1H
BEGIN:VTIMEZONE
TZID:Europe/Paris
BEGIN:DAYLIGHT
TZOFFSETFROM:+0100
TZOFFSETTO:+0200
TZNAME:CEST
DTSTART:20220327T010000
END:DAYLIGHT
BEGIN:STANDARD
TZOFFSETFROM:+0200
TZOFFSETTO:+0100
TZNAME:CET
DTSTART:20221030T010000
END:STANDARD
BEGIN:DAYLIGHT
TZOFFSETFROM:+0100
TZOFFSETTO:+0200
TZNAME:CEST
DTSTART:20230326T010000
END:DAYLIGHT
BEGIN:STANDARD
TZOFFSETFROM:+0200
TZOFFSETTO:+0100
TZNAME:CET
DTSTART:20231029T010000
END:STANDARD
BEGIN:DAYLIGHT
TZOFFSETFROM:+0100
TZOFFSETTO:+0200
TZNAME:CEST
DTSTART:20240331T010000
END:DAYLIGHT
BEGIN:STANDARD
TZOFFSETFROM:+0200
TZOFFSETTO:+0100
TZNAME:CET
DTSTART:20241027T010000
END:STANDARD
END:VTIMEZONE
BEGIN:VEVENT
DTSTART;TZID=Europe/Paris:20230731T143000
DTEND;TZID=Europe/Paris:20230804T173000
DTSTAMP:20260420T163856
CREATED:20230721T094019Z
LAST-MODIFIED:20230721T094019Z
UID:10001597-1690813800-1691170200@www.normandielivre.fr
SUMMARY:Été culturel 2023 : Igor Futterer à la Médiathèque d'Hermanville-sur-Mer (14)
DESCRIPTION:Une plume au soleil\nFaire découvrir aux habitants l’univers d’un auteur dramatique\, son processus de création en exposant des œuvres originales en cours d’écriture\, comme des planches de bandes dessinées par exemple\, mais aussi tout le travail de mise en scène. \n\nPlanning\n(Informations auprès de la médiathèque) \nlundi 31 juillet\, 14h30-17h30 : L’Auteur / « Hors-d’oeuvre »\nmardi 1er août\, 14h30-17h30 : Jeux littéraire\nmercredi 2 août\, 14h30-17h30 : Création littéraire\njeudi 3 août\, 14h30-17h30 : Lecture découverte & ambulante\nvendredi 4 août\, 14h30-17h30 : L’Auteur & Actualité/Scoop \n  \nBiographie\nDramaturge & metteur en scène\, Igor Futterer revendique un théâtre du dilemme\, dans un style qui met au ban toute complaisance. Fort d’une œuvre textuelle viscéralement ancrée sur le traitement des maux de notre société\, sa singularité va de pair avec son parcours créatif\, dans sa volonté de s’attaquer à l’inabordable sans prise d’otage. \nMédiathèque Jean-François Sarasin
URL:https://www.normandielivre.fr/agenda-collaboratif/ete-culturel-2023-igor-futterer-a-la-mediatheque-dhermanville-sur-mer-14/
LOCATION:Médiathèque Jean-François Sarasin\, 144 Grande rue\, Hermanville-sur-Mer\, 14880
CATEGORIES:Été culturel
ATTACH;FMTTYPE=image/jpeg:https://www.normandielivre.fr/wp-content/uploads/2023/07/Futterer_Portrait.jpg
END:VEVENT
END:VCALENDAR