BEGIN:VCALENDAR
VERSION:2.0
PRODID:-//Normandie Livre &amp; Lecture - ECPv6.15.11//NONSGML v1.0//EN
CALSCALE:GREGORIAN
METHOD:PUBLISH
X-ORIGINAL-URL:https://www.normandielivre.fr
X-WR-CALDESC:Évènements pour Normandie Livre &amp; Lecture
REFRESH-INTERVAL;VALUE=DURATION:PT1H
X-Robots-Tag:noindex
X-PUBLISHED-TTL:PT1H
BEGIN:VTIMEZONE
TZID:Europe/Paris
BEGIN:DAYLIGHT
TZOFFSETFROM:+0100
TZOFFSETTO:+0200
TZNAME:CEST
DTSTART:20240331T010000
END:DAYLIGHT
BEGIN:STANDARD
TZOFFSETFROM:+0200
TZOFFSETTO:+0100
TZNAME:CET
DTSTART:20241027T010000
END:STANDARD
BEGIN:DAYLIGHT
TZOFFSETFROM:+0100
TZOFFSETTO:+0200
TZNAME:CEST
DTSTART:20250330T010000
END:DAYLIGHT
BEGIN:STANDARD
TZOFFSETFROM:+0200
TZOFFSETTO:+0100
TZNAME:CET
DTSTART:20251026T010000
END:STANDARD
BEGIN:DAYLIGHT
TZOFFSETFROM:+0100
TZOFFSETTO:+0200
TZNAME:CEST
DTSTART:20260329T010000
END:DAYLIGHT
BEGIN:STANDARD
TZOFFSETFROM:+0200
TZOFFSETTO:+0100
TZNAME:CET
DTSTART:20261025T010000
END:STANDARD
END:VTIMEZONE
BEGIN:VEVENT
DTSTART;TZID=Europe/Paris:20251011T100000
DTEND;TZID=Europe/Paris:20251011T180000
DTSTAMP:20260424T195713
CREATED:20250925T095903Z
LAST-MODIFIED:20250925T095903Z
UID:10002571-1760176800-1760205600@www.normandielivre.fr
SUMMARY:Le bal des livres à Anisy
DESCRIPTION:Anisy accueillera son premier salon du livre : une vingtaine d’auteurs à découvrir pour des échanges et des dédicaces. Vous trouverez des ouvrages pour tous les âges : romans\, romans policiers\, romans jeunesse\, albums\, bandes dessinées\, poésie… \nIl y aura aussi deux expositions de photographies à découvrir et des animations tout au long de la journée. \n« Le bal des livres »\, c’est la promesse d’un moment culturel et convivial. \nTout public. Entrée libre. \nMairie Salle polyvalente Anisy 14610
URL:https://www.normandielivre.fr/agenda-collaboratif/le-bal-des-livres-a-anisy/
LOCATION:Mairie Salle polyvalente Anisy 14610\, 1 rue de la Chenaie\, Anisy\, 14610\, France
CATEGORIES:Salon
ATTACH;FMTTYPE=image/jpeg:https://www.normandielivre.fr/wp-content/uploads/2025/09/AfficheSalon160925-A4-2.jpg
END:VEVENT
END:VCALENDAR