BEGIN:VCALENDAR
VERSION:2.0
PRODID:-//Normandie Livre &amp; Lecture - ECPv6.15.11//NONSGML v1.0//EN
CALSCALE:GREGORIAN
METHOD:PUBLISH
X-ORIGINAL-URL:https://www.normandielivre.fr
X-WR-CALDESC:Évènements pour Normandie Livre &amp; Lecture
REFRESH-INTERVAL;VALUE=DURATION:PT1H
X-Robots-Tag:noindex
X-PUBLISHED-TTL:PT1H
BEGIN:VTIMEZONE
TZID:Europe/Paris
BEGIN:DAYLIGHT
TZOFFSETFROM:+0100
TZOFFSETTO:+0200
TZNAME:CEST
DTSTART:20250330T010000
END:DAYLIGHT
BEGIN:STANDARD
TZOFFSETFROM:+0200
TZOFFSETTO:+0100
TZNAME:CET
DTSTART:20251026T010000
END:STANDARD
BEGIN:DAYLIGHT
TZOFFSETFROM:+0100
TZOFFSETTO:+0200
TZNAME:CEST
DTSTART:20260329T010000
END:DAYLIGHT
BEGIN:STANDARD
TZOFFSETFROM:+0200
TZOFFSETTO:+0100
TZNAME:CET
DTSTART:20261025T010000
END:STANDARD
BEGIN:DAYLIGHT
TZOFFSETFROM:+0100
TZOFFSETTO:+0200
TZNAME:CEST
DTSTART:20270328T010000
END:DAYLIGHT
BEGIN:STANDARD
TZOFFSETFROM:+0200
TZOFFSETTO:+0100
TZNAME:CET
DTSTART:20271031T010000
END:STANDARD
END:VTIMEZONE
BEGIN:VEVENT
DTSTART;TZID=Europe/Paris:20260207T143000
DTEND;TZID=Europe/Paris:20260207T160000
DTSTAMP:20260420T193655
CREATED:20251118T155257Z
LAST-MODIFIED:20251118T155257Z
UID:10002627-1770474600-1770480000@www.normandielivre.fr
SUMMARY:J'écris\, tu lis\, tu écris\, je lis ! avec les éditions Les Ateliers
DESCRIPTION:Le collectif des éditions Les Ateliers animé par Charlotte Noyelle pratique systématiquement l’exercice du comité de lecture. Chacun propose son texte élaboré à partir d’un visuel commun et le lit à voix haute. S’ensuit une séance de questions et remarques. L’objectif : parvenir à la validation unanime de chaque texte par le groupe. Pour ce moment le collectif Les Ateliers propose de se joindre à la séance\, soit avec vos propres textes à partager\, soit simplement pour écouter et donner votre avis.    \nPar les éditions Les Ateliers avec Viviane Jourdan\, autrice\, compositrice\, interprète\, Éva Ricateau\, autrice\, Pascal Robert\, auteur\, Emmanuelle Domin\, autrice de nouvelles et Charlotte Noyelle\, photographe et éditrice. \nRéservation obligatoire au 02 31 32 57 93 ou par mail à librairie.recreations@gmail.com  \nRencontre organisée dans le cadre de l’événement Lire en hiver. \nLire en Hiver\, c’est le meilleur moment pour découvrir les actualités des auteurs\, autrices et maisons d’édition normands\, au plus près de chez vous. Du 20 janvier au 8 février\, partez à la découverte d’univers artistiques et littéraires variés\, dans les bibliothèques et librairies de Normandie. Renseignements : https://www.normandielivre.fr/lire-en-hiver/  \nLibrairie Récréations
URL:https://www.normandielivre.fr/agenda-collaboratif/jecris-tu-lis-tu-ecris-je-lis-avec-les-editions-les-ateliers/
LOCATION:Librairie Récréations\, 137 rue grande\, Orbec\, 14290
CATEGORIES:Club de lecteurs,Lire en hiver,Rencontre
ATTACH;FMTTYPE=image/png:https://www.normandielivre.fr/wp-content/uploads/2025/11/reseaux-sociaux-_-editions-Les-Ateliers.png
END:VEVENT
END:VCALENDAR