BEGIN:VCALENDAR
VERSION:2.0
PRODID:-//Normandie Livre &amp; Lecture - ECPv6.15.11//NONSGML v1.0//EN
CALSCALE:GREGORIAN
METHOD:PUBLISH
X-WR-CALNAME:Normandie Livre &amp; Lecture
X-ORIGINAL-URL:https://www.normandielivre.fr
X-WR-CALDESC:Évènements pour Normandie Livre &amp; Lecture
REFRESH-INTERVAL;VALUE=DURATION:PT1H
X-Robots-Tag:noindex
X-PUBLISHED-TTL:PT1H
BEGIN:VTIMEZONE
TZID:Europe/Paris
BEGIN:DAYLIGHT
TZOFFSETFROM:+0100
TZOFFSETTO:+0200
TZNAME:CEST
DTSTART:20250330T010000
END:DAYLIGHT
BEGIN:STANDARD
TZOFFSETFROM:+0200
TZOFFSETTO:+0100
TZNAME:CET
DTSTART:20251026T010000
END:STANDARD
BEGIN:DAYLIGHT
TZOFFSETFROM:+0100
TZOFFSETTO:+0200
TZNAME:CEST
DTSTART:20260329T010000
END:DAYLIGHT
BEGIN:STANDARD
TZOFFSETFROM:+0200
TZOFFSETTO:+0100
TZNAME:CET
DTSTART:20261025T010000
END:STANDARD
BEGIN:DAYLIGHT
TZOFFSETFROM:+0100
TZOFFSETTO:+0200
TZNAME:CEST
DTSTART:20270328T010000
END:DAYLIGHT
BEGIN:STANDARD
TZOFFSETFROM:+0200
TZOFFSETTO:+0100
TZNAME:CET
DTSTART:20271031T010000
END:STANDARD
END:VTIMEZONE
BEGIN:VEVENT
DTSTART;TZID=Europe/Paris:20260124T110000
DTEND;TZID=Europe/Paris:20260124T120000
DTSTAMP:20260421T025629
CREATED:20251118T152837Z
LAST-MODIFIED:20251118T152837Z
UID:10002629-1769252400-1769256000@www.normandielivre.fr
SUMMARY:Lecture musicale avec Christophe Tostain
DESCRIPTION:Comment trouver sa place dans le monde d’aujourd’hui ? Ulysse moderne\, le personnage de cet ouvrage oscille entre MégaVille\, monde rural et zone pavillonnaire. Un récit mis en mot et en musique par Christophe Tostain\, auteur de Dérives (La Page Blanche\, 2025)\, comédien et metteur en scène. \nLecture à partir de 14 ans. \nEntrée libre dans la limite des places disponibles. \nRencontre organisée dans le cadre de l’événement Lire en hiver. \nLire en Hiver\, c’est le meilleur moment pour découvrir les actualités des auteurs\, autrices et maisons d’édition normands\, au plus près de chez vous. Du 20 janvier au 8 février\, partez à la découverte d’univers artistiques et littéraires variés\, dans les bibliothèques et librairies de Normandie. Renseignements : https://www.normandielivre.fr/lire-en-hiver/  \nLibrairie Quartier Libre
URL:https://www.normandielivre.fr/agenda-collaboratif/lecture-musicale-avec-christophe-tostain/
LOCATION:Librairie Quartier Libre\, 2 rue de la Boule\, Flers\, 61100\, France
CATEGORIES:Lecture,Lire en hiver,Nuits de la lecture,Rencontre
ATTACH;FMTTYPE=image/png:https://www.normandielivre.fr/wp-content/uploads/2025/11/reseaux-sociaux_christophe-tostain.png
END:VEVENT
END:VCALENDAR