BEGIN:VCALENDAR
VERSION:2.0
PRODID:-//Normandie Livre &amp; Lecture - ECPv6.15.11//NONSGML v1.0//EN
CALSCALE:GREGORIAN
METHOD:PUBLISH
X-ORIGINAL-URL:https://www.normandielivre.fr
X-WR-CALDESC:Évènements pour Normandie Livre &amp; Lecture
REFRESH-INTERVAL;VALUE=DURATION:PT1H
X-Robots-Tag:noindex
X-PUBLISHED-TTL:PT1H
BEGIN:VTIMEZONE
TZID:Europe/Paris
BEGIN:DAYLIGHT
TZOFFSETFROM:+0100
TZOFFSETTO:+0200
TZNAME:CEST
DTSTART:20250330T010000
END:DAYLIGHT
BEGIN:STANDARD
TZOFFSETFROM:+0200
TZOFFSETTO:+0100
TZNAME:CET
DTSTART:20251026T010000
END:STANDARD
BEGIN:DAYLIGHT
TZOFFSETFROM:+0100
TZOFFSETTO:+0200
TZNAME:CEST
DTSTART:20260329T010000
END:DAYLIGHT
BEGIN:STANDARD
TZOFFSETFROM:+0200
TZOFFSETTO:+0100
TZNAME:CET
DTSTART:20261025T010000
END:STANDARD
BEGIN:DAYLIGHT
TZOFFSETFROM:+0100
TZOFFSETTO:+0200
TZNAME:CEST
DTSTART:20270328T010000
END:DAYLIGHT
BEGIN:STANDARD
TZOFFSETFROM:+0200
TZOFFSETTO:+0100
TZNAME:CET
DTSTART:20271031T010000
END:STANDARD
END:VTIMEZONE
BEGIN:VEVENT
DTSTART;TZID=Europe/Paris:20260206T180000
DTEND;TZID=Europe/Paris:20260206T193000
DTSTAMP:20260420T230325
CREATED:20251117T154702Z
LAST-MODIFIED:20251117T154702Z
UID:10002647-1770400800-1770406200@www.normandielivre.fr
SUMMARY:Raconter les fractures sociales en BD avec Hugues Barthe
DESCRIPTION:Nouvelle BD autobiographique pour Hugues Barthe (Mémoires d’un traître\, Gallimard\, 2025)\, dans laquelle il raconte sa rencontre avec un jeune couple de citadins s’installant en 1979 dans son petit village. Le jeune garçon d’alors 14 ans est intrigué par Viviane très différente des femmes de son entourage : elle lit\, écoute de la musique et a un riche vocabulaire. Un récit autour des transfuges de classe.   \nRéservation conseillée par mail à pagaille.rouen@gmail.com   \nEn partenariat avec Le 128 bis. \nRencontre organisée dans le cadre de l’événement Lire en hiver. \nLire en Hiver\, c’est le meilleur moment pour découvrir les actualités des auteurs\, autrices et maisons d’édition normands\, au plus près de chez vous. Du 20 janvier au 8 février\, partez à la découverte d’univers artistiques et littéraires variés\, dans les bibliothèques et librairies de Normandie. Renseignements : https://www.normandielivre.fr/lire-en-hiver/  \nLibrairie Pagaille\, Rouen
URL:https://www.normandielivre.fr/agenda-collaboratif/raconter-les-fractures-sociales-en-bd-avec-hugues-barthe/
LOCATION:Librairie Pagaille\, Rouen\, 128 bis avenue des Martyrs de la Résistance\, Rouen\, 76100\, France
CATEGORIES:Lire en hiver,Rencontre
ATTACH;FMTTYPE=image/png:https://www.normandielivre.fr/wp-content/uploads/2025/11/reseaux-sociaux_hugues-barthe.png
END:VEVENT
END:VCALENDAR