BEGIN:VCALENDAR
VERSION:2.0
PRODID:-//Normandie Livre &amp; Lecture - ECPv6.15.11//NONSGML v1.0//EN
CALSCALE:GREGORIAN
METHOD:PUBLISH
X-WR-CALNAME:Normandie Livre &amp; Lecture
X-ORIGINAL-URL:https://www.normandielivre.fr
X-WR-CALDESC:Évènements pour Normandie Livre &amp; Lecture
REFRESH-INTERVAL;VALUE=DURATION:PT1H
X-Robots-Tag:noindex
X-PUBLISHED-TTL:PT1H
BEGIN:VTIMEZONE
TZID:Europe/Paris
BEGIN:DAYLIGHT
TZOFFSETFROM:+0100
TZOFFSETTO:+0200
TZNAME:CEST
DTSTART:20250330T010000
END:DAYLIGHT
BEGIN:STANDARD
TZOFFSETFROM:+0200
TZOFFSETTO:+0100
TZNAME:CET
DTSTART:20251026T010000
END:STANDARD
BEGIN:DAYLIGHT
TZOFFSETFROM:+0100
TZOFFSETTO:+0200
TZNAME:CEST
DTSTART:20260329T010000
END:DAYLIGHT
BEGIN:STANDARD
TZOFFSETFROM:+0200
TZOFFSETTO:+0100
TZNAME:CET
DTSTART:20261025T010000
END:STANDARD
BEGIN:DAYLIGHT
TZOFFSETFROM:+0100
TZOFFSETTO:+0200
TZNAME:CEST
DTSTART:20270328T010000
END:DAYLIGHT
BEGIN:STANDARD
TZOFFSETFROM:+0200
TZOFFSETTO:+0100
TZNAME:CET
DTSTART:20271031T010000
END:STANDARD
END:VTIMEZONE
BEGIN:VEVENT
DTSTART;TZID=Europe/Paris:20260131T163000
DTEND;TZID=Europe/Paris:20260131T173000
DTSTAMP:20260420T205746
CREATED:20251118T135437Z
LAST-MODIFIED:20251118T135437Z
UID:10002638-1769877000-1769880600@www.normandielivre.fr
SUMMARY:Atelier - Un oiseau au creux de ta main avec Carole Xénard
DESCRIPTION:Des mains en papier\, des graines à coller ou dessiner et des oiseaux par dizaine à attirer\, voici le programme de l’atelier proposé par l’illustratrice Carole Xénard (Mon anxiété lourde à porter\, Hatier\, 2025).  \nAtelier pour les 7-10 ans \nRéservation obligatoire au 02 32 54 35 95 ou par mail à librairie.cerises@gmail.com  \nRencontre organisée dans le cadre de l’événement Lire en hiver. \nLire en Hiver\, c’est le meilleur moment pour découvrir les actualités des auteurs\, autrices et maisons d’édition normands\, au plus près de chez vous. Du 20 janvier au 8 février\, partez à la découverte d’univers artistiques et littéraires variés\, dans les bibliothèques et librairies de Normandie. Renseignements : https://www.normandielivre.fr/lire-en-hiver/  \nLibrairie Cerises et Moineaux
URL:https://www.normandielivre.fr/agenda-collaboratif/atelier-un-oiseau-au-creux-de-ta-main-avec-carole-xenard/
LOCATION:Librairie Cerises et Moineaux\, 8 rue des tanneurs\, Vernon\, 27200\, France
CATEGORIES:Atelier,Jeunesse,Lire en hiver,Rencontre
ATTACH;FMTTYPE=image/png:https://www.normandielivre.fr/wp-content/uploads/2025/11/reseaux-sociaux-_-carole-xenard-librairie-cerises-et-moineaux.png
END:VEVENT
END:VCALENDAR