BEGIN:VCALENDAR
VERSION:2.0
PRODID:-//Normandie Livre &amp; Lecture - ECPv6.15.11//NONSGML v1.0//EN
CALSCALE:GREGORIAN
METHOD:PUBLISH
X-WR-CALNAME:Normandie Livre &amp; Lecture
X-ORIGINAL-URL:https://www.normandielivre.fr
X-WR-CALDESC:Évènements pour Normandie Livre &amp; Lecture
REFRESH-INTERVAL;VALUE=DURATION:PT1H
X-Robots-Tag:noindex
X-PUBLISHED-TTL:PT1H
BEGIN:VTIMEZONE
TZID:Europe/Paris
BEGIN:DAYLIGHT
TZOFFSETFROM:+0100
TZOFFSETTO:+0200
TZNAME:CEST
DTSTART:20250330T010000
END:DAYLIGHT
BEGIN:STANDARD
TZOFFSETFROM:+0200
TZOFFSETTO:+0100
TZNAME:CET
DTSTART:20251026T010000
END:STANDARD
BEGIN:DAYLIGHT
TZOFFSETFROM:+0100
TZOFFSETTO:+0200
TZNAME:CEST
DTSTART:20260329T010000
END:DAYLIGHT
BEGIN:STANDARD
TZOFFSETFROM:+0200
TZOFFSETTO:+0100
TZNAME:CET
DTSTART:20261025T010000
END:STANDARD
BEGIN:DAYLIGHT
TZOFFSETFROM:+0100
TZOFFSETTO:+0200
TZNAME:CEST
DTSTART:20270328T010000
END:DAYLIGHT
BEGIN:STANDARD
TZOFFSETFROM:+0200
TZOFFSETTO:+0100
TZNAME:CET
DTSTART:20271031T010000
END:STANDARD
END:VTIMEZONE
BEGIN:VEVENT
DTSTART;TZID=Europe/Paris:20260206T190000
DTEND;TZID=Europe/Paris:20260206T203000
DTSTAMP:20260420T205746
CREATED:20251118T160358Z
LAST-MODIFIED:20251118T160358Z
UID:10002625-1770404400-1770409800@www.normandielivre.fr
SUMMARY:Lecture théâtralisée et musicale : Le Murmure des victimes avec David Coulon
DESCRIPTION:Emma\, huit ans\, a trouvé refuge dans une chaleureuse famille d’accueil\, loin de sa famille toxique. Enfin libre\, elle se sent heureuse et savoure sa nouvelle vie. Mais une inquiétante présence hante ses nuits. Des bruits étranges résonnent dans l’obscurité. \nAvec David Coulon (Le Murmure des victimes – Fayard\, 2025)\, Stéphanie Delanos\, comédienne\, Bruno Bayeux\, comédien et Sébastien Albillo\, pianiste et comédien  \nRéservation conseillée par mail à librairie.ladistillerie@gmail.com  \nLa lecture de 40 min sera suivie d’un temps convivial. \nEn partenariat avec Lire à Pont-L’Évêque. \nRencontre organisée dans le cadre de l’événement Lire en hiver. \nLire en Hiver\, c’est le meilleur moment pour découvrir les actualités des auteurs\, autrices et maisons d’édition normands\, au plus près de chez vous. Du 20 janvier au 8 février\, partez à la découverte d’univers artistiques et littéraires variés\, dans les bibliothèques et librairies de Normandie. Renseignements : https://www.normandielivre.fr/lire-en-hiver/  \nLibrairie-café La Distillerie
URL:https://www.normandielivre.fr/agenda-collaboratif/lecture-theatralisee-et-musicale-le-murmure-des-victimes-avec-david-coulon/
LOCATION:Librairie-café La Distillerie\, 7 place Vauquelin\, Pont-L'Évêque\, 14130
CATEGORIES:Lecture,Lire en hiver,Rencontre
ATTACH;FMTTYPE=image/png:https://www.normandielivre.fr/wp-content/uploads/2025/11/reseaux-sociaux-_-david-coulon.png
END:VEVENT
END:VCALENDAR