BEGIN:VCALENDAR
VERSION:2.0
PRODID:-//Normandie Livre &amp; Lecture - ECPv6.15.11//NONSGML v1.0//EN
CALSCALE:GREGORIAN
METHOD:PUBLISH
X-WR-CALNAME:Normandie Livre &amp; Lecture
X-ORIGINAL-URL:https://www.normandielivre.fr
X-WR-CALDESC:Évènements pour Normandie Livre &amp; Lecture
REFRESH-INTERVAL;VALUE=DURATION:PT1H
X-Robots-Tag:noindex
X-PUBLISHED-TTL:PT1H
BEGIN:VTIMEZONE
TZID:Europe/Paris
BEGIN:DAYLIGHT
TZOFFSETFROM:+0100
TZOFFSETTO:+0200
TZNAME:CEST
DTSTART:20210328T010000
END:DAYLIGHT
BEGIN:STANDARD
TZOFFSETFROM:+0200
TZOFFSETTO:+0100
TZNAME:CET
DTSTART:20211031T010000
END:STANDARD
BEGIN:DAYLIGHT
TZOFFSETFROM:+0100
TZOFFSETTO:+0200
TZNAME:CEST
DTSTART:20220327T010000
END:DAYLIGHT
BEGIN:STANDARD
TZOFFSETFROM:+0200
TZOFFSETTO:+0100
TZNAME:CET
DTSTART:20221030T010000
END:STANDARD
BEGIN:DAYLIGHT
TZOFFSETFROM:+0100
TZOFFSETTO:+0200
TZNAME:CEST
DTSTART:20230326T010000
END:DAYLIGHT
BEGIN:STANDARD
TZOFFSETFROM:+0200
TZOFFSETTO:+0100
TZNAME:CET
DTSTART:20231029T010000
END:STANDARD
BEGIN:DAYLIGHT
TZOFFSETFROM:+0100
TZOFFSETTO:+0200
TZNAME:CEST
DTSTART:20240331T010000
END:DAYLIGHT
BEGIN:STANDARD
TZOFFSETFROM:+0200
TZOFFSETTO:+0100
TZNAME:CET
DTSTART:20241027T010000
END:STANDARD
END:VTIMEZONE
BEGIN:VEVENT
DTSTART;TZID=Europe/Paris:20230209T193000
DTEND;TZID=Europe/Paris:20230209T213000
DTSTAMP:20260420T114427
CREATED:20230130T085037Z
LAST-MODIFIED:20230130T085037Z
UID:10001480-1675971000-1675978200@www.normandielivre.fr
SUMMARY:Apéro concert avec Salem 2.0
DESCRIPTION:Concert du duo Salem 2.0 – basse et voix. \nUn répertoire pop jazzy de reprises et de compositions. Nombre limité de places. N’hésitez pas à réserver également votre plateau de la Fromagerie de la Basilique: 15€ pour 2 (besoin d’une seule portion\, et/ou de sans gluten et sans lactose ? Dîtes-le nous !) \nLibrairie café Place 26
URL:https://www.normandielivre.fr/agenda-collaboratif/apero-concert-avec-salem-2-0/
LOCATION:Librairie café Place 26\, 26\, place Lesage\, Douvres la Délivrande\, 14440
CATEGORIES:Concert
ATTACH;FMTTYPE=image/png:https://www.normandielivre.fr/wp-content/uploads/2022/09/Capture-décran-2022-09-19-à-10.04.00-e1695983589295.png
END:VEVENT
BEGIN:VEVENT
DTSTART;TZID=Europe/Paris:20230204T110000
DTEND;TZID=Europe/Paris:20230204T123000
DTSTAMP:20260420T114427
CREATED:20230130T084843Z
LAST-MODIFIED:20230130T084843Z
UID:10001479-1675508400-1675513800@www.normandielivre.fr
SUMMARY:Dédicace de Christelle Angano
DESCRIPTION:Venez à la rencontre de l’auteure douvraise Christelle Angano\, pour la réédition augmentée de son roman « La fugue de Julie Anne » (éditions In Octavo). \nLibrairie café Place 26
URL:https://www.normandielivre.fr/agenda-collaboratif/dedicace-de-christelle-angano/
LOCATION:Librairie café Place 26\, 26\, place Lesage\, Douvres la Délivrande\, 14440
CATEGORIES:Dédicace
ATTACH;FMTTYPE=image/png:https://www.normandielivre.fr/wp-content/uploads/2022/09/Capture-décran-2022-09-19-à-10.04.00-e1695983589295.png
END:VEVENT
BEGIN:VEVENT
DTSTART;TZID=Europe/Paris:20221220T150000
DTEND;TZID=Europe/Paris:20221224T163000
DTSTAMP:20260420T114427
CREATED:20221209T081120Z
LAST-MODIFIED:20221209T081120Z
UID:10001460-1671548400-1671899400@www.normandielivre.fr
SUMMARY:Viens écouter une histoire !
DESCRIPTION:Du 20 au 24 décembre inclus\, un barnum attenant à la librairie vous proposera\, en collaboration avec la mairie de Douvres-la-Délivrande\, des lectures pour enfants (à 15h puis à 16h30\, chaque jour) et un décor de Noël propice si vous souhaitez faire des photos. A acheter sous la « tente » : du chocolat chaud\, café\, thé\, rooibos et des pâtisseries artisanales. Vous y trouverez aussi des bénévoles de SOS Méditerranée prêts à faire vos paquets cadeaux\, moyennant un soutien à leur cause\, si vous le voulez bien. \nLibrairie café Place 26
URL:https://www.normandielivre.fr/agenda-collaboratif/viens-ecouter-une-histoire/
LOCATION:Librairie café Place 26\, 26\, place Lesage\, Douvres la Délivrande\, 14440
CATEGORIES:Jeunesse
ORGANIZER;CN="Librairie caf&eacute%3B Place 26":MAILTO:contact@place26.com
END:VEVENT
BEGIN:VEVENT
DTSTART;TZID=Europe/Paris:20221220T150000
DTEND;TZID=Europe/Paris:20221224T163000
DTSTAMP:20260420T114427
CREATED:20221201T090047Z
LAST-MODIFIED:20221201T090047Z
UID:10001456-1671548400-1671899400@www.normandielivre.fr
SUMMARY:Lectures de Noël
DESCRIPTION:Bienvenue dans le barnum installé près de la librairie par la Mairie de Douvres-la-Délivrande! \nUne belle décoration\, et des lectures offertes chaque jour à 15h puis à 16h30. Possibilité d’acheter du chocolat chaud\, du café et des pâtisseries des Desserts lutins. \nLibrairie café Place 26
URL:https://www.normandielivre.fr/agenda-collaboratif/lectures-de-noel/
LOCATION:Librairie café Place 26\, 26\, place Lesage\, Douvres la Délivrande\, 14440
CATEGORIES:Lecture
ATTACH;FMTTYPE=image/png:https://www.normandielivre.fr/wp-content/uploads/2022/09/Capture-décran-2022-09-19-à-10.04.00-e1695983589295.png
ORGANIZER;CN="Librairie caf&eacute%3B Place 26":MAILTO:contact@place26.com
END:VEVENT
BEGIN:VEVENT
DTSTART;TZID=Europe/Paris:20221216T170000
DTEND;TZID=Europe/Paris:20221216T183000
DTSTAMP:20260420T114427
CREATED:20221201T085859Z
LAST-MODIFIED:20221201T085916Z
UID:10001455-1671210000-1671215400@www.normandielivre.fr
SUMMARY:Club de lecture jeunes
DESCRIPTION:Les 8-17 ans sont les bienvenus pour venir parler de leurs coups de coeur\, ou seulement écouter s’ils sont intimidés! \nLibrairie café Place 26
URL:https://www.normandielivre.fr/agenda-collaboratif/club-de-lecture-jeunes-2/
LOCATION:Librairie café Place 26\, 26\, place Lesage\, Douvres la Délivrande\, 14440
CATEGORIES:Club de lecteurs
ATTACH;FMTTYPE=image/png:https://www.normandielivre.fr/wp-content/uploads/2022/09/Capture-décran-2022-09-19-à-10.04.00-e1695983589295.png
ORGANIZER;CN="Librairie caf&eacute%3B Place 26":MAILTO:contact@place26.com
END:VEVENT
BEGIN:VEVENT
DTSTART;TZID=Europe/Paris:20221208T190000
DTEND;TZID=Europe/Paris:20221208T210000
DTSTAMP:20260420T114427
CREATED:20221129T083254Z
LAST-MODIFIED:20221129T083254Z
UID:10001453-1670526000-1670533200@www.normandielivre.fr
SUMMARY:Atelier écriture
DESCRIPTION:Retrouvez l’auteure douvraise Christelle Angano\, et essayez-vous à la rédaction d’un portrait. \nLibrairie café Place 26
URL:https://www.normandielivre.fr/agenda-collaboratif/atelier-ecriture/
LOCATION:Librairie café Place 26\, 26\, place Lesage\, Douvres la Délivrande\, 14440
CATEGORIES:Atelier
ORGANIZER;CN="Librairie caf&eacute%3B Place 26":MAILTO:contact@place26.com
END:VEVENT
BEGIN:VEVENT
DTSTART;VALUE=DATE:20221208
DTEND;VALUE=DATE:20221225
DTSTAMP:20260420T114427
CREATED:20221209T081211Z
LAST-MODIFIED:20221209T081211Z
UID:10001461-1670457600-1671926399@www.normandielivre.fr
SUMMARY:Expo-vente au profit de l'école
DESCRIPTION:Tout au long du mois\, retrouvez sur un mur de la librairie les 15 blasons réalisés grâce à l’association douvraise La Valise. Des pièces de tissu à coudre sur un sac ou un vêtement\, brodées à partir des dessins des élèves de l’école Dian-Fossey\, et vendues au profit de l’établissement . Chaque blason représente un animal en voie de disparition. Les couleurs sont superbes! \nLibrairie café Place 26
URL:https://www.normandielivre.fr/agenda-collaboratif/expo-vente-au-profit-de-lecole/
LOCATION:Librairie café Place 26\, 26\, place Lesage\, Douvres la Délivrande\, 14440
CATEGORIES:Exposition
ATTACH;FMTTYPE=image/jpeg:https://www.normandielivre.fr/wp-content/uploads/2022/12/blason.jpg
END:VEVENT
BEGIN:VEVENT
DTSTART;TZID=Europe/Paris:20221126T103000
DTEND;TZID=Europe/Paris:20221126T123000
DTSTAMP:20260420T114427
CREATED:20221103T101230Z
LAST-MODIFIED:20221103T101230Z
UID:10001395-1669458600-1669465800@www.normandielivre.fr
SUMMARY:Rencontres d'auteurs
DESCRIPTION:Dédicaces de l’auteur Mr Charly\, pour son roman rigolo et local: « A Caen les vacances ! » \nEt du journaliste Germain Arrigoni\, auteur\, avec Faro\, de la BD « Truc de foot ! \nVenez découvrir ces ouvrages dès maintenant en boutique\, pour le plaisir de parler du contenu avec leurs auteurs le jour de la rencontre! \nLibrairie café Place 26
URL:https://www.normandielivre.fr/agenda-collaboratif/rencontres-dauteurs-2/
LOCATION:Librairie café Place 26\, 26\, place Lesage\, Douvres la Délivrande\, 14440
CATEGORIES:Rencontre
ATTACH;FMTTYPE=image/png:https://www.normandielivre.fr/wp-content/uploads/2022/09/Capture-décran-2022-09-19-à-10.04.00-e1695983589295.png
ORGANIZER;CN="Librairie caf&eacute%3B Place 26":MAILTO:contact@place26.com
END:VEVENT
BEGIN:VEVENT
DTSTART;TZID=Europe/Paris:20221123T190000
DTEND;TZID=Europe/Paris:20221123T210000
DTSTAMP:20260420T114427
CREATED:20221103T101114Z
LAST-MODIFIED:20221103T101114Z
UID:10001394-1669230000-1669237200@www.normandielivre.fr
SUMMARY:Club de lecture adultes
DESCRIPTION:Vous êtes les bienvenus pour parler de vos coups de coeur\, prendre de bonnes idées\, ou simplement écouter si vous êtes intimidés. Ambiance détendue garantie! \nLibrairie café Place 26
URL:https://www.normandielivre.fr/agenda-collaboratif/club-de-lecture-adultes/
LOCATION:Librairie café Place 26\, 26\, place Lesage\, Douvres la Délivrande\, 14440
CATEGORIES:Club de lecteurs
ATTACH;FMTTYPE=image/png:https://www.normandielivre.fr/wp-content/uploads/2022/09/Capture-décran-2022-09-19-à-10.04.00-e1695983589295.png
END:VEVENT
BEGIN:VEVENT
DTSTART;TZID=Europe/Paris:20221122T190000
DTEND;TZID=Europe/Paris:20221122T210000
DTSTAMP:20260420T114427
CREATED:20221103T101034Z
LAST-MODIFIED:20221103T101034Z
UID:10001393-1669143600-1669150800@www.normandielivre.fr
SUMMARY:Atelier d'écriture adultes
DESCRIPTION:Encadré par l’auteure douvraise Christelle Angano\, @elephantsetpattesdemouches \nLibrairie café Place 26
URL:https://www.normandielivre.fr/agenda-collaboratif/atelier-decriture-adultes/
LOCATION:Librairie café Place 26\, 26\, place Lesage\, Douvres la Délivrande\, 14440
CATEGORIES:Atelier
ATTACH;FMTTYPE=image/png:https://www.normandielivre.fr/wp-content/uploads/2022/09/Capture-décran-2022-09-19-à-10.04.00-e1695983589295.png
ORGANIZER;CN="Librairie caf&eacute%3B Place 26":MAILTO:contact@place26.com
END:VEVENT
BEGIN:VEVENT
DTSTART;TZID=Europe/Paris:20221118T170000
DTEND;TZID=Europe/Paris:20221118T183000
DTSTAMP:20260420T114427
CREATED:20221103T100857Z
LAST-MODIFIED:20221103T100857Z
UID:10001392-1668790800-1668796200@www.normandielivre.fr
SUMMARY:Club de lecture jeunes
DESCRIPTION:Viens discuter des titres qui t’ont plu ces derniers temps\, et prendre de bonnes idées! Romans\, mangas\, BD\, documentaires… De 8 à 17 ans. \nLibrairie café Place 26
URL:https://www.normandielivre.fr/agenda-collaboratif/club-de-lecture-jeunes/
LOCATION:Librairie café Place 26\, 26\, place Lesage\, Douvres la Délivrande\, 14440
CATEGORIES:Club de lecteurs
ATTACH;FMTTYPE=image/png:https://www.normandielivre.fr/wp-content/uploads/2022/09/Capture-décran-2022-09-19-à-10.04.00-e1695983589295.png
ORGANIZER;CN="Librairie caf&eacute%3B Place 26":MAILTO:contact@place26.com
END:VEVENT
BEGIN:VEVENT
DTSTART;TZID=Europe/Paris:20221027T190000
DTEND;TZID=Europe/Paris:20221027T210000
DTSTAMP:20260420T114427
CREATED:20220919T080245Z
LAST-MODIFIED:20220919T084922Z
UID:10001331-1666897200-1666904400@www.normandielivre.fr
SUMMARY:Atelier d'écriture : épisode 1
DESCRIPTION:La librairie Place 26 vous propose pour la première fois de vous essayer à l’écriture au sein d’un atelier\, animé par l’autrice douvraise Christelle Angano. \nCette fois-ci\, la romancière vous proposera des jeux d’écriture\, pour s’entrainer à se lancer dans la rédaction d’un récit court\, en toute décontraction et sans pression. Pour le plaisir. \nRéservation indispensable\, il y a 8 places.\nDurée : 2 heures. Ouvert aux adultes. \nLibrairie café Place 26
URL:https://www.normandielivre.fr/agenda-collaboratif/atelier-decriture-episode-1/
LOCATION:Librairie café Place 26\, 26\, place Lesage\, Douvres la Délivrande\, 14440
CATEGORIES:Atelier
ATTACH;FMTTYPE=image/png:https://www.normandielivre.fr/wp-content/uploads/2022/09/Capture-décran-2022-09-19-à-10.04.00-e1695983589295.png
ORGANIZER;CN="Librairie caf&eacute%3B Place 26":MAILTO:contact@place26.com
END:VEVENT
BEGIN:VEVENT
DTSTART;TZID=Europe/Paris:20221021T170000
DTEND;TZID=Europe/Paris:20221021T180000
DTSTAMP:20260420T114427
CREATED:20220919T080512Z
LAST-MODIFIED:20220919T085203Z
UID:10001334-1666371600-1666375200@www.normandielivre.fr
SUMMARY:Club de lecture jeunes\, #1
DESCRIPTION:Nouveau à la librairie Place 26 ! Les plus jeunes ont leur club de lecture. Il est ouvert aux 8-17 ans. \nN’hésitez pas à venir parler d’un roman\, essai\, BD… tout ouvrage qui vous a plu. \nVous n’aimez pas prendre la parole? Alors\, écoutez seulement. Et repartez avec de riches idées de lecture pour le mois suivant ! \nS’inscrire n’est pas nécessaire\, entrée libre. \nLibrairie café Place 26
URL:https://www.normandielivre.fr/agenda-collaboratif/club-de-lecture-jeunes-1/
LOCATION:Librairie café Place 26\, 26\, place Lesage\, Douvres la Délivrande\, 14440
CATEGORIES:Club de lecteurs
ATTACH;FMTTYPE=image/png:https://www.normandielivre.fr/wp-content/uploads/2022/09/Capture-décran-2022-09-19-à-10.04.00-e1695983589295.png
ORGANIZER;CN="Librairie caf&eacute%3B Place 26":MAILTO:contact@place26.com
END:VEVENT
BEGIN:VEVENT
DTSTART;TZID=Europe/Paris:20221020T193000
DTEND;TZID=Europe/Paris:20221020T213000
DTSTAMP:20260420T114427
CREATED:20220919T080625Z
LAST-MODIFIED:20220919T083415Z
UID:10001336-1666294200-1666301400@www.normandielivre.fr
SUMMARY:Représentation de la pièce « Branches de vie »
DESCRIPTION:La librairie accueille\, en intérieur\, la représentation de la pièce « Branches de vie »\, écrite et interprétée par Heidi Varin\, mise en scène par Heidi Varin et Emma Chaps. \nL’actrice normande interprète une galerie de personnages que lui a inspiré son observation fine de la société dans laquelle elle vit. Poétique\, grinçant\, drôle\, émouvant. Un spectacle adapté à partir de l’âge de 15 ans. \nDurée : 1 heure\, suivi de la possibilité de consommer sucré\, salé\, en échangeant avec l’artiste.\nLe texte de la pièce est disponible à la librairie\, éditions Les oiseaux du passage. \nRéservations indispensables\, 22 places disponibles. \nLibrairie café Place 26
URL:https://www.normandielivre.fr/agenda-collaboratif/representation-de-la-piece-branches-de-vie/
LOCATION:Librairie café Place 26\, 26\, place Lesage\, Douvres la Délivrande\, 14440
CATEGORIES:Spectacle
ATTACH;FMTTYPE=image/png:https://www.normandielivre.fr/wp-content/uploads/2022/09/Capture-décran-2022-09-19-à-10.04.00-e1695983589295.png
ORGANIZER;CN="Librairie caf&eacute%3B Place 26":MAILTO:contact@place26.com
END:VEVENT
BEGIN:VEVENT
DTSTART;TZID=Europe/Paris:20220928T190000
DTEND;TZID=Europe/Paris:20220928T210000
DTSTAMP:20260420T114427
CREATED:20220919T082000Z
LAST-MODIFIED:20220919T082000Z
UID:10001341-1664391600-1664398800@www.normandielivre.fr
SUMMARY:Club de lecture adultes de septembre
DESCRIPTION:Rendez-vous à la librairie après la fermeture. Participation sans réservations. Les adultes présentent le livre qui leur a plus le mois écoulé. \nRomans\, essais\, BD\, nouveautés ou classiques… \nComme il vous plaît! \nLibrairie café Place 26
URL:https://www.normandielivre.fr/agenda-collaboratif/club-de-lecture-adultes-de-septembre/
LOCATION:Librairie café Place 26\, 26\, place Lesage\, Douvres la Délivrande\, 14440
CATEGORIES:Club de lecteurs
ATTACH;FMTTYPE=image/png:https://www.normandielivre.fr/wp-content/uploads/2022/09/Capture-décran-2022-09-19-à-10.04.00-e1695983589295.png
ORGANIZER;CN="Librairie caf&eacute%3B Place 26":MAILTO:contact@place26.com
END:VEVENT
END:VCALENDAR