BEGIN:VCALENDAR
VERSION:2.0
PRODID:-//Normandie Livre &amp; Lecture - ECPv6.15.11//NONSGML v1.0//EN
CALSCALE:GREGORIAN
METHOD:PUBLISH
X-WR-CALNAME:Normandie Livre &amp; Lecture
X-ORIGINAL-URL:https://www.normandielivre.fr
X-WR-CALDESC:Évènements pour Normandie Livre &amp; Lecture
REFRESH-INTERVAL;VALUE=DURATION:PT1H
X-Robots-Tag:noindex
X-PUBLISHED-TTL:PT1H
BEGIN:VTIMEZONE
TZID:Europe/Paris
BEGIN:DAYLIGHT
TZOFFSETFROM:+0100
TZOFFSETTO:+0200
TZNAME:CEST
DTSTART:20230326T010000
END:DAYLIGHT
BEGIN:STANDARD
TZOFFSETFROM:+0200
TZOFFSETTO:+0100
TZNAME:CET
DTSTART:20231029T010000
END:STANDARD
BEGIN:DAYLIGHT
TZOFFSETFROM:+0100
TZOFFSETTO:+0200
TZNAME:CEST
DTSTART:20240331T010000
END:DAYLIGHT
BEGIN:STANDARD
TZOFFSETFROM:+0200
TZOFFSETTO:+0100
TZNAME:CET
DTSTART:20241027T010000
END:STANDARD
BEGIN:DAYLIGHT
TZOFFSETFROM:+0100
TZOFFSETTO:+0200
TZNAME:CEST
DTSTART:20250330T010000
END:DAYLIGHT
BEGIN:STANDARD
TZOFFSETFROM:+0200
TZOFFSETTO:+0100
TZNAME:CET
DTSTART:20251026T010000
END:STANDARD
BEGIN:DAYLIGHT
TZOFFSETFROM:+0100
TZOFFSETTO:+0200
TZNAME:CEST
DTSTART:20260329T010000
END:DAYLIGHT
BEGIN:STANDARD
TZOFFSETFROM:+0200
TZOFFSETTO:+0100
TZNAME:CET
DTSTART:20261025T010000
END:STANDARD
END:VTIMEZONE
BEGIN:VEVENT
DTSTART;TZID=Europe/Paris:20250705T110000
DTEND;TZID=Europe/Paris:20250705T120000
DTSTAMP:20260419T183705
CREATED:20250703T072655Z
LAST-MODIFIED:20250703T072655Z
UID:10002445-1751713200-1751716800@www.normandielivre.fr
SUMMARY:Des livres pour l'été
DESCRIPTION:Envie d’idées de romans pour la plage\, ou tout autre lieu pendant vos vacances d’été? \nRetrouvez-nous Place 26! \nLibrairie café Place 26
URL:https://www.normandielivre.fr/agenda-collaboratif/des-livres-pour-lete/
LOCATION:Librairie café Place 26\, 26\, place Lesage\, Douvres la Délivrande\, 14440
ATTACH;FMTTYPE=image/png:https://www.normandielivre.fr/wp-content/uploads/2022/09/Capture-décran-2022-09-19-à-10.04.00-e1695983589295.png
ORGANIZER;CN="Librairie caf&eacute%3B Place 26":MAILTO:contact@place26.com
END:VEVENT
BEGIN:VEVENT
DTSTART;TZID=Europe/Paris:20250524T100000
DTEND;TZID=Europe/Paris:20250524T180000
DTSTAMP:20260419T183705
CREATED:20250429T115254Z
LAST-MODIFIED:20250429T115254Z
UID:10002302-1748080800-1748109600@www.normandielivre.fr
SUMMARY:Rencontre -  dédicace Bruno Scudeller
DESCRIPTION:Rencontre suivie d’une dédicace avec Bruno Scudeller : place à un enquêteur expert en graphilogie. Deux tomes: « Manuscripto : Flandrin » et « Manuscipto : les lettres masquées de Venise » \nLibrairie café Place 26
URL:https://www.normandielivre.fr/agenda-collaboratif/rencontre-dedicace-bruno-scudeller/
LOCATION:Librairie café Place 26\, 26\, place Lesage\, Douvres la Délivrande\, 14440
CATEGORIES:Rencontre
ATTACH;FMTTYPE=image/png:https://www.normandielivre.fr/wp-content/uploads/2022/09/Capture-décran-2022-09-19-à-10.04.00-e1695983589295.png
ORGANIZER;CN="Librairie caf&eacute%3B Place 26":MAILTO:contact@place26.com
END:VEVENT
BEGIN:VEVENT
DTSTART;VALUE=DATE:20250517
DTEND;VALUE=DATE:20250518
DTSTAMP:20260419T183705
CREATED:20250429T114959Z
LAST-MODIFIED:20250429T114959Z
UID:10002301-1747440000-1747526399@www.normandielivre.fr
SUMMARY:Deux dédicaces : Julys Thild et Charlie Jdan
DESCRIPTION:Rencontre-dédicace de deux auteures : Julys Thild d’une part\, jeune romancière et éditrice de titres fantasy et\, avec « Victoire »\, du portrait d’une jeune femme dyspraxique. \nD’autre part Charlie Jdan\, qui a écrit « L’ombre » (Diamant éditions)\, un titre de dark romance\, adapté aux lecteurs dys. \nLibrairie café Place 26
URL:https://www.normandielivre.fr/agenda-collaboratif/deux-dedicaces-julys-thild-et-charlie-jdan/
LOCATION:Librairie café Place 26\, 26\, place Lesage\, Douvres la Délivrande\, 14440
CATEGORIES:Dédicace
ATTACH;FMTTYPE=image/png:https://www.normandielivre.fr/wp-content/uploads/2022/09/Capture-décran-2022-09-19-à-10.04.00-e1695983589295.png
ORGANIZER;CN="Librairie caf&eacute%3B Place 26":MAILTO:contact@place26.com
END:VEVENT
BEGIN:VEVENT
DTSTART;TZID=Europe/Paris:20250419T143000
DTEND;TZID=Europe/Paris:20250419T160000
DTSTAMP:20260419T183705
CREATED:20250324T092300Z
LAST-MODIFIED:20250324T092300Z
UID:10002252-1745073000-1745078400@www.normandielivre.fr
SUMMARY:14/25 ans : club de lecture
DESCRIPTION:Rendez-vous pour évoquer vos lectures à vous\, les jeunes adultes. Et prendre de bonnes idées si vous manquez d’inspiration. Littérature\, policiers\, sentimentaux\, essais\, BD\, mangas… \nEntrée libre. \nLibrairie café Place 26
URL:https://www.normandielivre.fr/agenda-collaboratif/14-25-ans-club-de-lecture/
LOCATION:Librairie café Place 26\, 26\, place Lesage\, Douvres la Délivrande\, 14440
CATEGORIES:Club de lecteurs
ORGANIZER;CN="Librairie caf&eacute%3B Place 26":MAILTO:contact@place26.com
END:VEVENT
BEGIN:VEVENT
DTSTART;TZID=Europe/Paris:20250416T180000
DTEND;TZID=Europe/Paris:20250416T193000
DTSTAMP:20260419T183705
CREATED:20250324T092210Z
LAST-MODIFIED:20250324T092210Z
UID:10002251-1744826400-1744831800@www.normandielivre.fr
SUMMARY:14/25 ans : club de lecture d’avril
DESCRIPTION:Rendez-vous pour évoquer vos lectures à vous\, les jeunes adultes. Et prendre de bonnes idées si vous manquez d’inspiration. Littérature\, policiers\, sentimentaux\, essais\, BD\, mangas… \nEntrée libre. \nLibrairie café Place 26
URL:https://www.normandielivre.fr/agenda-collaboratif/14-25-ans-club-de-lecture-davril/
LOCATION:Librairie café Place 26\, 26\, place Lesage\, Douvres la Délivrande\, 14440
CATEGORIES:Club de lecteurs
ORGANIZER;CN="Librairie caf&eacute%3B Place 26":MAILTO:contact@place26.com
END:VEVENT
BEGIN:VEVENT
DTSTART;TZID=Europe/Paris:20250327T190000
DTEND;TZID=Europe/Paris:20250327T210000
DTSTAMP:20260419T183705
CREATED:20250228T093305Z
LAST-MODIFIED:20250228T093305Z
UID:10002169-1743102000-1743109200@www.normandielivre.fr
SUMMARY:Blabl'apéro
DESCRIPTION:Rencontre entre nouveaux sur la Côte de Nacre\, et anciens ! \nL’occasion de rencontrer des personnes\, de découvrir des associations\, des lieux de balade… \nBuffet (plateaux fromage-charcuterie de la Fromagerie de la Basilique) : 12€\, hors boissons. \nSur réservation. \nLibrairie café Place 26
URL:https://www.normandielivre.fr/agenda-collaboratif/blablapero-4/
LOCATION:Librairie café Place 26\, 26\, place Lesage\, Douvres la Délivrande\, 14440
ORGANIZER;CN="Librairie caf&eacute%3B Place 26":MAILTO:contact@place26.com
END:VEVENT
BEGIN:VEVENT
DTSTART;TZID=Europe/Paris:20250320T193000
DTEND;TZID=Europe/Paris:20250320T210000
DTSTAMP:20260419T183705
CREATED:20250228T090943Z
LAST-MODIFIED:20250228T090943Z
UID:10002168-1742499000-1742504400@www.normandielivre.fr
SUMMARY:Représentation poétique
DESCRIPTION:Spectacle dans le cadre du Printemps des poètes avec Elodie Huet et sa création : « Jacinthe Sonore ou le miaulement des Pâquerettes ». \nRéservation indispensable. \nUn spectacle de 50 minutes\, suivi de la dédicace du recueil de poésie de l’artiste\, paru aux éditions Color gang en août 2024. \nTarif: 10 euros/pers. pour le cachet de l’artiste. \nPossibilité de prendre un plateau fromage-charcuterie de la Fromagerie de la Basilique : 12eur/pers. hors boissons. \nLibrairie café Place 26
URL:https://www.normandielivre.fr/agenda-collaboratif/representation-poetique/
LOCATION:Librairie café Place 26\, 26\, place Lesage\, Douvres la Délivrande\, 14440
CATEGORIES:Spectacle
ATTACH;FMTTYPE=image/jpeg:https://www.normandielivre.fr/wp-content/uploads/2025/02/IMG-3174-scaled.jpg
ORGANIZER;CN="Librairie caf&eacute%3B Place 26":MAILTO:contact@place26.com
END:VEVENT
BEGIN:VEVENT
DTSTART;TZID=Europe/Paris:20250226T180000
DTEND;TZID=Europe/Paris:20250226T193000
DTSTAMP:20260419T183705
CREATED:20250203T141734Z
LAST-MODIFIED:20250203T141734Z
UID:10002131-1740592800-1740598200@www.normandielivre.fr
SUMMARY:Adultes: club de lecture
DESCRIPTION:C’est l’occasion de partager vos romans\, polars\, mangas\, essais\, BD préférés. \nOu simplement d’écouter\, si vous n’aimez pas prendre la parole en public. \nPour les adultes. \nLibrairie café Place 26
URL:https://www.normandielivre.fr/agenda-collaboratif/adultes-club-de-lecture/
LOCATION:Librairie café Place 26\, 26\, place Lesage\, Douvres la Délivrande\, 14440
CATEGORIES:Club de lecteurs
END:VEVENT
BEGIN:VEVENT
DTSTART;TZID=Europe/Paris:20250208T143000
DTEND;TZID=Europe/Paris:20250208T160000
DTSTAMP:20260419T183705
CREATED:20250203T135821Z
LAST-MODIFIED:20250203T135821Z
UID:10002130-1739025000-1739030400@www.normandielivre.fr
SUMMARY:Club de lecture jeunes adultes
DESCRIPTION:C’est l’occasion de partager vos romans\, polars\, mangas\, essais\, BD préférés. \nOu simplement d’écouter\, si vous n’aimez pas prendre la parole en public. \nPour les 14 ans à 25 ans environ. \nAnimé par notre libraire Manon. \nLibrairie café Place 26
URL:https://www.normandielivre.fr/agenda-collaboratif/club-de-lecture-jeunes-adultes/
LOCATION:Librairie café Place 26\, 26\, place Lesage\, Douvres la Délivrande\, 14440
CATEGORIES:Club de lecteurs
END:VEVENT
BEGIN:VEVENT
DTSTART;TZID=Europe/Paris:20250115T103000
DTEND;TZID=Europe/Paris:20250115T114500
DTSTAMP:20260419T183705
CREATED:20250102T095727Z
LAST-MODIFIED:20250102T095727Z
UID:10002093-1736937000-1736941500@www.normandielivre.fr
SUMMARY:Atelier musique et sophrologie
DESCRIPTION:Atelier avec Émeline\, sophrologue de « Mots et sens »\, à l’occasion de la semaine de la sensibilité : « Émotions : prendre confiance grâce à la musique». Sur\nréservation. \nA partir de 13 ans\, accompagné. \nLibrairie café Place 26
URL:https://www.normandielivre.fr/agenda-collaboratif/atelier-musique-et-sophrologie/
LOCATION:Librairie café Place 26\, 26\, place Lesage\, Douvres la Délivrande\, 14440
CATEGORIES:Atelier
ATTACH;FMTTYPE=image/png:https://www.normandielivre.fr/wp-content/uploads/2022/09/Capture-décran-2022-09-19-à-10.04.00-e1695983589295.png
END:VEVENT
BEGIN:VEVENT
DTSTART;TZID=Europe/Paris:20241221T113000
DTEND;TZID=Europe/Paris:20241221T143000
DTSTAMP:20260419T183705
CREATED:20241014T151052Z
LAST-MODIFIED:20241014T151118Z
UID:10002009-1734780600-1734791400@www.normandielivre.fr
SUMMARY:Rencontre dédicace avec Jean Leveugle : "Géographia"\, roman graphique
DESCRIPTION:L’auteur d’origine douvraise a signé une BD de vulgarisation de l’histoire de la cartographie\, éditée chez Futuropolis. \nLa dédicace démarre à 11h30. A 12h30\, échange plus long avec questions/réponses\, sur réservation uniquement. \nLibrairie café Place 26
URL:https://www.normandielivre.fr/agenda-collaboratif/rencontre-dedicace-avec-jean-leveugle-geographia-roman-graphique/
LOCATION:Librairie café Place 26\, 26\, place Lesage\, Douvres la Délivrande\, 14440
CATEGORIES:Dédicace,Rencontre
ATTACH;FMTTYPE=image/png:https://www.normandielivre.fr/wp-content/uploads/2022/09/Capture-décran-2022-09-19-à-10.04.00-e1695983589295.png
ORGANIZER;CN="Librairie caf&eacute%3B Place 26":MAILTO:contact@place26.com
END:VEVENT
BEGIN:VEVENT
DTSTART;TZID=Europe/Paris:20241221T113000
DTEND;TZID=Europe/Paris:20241221T140000
DTSTAMP:20260419T183705
CREATED:20241126T113109Z
LAST-MODIFIED:20241126T113129Z
UID:10002053-1734780600-1734789600@www.normandielivre.fr
SUMMARY:Rencontre avec Jean Leveugle\, "Géographia"
DESCRIPTION:Rencontre suivie d’une dédicace avec le Douvrais Alain Leveugle\, qui vient de sortir un roman graphique chez Futuropolis\, intitulé « Géographia ». \nEn collaboration avec la Bibliothèque nationale de France\, le livre rend accessible l’histoire des représentations du monde par les Hommes depuis l’Antiquité. Drôle\, instructif et parfaitement documenté ! \nLibrairie café Place 26
URL:https://www.normandielivre.fr/agenda-collaboratif/rencontre-avec-jean-leveugle-geographia/
LOCATION:Librairie café Place 26\, 26\, place Lesage\, Douvres la Délivrande\, 14440
CATEGORIES:Rencontre
ATTACH;FMTTYPE=image/png:https://www.normandielivre.fr/wp-content/uploads/2022/09/Capture-décran-2022-09-19-à-10.04.00-e1695983589295.png
ORGANIZER;CN="Librairie caf&eacute%3B Place 26":MAILTO:contact@place26.com
END:VEVENT
BEGIN:VEVENT
DTSTART;TZID=Europe/Paris:20241214T160000
DTEND;TZID=Europe/Paris:20241214T180000
DTSTAMP:20260419T183705
CREATED:20241014T150355Z
LAST-MODIFIED:20241014T150355Z
UID:10002010-1734192000-1734199200@www.normandielivre.fr
SUMMARY:Alain Decker : "Jours de ténèbres"\, polar
DESCRIPTION:L’auteur de Ouistreham aux attaches caennaises\, nous embarque en Californie\, avec ce polar édité désormais chez Pocket\, lauréat du Grand Prix des enquêteurs 2023. \nVenez le rencontrer et (vous) offrir une dédicace! \nLibrairie café Place 26
URL:https://www.normandielivre.fr/agenda-collaboratif/alain-decker-jours-de-tenebres-polar/
LOCATION:Librairie café Place 26\, 26\, place Lesage\, Douvres la Délivrande\, 14440
CATEGORIES:Dédicace
ATTACH;FMTTYPE=image/png:https://www.normandielivre.fr/wp-content/uploads/2022/09/Capture-décran-2022-09-19-à-10.04.00-e1695983589295.png
ORGANIZER;CN="Librairie caf&eacute%3B Place 26":MAILTO:contact@place26.com
END:VEVENT
BEGIN:VEVENT
DTSTART;TZID=Europe/Paris:20241128T180000
DTEND;TZID=Europe/Paris:20241128T200000
DTSTAMP:20260419T183705
CREATED:20241024T084910Z
LAST-MODIFIED:20241024T085605Z
UID:10002022-1732816800-1732824000@www.normandielivre.fr
SUMMARY:Rencontre avec Ulf Kvensler\, auteur suédois
DESCRIPTION:Dans le cadre du festival des Boréales\, la librairie accueille l’auteur (et scénariste) suédois Ulf Kvensler. Pour ses deux romans\, « Sarek »\, et « Au nom du père »\, des thrillers réussis. \nVenez discuter avec le roi des histoires où la manipulation n’est jamais en reste ! \nSur réservations uniquement. \nLibrairie café Place 26
URL:https://www.normandielivre.fr/agenda-collaboratif/rencontre-avec-ulf-kvensler-auteur-suedois/
LOCATION:Librairie café Place 26\, 26\, place Lesage\, Douvres la Délivrande\, 14440
CATEGORIES:Rencontre
ATTACH;FMTTYPE=image/png:https://www.normandielivre.fr/wp-content/uploads/2022/09/Capture-décran-2022-09-19-à-10.04.00-e1695983589295.png
ORGANIZER;CN="Librairie caf&eacute%3B Place 26":MAILTO:contact@place26.com
END:VEVENT
BEGIN:VEVENT
DTSTART;TZID=Europe/Paris:20241109T103000
DTEND;TZID=Europe/Paris:20241109T123000
DTSTAMP:20260419T183705
CREATED:20241014T150832Z
LAST-MODIFIED:20241014T150859Z
UID:10002008-1731148200-1731155400@www.normandielivre.fr
SUMMARY:FX Cottin: "Les Jardins de Mandela"
DESCRIPTION:La librairie reçoit l’auteur normand\, édité chez Fayard. Pour une dédicace. \nMais aussi une rencontre plus longue avec questions/réponses à 10h30 puis à 16h. \nVenez découvrir ce roman touchant sur les efforts au quotidien de professeurs caennais\, qui défendent les conditions de travail de leurs élèves en zone d’éducation prioritaire. \nLibrairie café Place 26
URL:https://www.normandielivre.fr/agenda-collaboratif/fx-cottin-les-jardins-de-mandela/
LOCATION:Librairie café Place 26\, 26\, place Lesage\, Douvres la Délivrande\, 14440
CATEGORIES:Dédicace,Rencontre
ATTACH;FMTTYPE=image/png:https://www.normandielivre.fr/wp-content/uploads/2022/09/Capture-décran-2022-09-19-à-10.04.00-e1695983589295.png
ORGANIZER;CN="Librairie caf&eacute%3B Place 26":MAILTO:contact@place26.com
END:VEVENT
BEGIN:VEVENT
DTSTART;TZID=Europe/Paris:20240911T190000
DTEND;TZID=Europe/Paris:20240911T213000
DTSTAMP:20260419T183705
CREATED:20240822T102744Z
LAST-MODIFIED:20240822T102744Z
UID:10001939-1726081200-1726090200@www.normandielivre.fr
SUMMARY:Blabl'apéro
DESCRIPTION:Rendez-vous autour du buffet de la Fromagerie de la Basilique\, à Place 26\, pour les nouveaux habitants de la Côte de Nacre\, et les habitués. \nEn collaboration avec l’agence Caen et Mer Immo. \nTarif : 10 euros / pers. hors boissons. \nSur réservation Place 26. \nLibrairie café Place 26
URL:https://www.normandielivre.fr/agenda-collaboratif/blablapero-3/
LOCATION:Librairie café Place 26\, 26\, place Lesage\, Douvres la Délivrande\, 14440
ATTACH;FMTTYPE=image/png:https://www.normandielivre.fr/wp-content/uploads/2022/09/Capture-décran-2022-09-19-à-10.04.00-e1695983589295.png
ORGANIZER;CN="Librairie caf&eacute%3B Place 26":MAILTO:contact@place26.com
END:VEVENT
BEGIN:VEVENT
DTSTART;TZID=Europe/Paris:20240828T160000
DTEND;TZID=Europe/Paris:20240828T173000
DTSTAMP:20260419T183705
CREATED:20240626T125450Z
LAST-MODIFIED:20240626T125450Z
UID:10001906-1724860800-1724866200@www.normandielivre.fr
SUMMARY:Atelier goûter avec Claire Lamy
DESCRIPTION:Claire Lamy de « Claire & vous » vous propose un joyeux moment en famille autour de jeux de société sur la gestion des émotions\, avec un goûter. \nSur réservation. \nLe tarif comprend l’atelier\, un sirop artisanal et une pâtisserie. \nLibrairie café Place 26
URL:https://www.normandielivre.fr/agenda-collaboratif/atelier-gouter-avec-claire-lamy-2/
LOCATION:Librairie café Place 26\, 26\, place Lesage\, Douvres la Délivrande\, 14440
CATEGORIES:Atelier
ATTACH;FMTTYPE=image/png:https://www.normandielivre.fr/wp-content/uploads/2022/09/Capture-décran-2022-09-19-à-10.04.00-e1695983589295.png
ORGANIZER;CN="Librairie caf&eacute%3B Place 26":MAILTO:contact@place26.com
END:VEVENT
BEGIN:VEVENT
DTSTART;TZID=Europe/Paris:20240813T170000
DTEND;TZID=Europe/Paris:20240813T190000
DTSTAMP:20260419T183705
CREATED:20240624T092116Z
LAST-MODIFIED:20240624T092116Z
UID:10001901-1723568400-1723575600@www.normandielivre.fr
SUMMARY:Douvres estival #2
DESCRIPTION:La librairie café Place 26 organise une rencontre touristique avec les acteurs locaux. \nVacanciers ou non\, vous êtes les bienvenus pour en savoir plus sur les lieux de visites à Douvres: Basilique\, chapelle Lalique\, Radar… \nDégustation d’alcool et présence du fromager. \nLibrairie café Place 26
URL:https://www.normandielivre.fr/agenda-collaboratif/douvres-estival-2/
LOCATION:Librairie café Place 26\, 26\, place Lesage\, Douvres la Délivrande\, 14440
CATEGORIES:Rencontre
ATTACH;FMTTYPE=image/png:https://www.normandielivre.fr/wp-content/uploads/2022/09/Capture-décran-2022-09-19-à-10.04.00-e1695983589295.png
ORGANIZER;CN="Librairie caf&eacute%3B Place 26":MAILTO:contact@place26.com
END:VEVENT
BEGIN:VEVENT
DTSTART;TZID=Europe/Paris:20240727T143000
DTEND;TZID=Europe/Paris:20240727T173000
DTSTAMP:20260419T183705
CREATED:20240624T082028Z
LAST-MODIFIED:20240624T082114Z
UID:10001897-1722090600-1722101400@www.normandielivre.fr
SUMMARY:Jean-Blaise Djian\, BD "Juin 44"
DESCRIPTION:Le scénariste de la bande dessinée « Normandie juin 44 »\, Jean-Blaise Djian\, intervient dans votre librairie pour une séance de dédicaces. \nNotamment avec le dernier tome 10\, « La 2e DB du Général Leclerc ». \nLibrairie café Place 26
URL:https://www.normandielivre.fr/agenda-collaboratif/jean-blaise-djian-bd-juin-44/
LOCATION:Librairie café Place 26\, 26\, place Lesage\, Douvres la Délivrande\, 14440
CATEGORIES:Dédicace
ATTACH;FMTTYPE=image/png:https://www.normandielivre.fr/wp-content/uploads/2022/09/Capture-décran-2022-09-19-à-10.04.00-e1695983589295.png
ORGANIZER;CN="Librairie caf&eacute%3B Place 26":MAILTO:contact@place26.com
END:VEVENT
BEGIN:VEVENT
DTSTART;TZID=Europe/Paris:20240724T160000
DTEND;TZID=Europe/Paris:20240724T173000
DTSTAMP:20260419T183705
CREATED:20240624T091729Z
LAST-MODIFIED:20240624T091729Z
UID:10001900-1721836800-1721842200@www.normandielivre.fr
SUMMARY:Atelier goûter avec Claire Lamy
DESCRIPTION:Animation. Claire Lamy de «Claire & vous» vous propose un joyeux moment en famille autour de jeux de société sur la gestion des émotions\, avec un goûter. \nSur réservation. \nLe tarif comprend l’atelier\, un sirop artisanal et une pâtisserie. \nLibrairie café Place 26
URL:https://www.normandielivre.fr/agenda-collaboratif/atelier-gouter-avec-claire-lamy/
LOCATION:Librairie café Place 26\, 26\, place Lesage\, Douvres la Délivrande\, 14440
CATEGORIES:Atelier
ATTACH;FMTTYPE=image/png:https://www.normandielivre.fr/wp-content/uploads/2022/09/Capture-décran-2022-09-19-à-10.04.00-e1695983589295.png
ORGANIZER;CN="Librairie caf&eacute%3B Place 26":MAILTO:contact@place26.com
END:VEVENT
BEGIN:VEVENT
DTSTART;TZID=Europe/Paris:20240716T170000
DTEND;TZID=Europe/Paris:20240716T190000
DTSTAMP:20260419T183705
CREATED:20240624T090941Z
LAST-MODIFIED:20240624T091242Z
UID:10001898-1721149200-1721156400@www.normandielivre.fr
SUMMARY:Douvres estival #1
DESCRIPTION:La librairie café Place 26 organise une rencontre touristique avec les acteurs locaux. \nVacanciers ou non\, vous êtes les bienvenus pour en savoir plus sur les lieux de visites à Douvres : Basilique\, chapelle Lalique\, Radar… \nDégustation d’alcool et présence du fromager. \nLibrairie café Place 26
URL:https://www.normandielivre.fr/agenda-collaboratif/douvres-estival-1/
LOCATION:Librairie café Place 26\, 26\, place Lesage\, Douvres la Délivrande\, 14440
CATEGORIES:Rencontre
ATTACH;FMTTYPE=image/png:https://www.normandielivre.fr/wp-content/uploads/2022/09/Capture-décran-2022-09-19-à-10.04.00-e1695983589295.png
ORGANIZER;CN="Librairie caf&eacute%3B Place 26":MAILTO:contact@place26.com
END:VEVENT
BEGIN:VEVENT
DTSTART;TZID=Europe/Paris:20240713T160000
DTEND;TZID=Europe/Paris:20240713T173000
DTSTAMP:20260419T183705
CREATED:20240621T075858Z
LAST-MODIFIED:20240621T075949Z
UID:10001895-1720886400-1720891800@www.normandielivre.fr
SUMMARY:Atelier jeux en famille avec Claire Lamy
DESCRIPTION:Claire Lamy de « Claire et vous » vous propose un joyeux moment en famille autour de jeux de société sur la gestion des émotions\, avec un goûter. \nSur réservation. \nLe tarif comprend l’atelier\, un sirop artisanal et une pâtisserie. \nLibrairie café Place 26
URL:https://www.normandielivre.fr/agenda-collaboratif/claire-lamy/
LOCATION:Librairie café Place 26\, 26\, place Lesage\, Douvres la Délivrande\, 14440
CATEGORIES:Atelier
ATTACH;FMTTYPE=image/png:https://www.normandielivre.fr/wp-content/uploads/2022/09/Capture-décran-2022-09-19-à-10.04.00-e1695983589295.png
ORGANIZER;CN="Librairie caf&eacute%3B Place 26":MAILTO:contact@place26.com
END:VEVENT
BEGIN:VEVENT
DTSTART;TZID=Europe/Paris:20240622T130000
DTEND;TZID=Europe/Paris:20240622T140000
DTSTAMP:20260419T183705
CREATED:20240517T125540Z
LAST-MODIFIED:20240517T125540Z
UID:10001867-1719061200-1719064800@www.normandielivre.fr
SUMMARY:Le savoir-être dans l'accompagnement
DESCRIPTION:Elsa Letellier\, de la structure « Elsavec toi »\, vient parler avec vous des possibilités de soutenir des personnes qui souffrent d’un handicap\, ou d’une difficulté passagère. \nParticipation libre pour la conférencière\, consommation côté salon de thé appréciée. \nLibrairie café Place 26
URL:https://www.normandielivre.fr/agenda-collaboratif/le-savoir-etre-dans-laccompagnement/
LOCATION:Librairie café Place 26\, 26\, place Lesage\, Douvres la Délivrande\, 14440
CATEGORIES:Rencontre
ATTACH;FMTTYPE=image/png:https://www.normandielivre.fr/wp-content/uploads/2022/09/Capture-décran-2022-09-19-à-10.04.00-e1695983589295.png
ORGANIZER;CN="Librairie caf&eacute%3B Place 26":MAILTO:contact@place26.com
END:VEVENT
BEGIN:VEVENT
DTSTART;TZID=Europe/Paris:20240613T180000
DTEND;TZID=Europe/Paris:20240613T193000
DTSTAMP:20260419T183705
CREATED:20240517T074206Z
LAST-MODIFIED:20240517T095127Z
UID:10001866-1718301600-1718307000@www.normandielivre.fr
SUMMARY:Nos coups de coeur
DESCRIPTION:Deux de vos libraires vous présentent leurs coups de coeur pour un été de lectures rafraîchissantes et réconfortantes. \nVenez échanger avec nous! \nLibrairie café Place 26
URL:https://www.normandielivre.fr/agenda-collaboratif/nos-coups-de-coeur/
LOCATION:Librairie café Place 26\, 26\, place Lesage\, Douvres la Délivrande\, 14440
ATTACH;FMTTYPE=image/png:https://www.normandielivre.fr/wp-content/uploads/2022/09/Capture-décran-2022-09-19-à-10.04.00-e1695983589295.png
ORGANIZER;CN="Librairie caf&eacute%3B Place 26":MAILTO:contact@place26.com
END:VEVENT
BEGIN:VEVENT
DTSTART;TZID=Europe/Paris:20240601T160000
DTEND;TZID=Europe/Paris:20240601T180000
DTSTAMP:20260419T183705
CREATED:20240516T152014Z
LAST-MODIFIED:20240516T152014Z
UID:10001865-1717257600-1717264800@www.normandielivre.fr
SUMMARY:Rencontre avec Laure Gombault
DESCRIPTION:L’auteure normande présente son tout dernier ouvrage\, la vie romancée de sa tante. Intitulé « Nelly: portrait d’une incandescente »\, le livre est paru aux éditions l’Emmanuel au printemps 2024. \nLibrairie café Place 26
URL:https://www.normandielivre.fr/agenda-collaboratif/rencontre-avec-laure-gombault/
LOCATION:Librairie café Place 26\, 26\, place Lesage\, Douvres la Délivrande\, 14440
CATEGORIES:Rencontre
ATTACH;FMTTYPE=image/png:https://www.normandielivre.fr/wp-content/uploads/2022/09/Capture-décran-2022-09-19-à-10.04.00-e1695983589295.png
ORGANIZER;CN="Librairie caf&eacute%3B Place 26":MAILTO:contact@place26.com
END:VEVENT
BEGIN:VEVENT
DTSTART;TZID=Europe/Paris:20240530T193000
DTEND;TZID=Europe/Paris:20240530T213000
DTSTAMP:20260419T183705
CREATED:20240502T094313Z
LAST-MODIFIED:20240506T100107Z
UID:10001844-1717097400-1717104600@www.normandielivre.fr
SUMMARY:Spectacle "Puisqu'elle est là : May lit ça… Betty sings"
DESCRIPTION:Spectacle musical « Puisqu’elle est là : May lit ça… Betty sings »\, avec Betty Jardin et May-Lisa Lebert. \nL’une interprète ses compostions\, la seconde l’accompagne avec textes\, poèmes\, rythmique. \nEntrée : 10 euros par personne pour le cachet des artistes. \nPlateau de la Fromagerie de la Basilique : 8 euros/personne\, \nhors boissons. \nSur réservation. \nLibrairie café Place 26
URL:https://www.normandielivre.fr/agenda-collaboratif/spectacle-puisquelle-est-la-may-lit-ca-betty-sings-a-la-librairie/
LOCATION:Librairie café Place 26\, 26\, place Lesage\, Douvres la Délivrande\, 14440
CATEGORIES:Spectacle
ORGANIZER;CN="Librairie caf&eacute%3B Place 26":MAILTO:contact@place26.com
END:VEVENT
BEGIN:VEVENT
DTSTART;TZID=Europe/Paris:20240511T103000
DTEND;TZID=Europe/Paris:20240511T123000
DTSTAMP:20260419T183705
CREATED:20240329T082147Z
LAST-MODIFIED:20240329T082147Z
UID:10001804-1715423400-1715430600@www.normandielivre.fr
SUMMARY:Rencontre avec Rémi Piélot
DESCRIPTION:L’auteur des albums « Walter » décrit les épisodes marquants de la jeunesse de Walter d’Isigny\, alias Walt Disney. \nDrôle et insctructive\, chaque anecdote repose sur des faits historiques. \nLibrairie café Place 26
URL:https://www.normandielivre.fr/agenda-collaboratif/rencontre-avec-remi-pielot/
LOCATION:Librairie café Place 26\, 26\, place Lesage\, Douvres la Délivrande\, 14440
CATEGORIES:Rencontre
ORGANIZER;CN="Librairie caf&eacute%3B Place 26":MAILTO:contact@place26.com
END:VEVENT
BEGIN:VEVENT
DTSTART;TZID=Europe/Paris:20240425T193000
DTEND;TZID=Europe/Paris:20240425T213000
DTSTAMP:20260419T183705
CREATED:20240329T081435Z
LAST-MODIFIED:20240329T081606Z
UID:10001803-1714073400-1714080600@www.normandielivre.fr
SUMMARY:Spectacle musical
DESCRIPTION:L’auteur et interprète Spleen l’Ancien (Hervé Gissot) est accompagné d’un guitariste et propose ses textes tantôt drôles\, touchants\, toujours parfaitement écrits et dits. \nPossibilité de réserver une planche de la Fromagerie de la Basilique\, 8 euros la planche \, hors boissons. \nLibrairie café Place 26
URL:https://www.normandielivre.fr/agenda-collaboratif/spectacle-musical/
LOCATION:Librairie café Place 26\, 26\, place Lesage\, Douvres la Délivrande\, 14440
CATEGORIES:Spectacle
ATTACH;FMTTYPE=image/png:https://www.normandielivre.fr/wp-content/uploads/2022/09/Capture-décran-2022-09-19-à-10.04.00-e1695983589295.png
ORGANIZER;CN="Librairie caf&eacute%3B Place 26":MAILTO:contact@place26.com
END:VEVENT
BEGIN:VEVENT
DTSTART;TZID=Europe/Paris:20240425T193000
DTEND;TZID=Europe/Paris:20240425T210000
DTSTAMP:20260419T183705
CREATED:20240318T151621Z
LAST-MODIFIED:20240318T151621Z
UID:10001786-1714073400-1714078800@www.normandielivre.fr
SUMMARY:Spleen l'Ancien
DESCRIPTION:Ne ratez pas le spectacle de Spleen l’ancien. Joueur de mots hors pair\, un tour de slam et un tour de chant\, en musique\, orchestré par Hervé Gissot. \nUn spectacle d’une heure environ\, à partir de 15 ans. \nEntrée : 10 euros/pers. pour le cachet des artistes. \nPossibilité de planches de la Fromagerie de la Basilique de Douvres (8 euros/pers. hors boissons). \nSur réservations uniquement. \nLibrairie café Place 26
URL:https://www.normandielivre.fr/agenda-collaboratif/spleen-lancien/
LOCATION:Librairie café Place 26\, 26\, place Lesage\, Douvres la Délivrande\, 14440
CATEGORIES:Spectacle
ATTACH;FMTTYPE=image/png:https://www.normandielivre.fr/wp-content/uploads/2022/09/Capture-décran-2022-09-19-à-10.04.00-e1695983589295.png
ORGANIZER;CN="Librairie caf&eacute%3B Place 26":MAILTO:contact@place26.com
END:VEVENT
BEGIN:VEVENT
DTSTART;TZID=Europe/Paris:20240424T190000
DTEND;TZID=Europe/Paris:20240424T203000
DTSTAMP:20260419T183705
CREATED:20240318T151345Z
LAST-MODIFIED:20240318T151415Z
UID:10001787-1713985200-1713990600@www.normandielivre.fr
SUMMARY:Club de lecture adultes
DESCRIPTION:Chacun parle du dernier livre lu\, en toute décontraction (roman\, manga\, graphique\, essai…) \nVous n’aimez pas prendre la parole ? \nÉcoutez seulement ! \nEntrée libre. \nLibrairie café Place 26
URL:https://www.normandielivre.fr/agenda-collaboratif/club-de-lecture-adultes-3/
LOCATION:Librairie café Place 26\, 26\, place Lesage\, Douvres la Délivrande\, 14440
CATEGORIES:Club de lecteurs
ATTACH;FMTTYPE=image/png:https://www.normandielivre.fr/wp-content/uploads/2022/09/Capture-décran-2022-09-19-à-10.04.00-e1695983589295.png
ORGANIZER;CN="Librairie caf&eacute%3B Place 26":MAILTO:contact@place26.com
END:VEVENT
END:VCALENDAR