BEGIN:VCALENDAR
VERSION:2.0
PRODID:-//Normandie Livre &amp; Lecture - ECPv6.15.11//NONSGML v1.0//EN
CALSCALE:GREGORIAN
METHOD:PUBLISH
X-WR-CALNAME:Normandie Livre &amp; Lecture
X-ORIGINAL-URL:https://www.normandielivre.fr
X-WR-CALDESC:Évènements pour Normandie Livre &amp; Lecture
REFRESH-INTERVAL;VALUE=DURATION:PT1H
X-Robots-Tag:noindex
X-PUBLISHED-TTL:PT1H
BEGIN:VTIMEZONE
TZID:Europe/Paris
BEGIN:DAYLIGHT
TZOFFSETFROM:+0100
TZOFFSETTO:+0200
TZNAME:CEST
DTSTART:20250330T010000
END:DAYLIGHT
BEGIN:STANDARD
TZOFFSETFROM:+0200
TZOFFSETTO:+0100
TZNAME:CET
DTSTART:20251026T010000
END:STANDARD
BEGIN:DAYLIGHT
TZOFFSETFROM:+0100
TZOFFSETTO:+0200
TZNAME:CEST
DTSTART:20260329T010000
END:DAYLIGHT
BEGIN:STANDARD
TZOFFSETFROM:+0200
TZOFFSETTO:+0100
TZNAME:CET
DTSTART:20261025T010000
END:STANDARD
BEGIN:DAYLIGHT
TZOFFSETFROM:+0100
TZOFFSETTO:+0200
TZNAME:CEST
DTSTART:20270328T010000
END:DAYLIGHT
BEGIN:STANDARD
TZOFFSETFROM:+0200
TZOFFSETTO:+0100
TZNAME:CET
DTSTART:20271031T010000
END:STANDARD
END:VTIMEZONE
BEGIN:VEVENT
DTSTART;TZID=Europe/Paris:20260131T170000
DTEND;TZID=Europe/Paris:20260131T180000
DTSTAMP:20260420T205818
CREATED:20251117T162554Z
LAST-MODIFIED:20251117T162554Z
UID:10002639-1769878800-1769882400@www.normandielivre.fr
SUMMARY:Comment vulgariser les contenus scientifiques par l'illustration ? avec Sarah Fouquet
DESCRIPTION:Sarah Fouquet (Fake or not ? Finances\, Tana\, 2025) viendra exposer les secrets de fabrication de la collection Fake or not ? des éditions Tana et la place de l’illustration dans son identité. Elle parlera des étapes d’élaboration à travers différents ouvrages et montrera comment donner forme à des contenus parfois complexes et souvent abstraits.   \nEntrée libre dans la limite des places disponibles. \nRencontre organisée par la librairie dans le cadre de Lire en Hiver. \nLire en Hiver\, c’est le meilleur moment pour découvrir les actualités des auteurs\, autrices et maisons d’édition normands\, au plus près de chez vous. Du 20 janvier au 8 février\, partez à la découverte d’univers artistiques et littéraires variés\, dans les bibliothèques et librairies de Normandie. Renseignements : https://www.normandielivre.fr/lire-en-hiver/  \nLes livres du Cosnier
URL:https://www.normandielivre.fr/agenda-collaboratif/comment-vulgariser-les-contenus-scientifiques-par-lillustration-avec-sarah-fouquet/
LOCATION:Les livres du Cosnier\, 88 rue Thiers\, Bernay\, 27300\, France
CATEGORIES:Lire en hiver,Rencontre
ATTACH;FMTTYPE=image/png:https://www.normandielivre.fr/wp-content/uploads/2025/11/reseaux-sociaux_sarah-fouquet.png
END:VEVENT
BEGIN:VEVENT
DTSTART;TZID=Europe/Paris:20260127T183000
DTEND;TZID=Europe/Paris:20260127T200000
DTSTAMP:20260420T205818
CREATED:20251118T135850Z
LAST-MODIFIED:20251118T135850Z
UID:10002635-1769538600-1769544000@www.normandielivre.fr
SUMMARY:Lecture poétique avec Flora Delalande
DESCRIPTION:Poétesse\, botaniste et conteuse\, Flora Delalande a l’habitude de lire les textes du recueil Les Feuilles ne tombent pas\, elles s’envolent  (Lignes d’horizon\, 2025) en pleine nature. Cette fois-ci\, elle les offrira dans un cocon pour plonger le public à la découverte de poèmes où s’entremêlent l’amour de la langue\, le lien charnel aux plantes\, le tiraillement sans cesse renouvelé des humains et des arbres\, de la terre sous l’asphalte.   \nEntrée libre dans la limite des places disponibles. \nRencontre organisée dans le cadre de l’événement Lire en hiver. \nLire en Hiver\, c’est le meilleur moment pour découvrir les actualités des auteurs\, autrices et maisons d’édition normands\, au plus près de chez vous. Du 20 janvier au 8 février\, partez à la découverte d’univers artistiques et littéraires variés\, dans les bibliothèques et librairies de Normandie. Renseignements : https://www.normandielivre.fr/lire-en-hiver/  \nLes livres du Cosnier
URL:https://www.normandielivre.fr/agenda-collaboratif/lecture-poetique-avec-flora-delalande/
LOCATION:Les livres du Cosnier\, 88 rue Thiers\, Bernay\, 27300\, France
CATEGORIES:Lecture,Lire en hiver,Rencontre
ATTACH;FMTTYPE=image/png:https://www.normandielivre.fr/wp-content/uploads/2025/11/reseaux-sociaux-_-flora-delalande.png
END:VEVENT
END:VCALENDAR