BEGIN:VCALENDAR
VERSION:2.0
PRODID:-//Normandie Livre &amp; Lecture - ECPv6.15.11//NONSGML v1.0//EN
CALSCALE:GREGORIAN
METHOD:PUBLISH
X-WR-CALNAME:Normandie Livre &amp; Lecture
X-ORIGINAL-URL:https://www.normandielivre.fr
X-WR-CALDESC:Évènements pour Normandie Livre &amp; Lecture
REFRESH-INTERVAL;VALUE=DURATION:PT1H
X-Robots-Tag:noindex
X-PUBLISHED-TTL:PT1H
BEGIN:VTIMEZONE
TZID:Europe/Paris
BEGIN:DAYLIGHT
TZOFFSETFROM:+0100
TZOFFSETTO:+0200
TZNAME:CEST
DTSTART:20220327T010000
END:DAYLIGHT
BEGIN:STANDARD
TZOFFSETFROM:+0200
TZOFFSETTO:+0100
TZNAME:CET
DTSTART:20221030T010000
END:STANDARD
BEGIN:DAYLIGHT
TZOFFSETFROM:+0100
TZOFFSETTO:+0200
TZNAME:CEST
DTSTART:20230326T010000
END:DAYLIGHT
BEGIN:STANDARD
TZOFFSETFROM:+0200
TZOFFSETTO:+0100
TZNAME:CET
DTSTART:20231029T010000
END:STANDARD
BEGIN:DAYLIGHT
TZOFFSETFROM:+0100
TZOFFSETTO:+0200
TZNAME:CEST
DTSTART:20240331T010000
END:DAYLIGHT
BEGIN:STANDARD
TZOFFSETFROM:+0200
TZOFFSETTO:+0100
TZNAME:CET
DTSTART:20241027T010000
END:STANDARD
BEGIN:DAYLIGHT
TZOFFSETFROM:+0100
TZOFFSETTO:+0200
TZNAME:CEST
DTSTART:20250330T010000
END:DAYLIGHT
BEGIN:STANDARD
TZOFFSETFROM:+0200
TZOFFSETTO:+0100
TZNAME:CET
DTSTART:20251026T010000
END:STANDARD
BEGIN:DAYLIGHT
TZOFFSETFROM:+0100
TZOFFSETTO:+0200
TZNAME:CEST
DTSTART:20260329T010000
END:DAYLIGHT
BEGIN:STANDARD
TZOFFSETFROM:+0200
TZOFFSETTO:+0100
TZNAME:CET
DTSTART:20261025T010000
END:STANDARD
END:VTIMEZONE
BEGIN:VEVENT
DTSTART;TZID=Europe/Paris:20250222T160000
DTEND;TZID=Europe/Paris:20250222T180000
DTSTAMP:20260419T223720
CREATED:20241114T142713Z
LAST-MODIFIED:20241114T142713Z
UID:10002040-1740240000-1740247200@www.normandielivre.fr
SUMMARY:Rencontre Serge Rezvani
DESCRIPTION:Peintre puis écrivain de romans\, de pièces de théâtre et de chansons\, Rezvani est né il y a 95 ans. Cette rencontre en mots et en chansons partage ses vies artistiques\, ses coups de foudre\, ses bonheurs amoureux et sa foi intacte dans la vie et l’amour. \nChez le romancier\, le journal intime\, la passion amoureuse et les instants partagés sont au cœur d’une œuvre\, jalonnée par Les Années-Lumière (1967)\, Les Années Lula (1968)\, Le testament amoureux (1981)\, … et plus de 45 romans. \nA l’ombre d’un piano et aux côtés de Léopoldine HH\, chanteuse familière des Franciscaines et de Nathalie Akoun\, comédienne et chanteuse\, notre conversation avec Rezvani écrivain\, sera ponctuée d’une douzaine de ses chansons. \nAvec : Rezvani\, Lepoldine HH (piano et chant)\, Natahalie Akoun (chant) et Hervé Legeay ( guitare) \nLes Franciscaines\, Deauville
URL:https://www.normandielivre.fr/agenda-collaboratif/rencontre-serge-rezvani/
LOCATION:Les Franciscaines\, Deauville\, 145b avenue de la République\, Deauville\, 14800\, France
CATEGORIES:Rencontre
ATTACH;FMTTYPE=image/jpeg:https://www.normandielivre.fr/wp-content/uploads/2024/11/HD-Schroeder-Philippe-15.05.2024-_117-scaled.jpg
ORGANIZER;CN="Les Franciscaines%2C Deauville":MAILTO:accueil@lesfranciscaines.fr
END:VEVENT
BEGIN:VEVENT
DTSTART;TZID=Europe/Paris:20241207T160000
DTEND;TZID=Europe/Paris:20241207T173000
DTSTAMP:20260419T223720
CREATED:20241114T112309Z
LAST-MODIFIED:20241114T112309Z
UID:10002044-1733587200-1733592600@www.normandielivre.fr
SUMMARY:Rencontre - Dominique Barbéris - Une façon d'aimer
DESCRIPTION:Rencontre avec Dominique Barbéris autour de son livre Une façon d’aimer : \n« Entre la France et le Cameroun des années 50\, l’histoire d’une femme discrète dont la vie est traversée d’un bref coup de folie\, d’une romance secrète. \nA partir d’une photo d’époque\, la narratrice retrace l’histoire de sa tante\, beauté discrète et mélancolique des années 1950. Née dans une famille modeste de maraîchers nantais\, Madeleine a suivi son mari parti travailler au Cameroun. Elle se trouve transplantée dans un monde aux antipodes du sien\, violent et magnifique. A Douala\, lors d’un bal à la Délégation\, elle s’éprend d’Yves Prigent\, mi administrateur\, mi aventurier. Chaque fois qu’il est de passage\, ils déambulent ensemble le long du port\, ou allée des Cocotiers. Mais la décolonisation est en marche et annonce la fin de partie : bientôt\, le milieu des petits blancs de Douala devra plier bagage… Tendu entre la province d’après-guerre et une Afrique semi rêvée\, Une façon d’aimer parle de la pesanteur des mariages de raison et de la grâce de certaines rencontres. Par petites touches d’une infinie délicatesse\, un souvenir\, une mélodie de Guy Béart\, des vers d’André Hardellet \, c’est toute l’épaisseur d’une vie de femme qui se dévoile. » \nDominique Barbéris est notamment l’autrice\, aux Editions Gallimard\, des Kangourous (adapté au cinéma en 2005)\, de Quelque chose à cacher (prix des Deux Magots 2008)\, de L’année de l’Education sentimentale (prix Jean-Freustié 2018) et\, chez Arléa\, d’Un dimanche à Ville-d’Avray (2019). \nUne rencontre animée par Philippe Normand\, conseiller culturel des Franciscaines. \nLes Franciscaines\, Deauville
URL:https://www.normandielivre.fr/agenda-collaboratif/rencontre-dominique-barberis-une-facon-daimer/
LOCATION:Les Franciscaines\, Deauville\, 145b avenue de la République\, Deauville\, 14800\, France
CATEGORIES:Rencontre
ATTACH;FMTTYPE=image/jpeg:https://www.normandielivre.fr/wp-content/uploads/2024/11/BARBERIS_Dominique_Photo_2023_Francesca_Mantovani®Gallimard_87A7270-scaled.jpg
ORGANIZER;CN="Les Franciscaines%2C Deauville":MAILTO:accueil@lesfranciscaines.fr
END:VEVENT
BEGIN:VEVENT
DTSTART;TZID=Europe/Paris:20241117T160000
DTEND;TZID=Europe/Paris:20241117T173000
DTSTAMP:20260419T223720
CREATED:20241114T112119Z
LAST-MODIFIED:20241114T112119Z
UID:10002043-1731859200-1731864600@www.normandielivre.fr
SUMMARY:Rencontre/ Lecture - Marie Nimier et Naidra Ayadi - Confidences tunisiennes
DESCRIPTION:Marie Nimier\, romancière\, a recueilli en Tunisie\, des confidences d’hommes et de femmes. Elle en a composé un objet littéraire drôle et mélancolique. A ses côtés\, Naidra Ayadi\, comédienne révélée par Polisse\, de Maïwenn\, en lit quelques extraits. \nEn s’inspirant du rituel de la confession\, Marie Nimier écoute\, avant de faire sienne les histoires que des anonymes veulent bien lui confier. Petits et grands secrets\, bonheurs et drames familiaux\, sexualité\, vie quotidienne\, évolution du pays\, … sont au cœur des Confidences tunisiennes que Marie Nimier recueille\, les yeux bandés\, et qui brosse\, un portrait tout en nuances de la Tunisie d’aujourd’hui. \nAprès Le Marathon des mots à Toulouse\, ce moment de lecture aux Franciscaines par Naidra Ayadi\, César du meilleur espoir 2012\, est suivi d’une conversation avec Marie Nimier… qui devrait être propice à de belles confidences. \nUne conversation animée par Philippe Normand \n« Ce tourbillon de voix forme un portrait instantané de la Tunisie\, en même temps qu’il retrace avec pudeur une quête de soi en l’autre ».\nGladys Marivat\nLe Monde des Livres\, 5 juillet 2024 \nMarie Nimier autrice sédentaire\, bouge beaucoup. On lui doit 17 romans publiés chez Gallimard\, dont La Reine du Silence (Prix Médicis)\, des chansons (pour Juliette Gréco\, Maurane\, Eddy Mitchell\, Enzo Enzo)\, des albums jeunesse et de pièces de théâtre publiées chez Actes Sud Papiers. \nLes Franciscaines\, Deauville
URL:https://www.normandielivre.fr/agenda-collaboratif/rencontre-lecture-marie-nimier-et-naidra-ayadi-confidences-tunisiennes/
LOCATION:Les Franciscaines\, Deauville\, 145b avenue de la République\, Deauville\, 14800\, France
CATEGORIES:Lecture,Rencontre
ATTACH;FMTTYPE=image/png:https://www.normandielivre.fr/wp-content/uploads/2024/11/Marie-Nimier-et-Naidra-Ayadi.png
ORGANIZER;CN="Les Franciscaines%2C Deauville":MAILTO:accueil@lesfranciscaines.fr
END:VEVENT
BEGIN:VEVENT
DTSTART;TZID=Europe/Paris:20240503T090000
DTEND;TZID=Europe/Paris:20240505T170000
DTSTAMP:20260419T223720
CREATED:20231002T134151Z
LAST-MODIFIED:20231002T134151Z
UID:10001430-1714726800-1714928400@www.normandielivre.fr
SUMMARY:FESTIVAL LIVRES & MUSIQUES / DEAUVILLE 2024
DESCRIPTION:Depuis 2004\, c’est à Deauville lors du Festival littéraire Livres & Musiques que l’on célèbre\, chaque printemps\, les mots de la musique et la musique des mots. On y accueille les auteurs inspirés par la musique et les musiciens passionnés par la littérature. \nCe Festival se déroule en deux temps : avec le Prix des Ados\, remis en avril\, Livres & Musiques se distingue par la place déterminante qu’il offre au jeune public et à l’éducation artistique à travers les journées scolaires et la double cérémonie du Prix des Ados à Deauville. Organisé avec le soutien des espaces culturels Leclerc\, cette remise de prix rassemble à Deauville 3 000 collégiens et lycéens\, parmi les 5 700 élèves participants au vote\, scolarisés dans toute la Normandie. \nEn mai\, le temps d’un grand week-end\, romanciers\, biographes\, illustrateurs et auteurs de BD\, auteurs jeunesse\, écrivains-chanteurs et virtuoses-écrivains\,… se retrouvent à Deauville pour des lectures musicales\, des concerts littéraires et des rencontres singulières et inédites explorant les rebonds entre écriture et musique. \nUn Jury d’écrivains et de musiciens\, présidés par Jérôme Garcin\, décerne depuis 2004 le Prix Livres & Musiques de Deauville qui récompense un roman inspiré par la musique. \nDepuis 2021\, le Festival Livres & Musiques a changé de dimension en se déployant pendant ces 3 jours de festivité dans les différents espaces des Franciscaines.\nEn 2024\, il revient pour sa 21° édition du vendredi 4 au dimanche 6 Mai 2024\, et rendra un hommage aux petites et grandes musiques de Françoise Sagan à l’occasion du 20e anniversaire de la mort de celle-ci. \nLes Franciscaines\, Deauville
URL:https://www.normandielivre.fr/agenda-collaboratif/festival-livres-musiques-deauville-2024/
LOCATION:Les Franciscaines\, Deauville\, 145b avenue de la République\, Deauville\, 14800\, France
CATEGORIES:Festival
ORGANIZER;CN="Les Franciscaines%2C Deauville":MAILTO:accueil@lesfranciscaines.fr
END:VEVENT
BEGIN:VEVENT
DTSTART;TZID=Europe/Paris:20240418T140000
DTEND;TZID=Europe/Paris:20240419T170000
DTSTAMP:20260419T223720
CREATED:20231012T092210Z
LAST-MODIFIED:20231012T092210Z
UID:10001657-1713448800-1713546000@www.normandielivre.fr
SUMMARY:PRIX DES ADOS 16° EDITION - FESTIVAL LIVRES & MUSIQUES / DEAUVILLE 2024
DESCRIPTION:Depuis sa création\, le festival Livres & Musiques /Deauville favorise l’accès aux livres et à la lecture auprès du jeune public. Crée en 2009 avec le soutien des Espaces Culturels Leclerc de Normandie et de leurs libraires\, partenaires du Festival\, le Prix des Ados est un prix littéraire décerné par les élèves normands de 3ème et de 2nd. \nChaque année\, l’engouement des ados grandit. Enseignants et élèves plébiscitent ce prix\, devenu en 15 ans\, le principale évènement littéraire normand dédié au collégiens et lycéens. L’édition 2024 mobilise plus de 5700 élèves inscrits sur une centaine d’établissements des 5 départements normands. \nLe comité de lecture a sélectionné quatre livres dont la thématique principale est la musique. Les librairies des Espaces Culturels Leclerc offrent à chaque classe inscrite un lot des quatre livres qui sont lus et travaillés en classe. Entre Janvier et mars\, les élèves votent pour leur livre préféré. \nUn débat interactif en visioconférence est organisé le jeudi 18 Avril après-midi entre les auteurs de la sélection du Prix des Ados et les élèves qui se connectent depuis leur établissement respectif. \nLe prix des Ados est remis le vendredi 19 Avril au Centre des Congrès de Deauville (CID)\, devant plus de 3000 collégiens et lycéens\, en présence des auteurs\, lors d’une cérémonie chaleureuse\, rythmée par des séquences musicales. \nAvant et après la cérémonie\, des ateliers pédagogiques autour des livres de la sélection sont proposés aux élèves présents à Deauville ainsi que des visites-découverte des Franciscaines et de ses expositions. \nLes Franciscaines\, Deauville
URL:https://www.normandielivre.fr/agenda-collaboratif/prix-des-ados-16-edition-festival-livres-musiques-deauville-2024/
LOCATION:Les Franciscaines\, Deauville\, 145b avenue de la République\, Deauville\, 14800\, France
CATEGORIES:Prix
ORGANIZER;CN="Les Franciscaines%2C Deauville":MAILTO:accueil@lesfranciscaines.fr
END:VEVENT
BEGIN:VEVENT
DTSTART;TZID=Europe/Paris:20231104T160000
DTEND;TZID=Europe/Paris:20231104T173000
DTSTAMP:20260419T223720
CREATED:20231012T081509Z
LAST-MODIFIED:20231012T081509Z
UID:10001656-1699113600-1699119000@www.normandielivre.fr
SUMMARY:LOUSTAL & BOCQUET : "Simenon\, l'Ostrogoth & Deauville"
DESCRIPTION:Georges Simenon et sa femme Tigy\, ont voyagé pendant 20 mois à bord de leur bateau L’Ostrogoth. Un périple qui a forgé l’imaginaire du romancier avant d’inspirer aujourd’hui un roman graphique à José-Louis Bocquet \, scénariste\, et Loustal\, illustrateur familier de Simenon. \nLoustal & Bocquet commenteront depuis la Chapelle des Franciscaines\, cette nouvelle et réjouissante adaptation de Simenon. \nUne rencontre animée par Philippe Normand\, conseiller littéraire des Franciscaines. \nLes Franciscaines\, Deauville
URL:https://www.normandielivre.fr/agenda-collaboratif/loustal-bocquet-simenon-lostrogoth-deauville/
LOCATION:Les Franciscaines\, Deauville\, 145b avenue de la République\, Deauville\, 14800\, France
CATEGORIES:Rencontre
ATTACH;FMTTYPE=image/jpeg:https://www.normandielivre.fr/wp-content/uploads/2023/10/©-Loustal.jpg
ORGANIZER;CN="Les Franciscaines%2C Deauville":MAILTO:accueil@lesfranciscaines.fr
END:VEVENT
BEGIN:VEVENT
DTSTART;TZID=Europe/Paris:20230505T103000
DTEND;TZID=Europe/Paris:20230507T210000
DTSTAMP:20260419T223720
CREATED:20221103T100533Z
LAST-MODIFIED:20221103T100533Z
UID:10001389-1683282600-1683493200@www.normandielivre.fr
SUMMARY:Festival Livres & Musiques 2023
DESCRIPTION:Livres & Musiques est un Festival littéraire de création. Depuis 2004\, c’est à Deauville lors de son festival littéraire Livres & Musiques que l’on célèbre\, chaque printemps\, les mots de la musique et la musique des mots. On y accueille les auteurs inspirés par la musique et les musiciens passionnés par la littérature. \nLivres & Musiques invite le public à la rencontre d’auteurs dont l’écriture accorde une place essentielle à la musique et des musiciens dans leurs relations aux livres. \nDurant 3 jours\, romanciers\, illustrateurs et auteurs de BD\, auteurs jeunesse\, écrivains-chanteurs et musiciens\, se retrouvent aux Franciscaines pour des concerts littéraires\, des rencontres singulières\, des tables rondes et des ateliers qui explorent\, commentent et illustrent les liens et rebonds entre écriture et musique. \nLes Franciscaines\, Deauville
URL:https://www.normandielivre.fr/agenda-collaboratif/festival-livres-musiques-2023/
LOCATION:Les Franciscaines\, Deauville\, 145b avenue de la République\, Deauville\, 14800\, France
CATEGORIES:Festival
ORGANIZER;CN="Les Franciscaines%2C Deauville":MAILTO:accueil@lesfranciscaines.fr
END:VEVENT
END:VCALENDAR