BEGIN:VCALENDAR
VERSION:2.0
PRODID:-//Normandie Livre &amp; Lecture - ECPv6.15.11//NONSGML v1.0//EN
CALSCALE:GREGORIAN
METHOD:PUBLISH
X-ORIGINAL-URL:https://www.normandielivre.fr
X-WR-CALDESC:Évènements pour Normandie Livre &amp; Lecture
REFRESH-INTERVAL;VALUE=DURATION:PT1H
X-Robots-Tag:noindex
X-PUBLISHED-TTL:PT1H
BEGIN:VTIMEZONE
TZID:Europe/Paris
BEGIN:DAYLIGHT
TZOFFSETFROM:+0100
TZOFFSETTO:+0200
TZNAME:CEST
DTSTART:20250330T010000
END:DAYLIGHT
BEGIN:STANDARD
TZOFFSETFROM:+0200
TZOFFSETTO:+0100
TZNAME:CET
DTSTART:20251026T010000
END:STANDARD
BEGIN:DAYLIGHT
TZOFFSETFROM:+0100
TZOFFSETTO:+0200
TZNAME:CEST
DTSTART:20260329T010000
END:DAYLIGHT
BEGIN:STANDARD
TZOFFSETFROM:+0200
TZOFFSETTO:+0100
TZNAME:CET
DTSTART:20261025T010000
END:STANDARD
BEGIN:DAYLIGHT
TZOFFSETFROM:+0100
TZOFFSETTO:+0200
TZNAME:CEST
DTSTART:20270328T010000
END:DAYLIGHT
BEGIN:STANDARD
TZOFFSETFROM:+0200
TZOFFSETTO:+0100
TZNAME:CET
DTSTART:20271031T010000
END:STANDARD
END:VTIMEZONE
BEGIN:VEVENT
DTSTART;TZID=Europe/Paris:20260423T080000
DTEND;TZID=Europe/Paris:20260426T230000
DTSTAMP:20260419T165645
CREATED:20251205T132350Z
LAST-MODIFIED:20251205T132350Z
UID:10002672-1776931200-1777244400@www.normandielivre.fr
SUMMARY:Festival littéraire de Deauville - Livres & Musiques #23
DESCRIPTION:Depuis 2004\, c’est à Deauville\, lors du festival littéraire Livres & Musiques\, que l’on célèbre\, chaque printemps\, les mots de la musique et la musiques des mots\, en accueillant les auteurs inspirés par la musiques et les\nmusiciens passionnés par la littérature. \nChaque année\, début mai\, romanciers\, biographes\, illustrateurs et auteurs de BD\, auteurs jeunesse\, écrivains chanteurs… se retrouvent à Deauville pour des lectures musicales\, des concerts littéraires et des rencontres singulières et inédites qui explorent\, commentent et illustrent les liens et rebonds entre écriture et musique.\n_________\nRendez-vous aux Franciscaines du Jeudi 23 avril 2026 au Dimanche 26 avril 2026 pour pleins d’événements gratuits autour de la littérature et de la musique. \nLes Franciscaines\, Deauville
URL:https://www.normandielivre.fr/agenda-collaboratif/festival-litteraire-de-deauville-livres-musiques-23/
LOCATION:Les Franciscaines\, Deauville\, 145b avenue de la République\, Deauville\, 14800\, France
CATEGORIES:Festival
ATTACH;FMTTYPE=image/png:https://www.normandielivre.fr/wp-content/uploads/2025/12/3ACD0944-EB85-4F99-9616-C7502F27C657.png
ORGANIZER;CN="Les Franciscaines%2C Deauville":MAILTO:accueil@lesfranciscaines.fr
END:VEVENT
END:VCALENDAR