BEGIN:VCALENDAR
VERSION:2.0
PRODID:-//Normandie Livre &amp; Lecture - ECPv6.15.11//NONSGML v1.0//EN
CALSCALE:GREGORIAN
METHOD:PUBLISH
X-WR-CALNAME:Normandie Livre &amp; Lecture
X-ORIGINAL-URL:https://www.normandielivre.fr
X-WR-CALDESC:Évènements pour Normandie Livre &amp; Lecture
REFRESH-INTERVAL;VALUE=DURATION:PT1H
X-Robots-Tag:noindex
X-PUBLISHED-TTL:PT1H
BEGIN:VTIMEZONE
TZID:Europe/Paris
BEGIN:DAYLIGHT
TZOFFSETFROM:+0100
TZOFFSETTO:+0200
TZNAME:CEST
DTSTART:20210328T010000
END:DAYLIGHT
BEGIN:STANDARD
TZOFFSETFROM:+0200
TZOFFSETTO:+0100
TZNAME:CET
DTSTART:20211031T010000
END:STANDARD
BEGIN:DAYLIGHT
TZOFFSETFROM:+0100
TZOFFSETTO:+0200
TZNAME:CEST
DTSTART:20220327T010000
END:DAYLIGHT
BEGIN:STANDARD
TZOFFSETFROM:+0200
TZOFFSETTO:+0100
TZNAME:CET
DTSTART:20221030T010000
END:STANDARD
BEGIN:DAYLIGHT
TZOFFSETFROM:+0100
TZOFFSETTO:+0200
TZNAME:CEST
DTSTART:20230326T010000
END:DAYLIGHT
BEGIN:STANDARD
TZOFFSETFROM:+0200
TZOFFSETTO:+0100
TZNAME:CET
DTSTART:20231029T010000
END:STANDARD
BEGIN:DAYLIGHT
TZOFFSETFROM:+0100
TZOFFSETTO:+0200
TZNAME:CEST
DTSTART:20240331T010000
END:DAYLIGHT
BEGIN:STANDARD
TZOFFSETFROM:+0200
TZOFFSETTO:+0100
TZNAME:CET
DTSTART:20241027T010000
END:STANDARD
END:VTIMEZONE
BEGIN:VEVENT
DTSTART;VALUE=DATE:20230607
DTEND;VALUE=DATE:20230612
DTSTAMP:20260419T223719
CREATED:20230502T142826Z
LAST-MODIFIED:20230502T142826Z
UID:10001343-1686096000-1686527999@www.normandielivre.fr
SUMMARY:Atelier d'écriture au Vieux Manoir de Ouistreham
DESCRIPTION:Dans un lieu inspirant situé à Ouistreham\, le Vieux Manoir\, Caroline Pochon\, écrivaine et cinéaste originaire de normandie\, entraîne chaque année un petit groupe de huit auteurs\, souvent débutants mais toujours passionnés\, pour un Atelier d’écriture créative. \nL’atelier dure 4 jours et 4 nuits\, en immersion. Les moments collectifs ont lieu le matin\, des balades sont prévues à pied l’après-midi et la fin de journée est consacrée à l’écriture individuelle. \nLes repas servis sont d’inspiration normande. Chacun écrit une nouvelle de deux pages qui sera lue le dernier jour. \nIl reste deux places ! \nLe Vieux Manoir de Ouistreham
URL:https://www.normandielivre.fr/agenda-collaboratif/atelier-decriture-au-vieux-manoir-de-ouistreham-3/
LOCATION:Le Vieux Manoir de Ouistreham\, 67 rue Émile Herbline\, Ouistreham\, 14150
CATEGORIES:Atelier
ATTACH;FMTTYPE=image/jpeg:https://www.normandielivre.fr/wp-content/uploads/2023/04/Writing-a-Ouistreham-scaled.jpeg
ORGANIZER;CN="Caroline Pochon (La rue du Mont Cenis)":MAILTO:caroline.pochon@gmail.com
END:VEVENT
BEGIN:VEVENT
DTSTART;TZID=Europe/Paris:20221005T170000
DTEND;TZID=Europe/Paris:20221009T180000
DTSTAMP:20260419T223719
CREATED:20220912T114500Z
LAST-MODIFIED:20220912T114500Z
UID:10001305-1664989200-1665338400@www.normandielivre.fr
SUMMARY:Atelier d’écriture au Vieux Manoir de Ouistréham
DESCRIPTION:Cet atelier d’écriture en immersion dans un magnifique manoir normand situé à Ouistréham\, non loin de la mer\, réunira huit personnes autour d’une table de travail collectif\, les matins pendant quatre jours. L’après-midi sera consacrée à l’écriture individuelle. Chaque chambre est équipée d’une table de travail pour écrire. A la fin du stage\, chaque participant lira la nouvelle rédigée pendant le stage. Les huits nouvelles seront réunies en un recueil à destination des participants. Les maîtres-mots de cet atelier sont la convivialité\, le plaisir d’écrire\, le développement personnel\, la créativité. L’atelier s’adresse à toute personne qui a envie d’écrire mais ne se l’était pas vraiment autorisé. On peut aussi déjà être dans une démarche d’écriture. On repart chez soi avec des clés\, de la confiance en soi et l’envie\, la force\, de continuer à écrire seul. \nLe Vieux Manoir de Ouistreham
URL:https://www.normandielivre.fr/agenda-collaboratif/atelier-decriture-au-vieux-manoir-de-ouistreham-2/
LOCATION:Le Vieux Manoir de Ouistreham\, 67 rue Émile Herbline\, Ouistreham\, 14150
CATEGORIES:Atelier
ATTACH;FMTTYPE=image/jpeg:https://www.normandielivre.fr/wp-content/uploads/2022/09/Writing-a-Ouistreham-scaled.jpeg
END:VEVENT
END:VCALENDAR