BEGIN:VCALENDAR
VERSION:2.0
PRODID:-//Normandie Livre &amp; Lecture - ECPv6.15.11//NONSGML v1.0//EN
CALSCALE:GREGORIAN
METHOD:PUBLISH
X-WR-CALNAME:Normandie Livre &amp; Lecture
X-ORIGINAL-URL:https://www.normandielivre.fr
X-WR-CALDESC:Évènements pour Normandie Livre &amp; Lecture
REFRESH-INTERVAL;VALUE=DURATION:PT1H
X-Robots-Tag:noindex
X-PUBLISHED-TTL:PT1H
BEGIN:VTIMEZONE
TZID:Europe/Paris
BEGIN:DAYLIGHT
TZOFFSETFROM:+0100
TZOFFSETTO:+0200
TZNAME:CEST
DTSTART:20250330T010000
END:DAYLIGHT
BEGIN:STANDARD
TZOFFSETFROM:+0200
TZOFFSETTO:+0100
TZNAME:CET
DTSTART:20251026T010000
END:STANDARD
BEGIN:DAYLIGHT
TZOFFSETFROM:+0100
TZOFFSETTO:+0200
TZNAME:CEST
DTSTART:20260329T010000
END:DAYLIGHT
BEGIN:STANDARD
TZOFFSETFROM:+0200
TZOFFSETTO:+0100
TZNAME:CET
DTSTART:20261025T010000
END:STANDARD
BEGIN:DAYLIGHT
TZOFFSETFROM:+0100
TZOFFSETTO:+0200
TZNAME:CEST
DTSTART:20270328T010000
END:DAYLIGHT
BEGIN:STANDARD
TZOFFSETFROM:+0200
TZOFFSETTO:+0100
TZNAME:CET
DTSTART:20271031T010000
END:STANDARD
END:VTIMEZONE
BEGIN:VEVENT
DTSTART;TZID=Europe/Paris:20260221T170000
DTEND;TZID=Europe/Paris:20260221T180000
DTSTAMP:20260420T114451
CREATED:20260213T105128Z
LAST-MODIFIED:20260213T105128Z
UID:10003402-1771693200-1771696800@www.normandielivre.fr
SUMMARY:Restitution de la résidence d’auteur
DESCRIPTION:Restitution de la résidence d’auteur ayant eu lieu l’automne dernier\, sur le thème « Les 200 ans de Trouville-sur-mer et la transformation en station balnéaire »\, par Céline Malorey et Laure Saffroy-Lepesqueur. \nLectures croisées\, échange entre les autrices\, échange avec le public\, présentation du travail en résidence\, processus de création sur un thème et en un lieu donné. \nLa Médiathèque de Trouville-sur-mer
URL:https://www.normandielivre.fr/agenda-collaboratif/restitution-de-la-residence-dauteur/
LOCATION:La Médiathèque de Trouville-sur-mer\, 176 bd Fernand Moureaux\, Trouville sur mer\, 14360\, France
CATEGORIES:Lecture,Rencontre
ORGANIZER;CN="La M%C3%A9diath%C3%A8que de Trouville-sur-Mer":MAILTO:bibliotheque2@trouvillesurmer.fr
END:VEVENT
END:VCALENDAR