BEGIN:VCALENDAR
VERSION:2.0
PRODID:-//Normandie Livre &amp; Lecture - ECPv6.15.11//NONSGML v1.0//EN
CALSCALE:GREGORIAN
METHOD:PUBLISH
X-ORIGINAL-URL:https://www.normandielivre.fr
X-WR-CALDESC:Évènements pour Normandie Livre &amp; Lecture
REFRESH-INTERVAL;VALUE=DURATION:PT1H
X-Robots-Tag:noindex
X-PUBLISHED-TTL:PT1H
BEGIN:VTIMEZONE
TZID:Europe/Paris
BEGIN:DAYLIGHT
TZOFFSETFROM:+0100
TZOFFSETTO:+0200
TZNAME:CEST
DTSTART:20230326T010000
END:DAYLIGHT
BEGIN:STANDARD
TZOFFSETFROM:+0200
TZOFFSETTO:+0100
TZNAME:CET
DTSTART:20231029T010000
END:STANDARD
BEGIN:DAYLIGHT
TZOFFSETFROM:+0100
TZOFFSETTO:+0200
TZNAME:CEST
DTSTART:20240331T010000
END:DAYLIGHT
BEGIN:STANDARD
TZOFFSETFROM:+0200
TZOFFSETTO:+0100
TZNAME:CET
DTSTART:20241027T010000
END:STANDARD
BEGIN:DAYLIGHT
TZOFFSETFROM:+0100
TZOFFSETTO:+0200
TZNAME:CEST
DTSTART:20250330T010000
END:DAYLIGHT
BEGIN:STANDARD
TZOFFSETFROM:+0200
TZOFFSETTO:+0100
TZNAME:CET
DTSTART:20251026T010000
END:STANDARD
BEGIN:DAYLIGHT
TZOFFSETFROM:+0100
TZOFFSETTO:+0200
TZNAME:CEST
DTSTART:20260329T010000
END:DAYLIGHT
BEGIN:STANDARD
TZOFFSETFROM:+0200
TZOFFSETTO:+0100
TZNAME:CET
DTSTART:20261025T010000
END:STANDARD
BEGIN:DAYLIGHT
TZOFFSETFROM:+0100
TZOFFSETTO:+0200
TZNAME:CEST
DTSTART:20270328T010000
END:DAYLIGHT
BEGIN:STANDARD
TZOFFSETFROM:+0200
TZOFFSETTO:+0100
TZNAME:CET
DTSTART:20271031T010000
END:STANDARD
END:VTIMEZONE
BEGIN:VEVENT
DTSTART;TZID=Europe/Paris:20260201T163000
DTEND;TZID=Europe/Paris:20260201T180000
DTSTAMP:20260420T100420
CREATED:20251118T161711Z
LAST-MODIFIED:20251118T161711Z
UID:10002624-1769963400-1769968800@www.normandielivre.fr
SUMMARY:Comment vulgariser les contenus scientifiques par l'illustration ? avec Sarah Fouquet
DESCRIPTION:Sarah Fouquet (Fake or not ? Finances\, Tana éditions\, 2025) viendra exposer les secrets de fabrication de la collection Fake or not ? des éditions Tana et la place de l’illustration dans son identité. Elle parlera des étapes d’élaboration à travers différents ouvrages et montrera comment donner forme à des contenus parfois complexes et souvent abstraits.   \nRéservation conseillée au 02 14 37 28 60 ou par mail à bibliherouville@caenlamer.fr \nRencontre organisée dans le cadre de l’événement Lire en hiver. \nLire en Hiver\, c’est le meilleur moment pour découvrir les actualités des auteurs\, autrices et maisons d’édition normands\, au plus près de chez vous. Du 20 janvier au 8 février\, partez à la découverte d’univers artistiques et littéraires variés\, dans les bibliothèques et librairies de Normandie. Renseignements : https://www.normandielivre.fr/lire-en-hiver/  \nLa bibli François Geindre
URL:https://www.normandielivre.fr/agenda-collaboratif/comment-vulgariser-les-contenus-scientifiques-par-lillustration-avec-sarah-fouquet-2/
LOCATION:La bibli François Geindre\, 5 Square du Théâtre\, Hérouville Saint Clair\, 14200
CATEGORIES:Lire en hiver,Rencontre
ATTACH;FMTTYPE=image/png:https://www.normandielivre.fr/wp-content/uploads/2025/11/reseaux-sociaux-_-sarah-fouquet-1.png
END:VEVENT
BEGIN:VEVENT
DTSTART;VALUE=DATE:20250826
DTEND;VALUE=DATE:20250831
DTSTAMP:20260420T100420
CREATED:20250630T080950Z
LAST-MODIFIED:20250630T082910Z
UID:10002428-1756166400-1756598399@www.normandielivre.fr
SUMMARY:Été culturel 2025 : L'Etagère du bas à la bibliothèque François Geindre d'Hérouville Saint-Clair (14)
DESCRIPTION:Dans le cadre du dispositif Du soleil entre les lignes de l’Été culturel 2025 en Normandie\, L’Etagère du bas sera accueillie en résidence à la bibliothèque La Bibli – François Geindre d’Hérouville Saint-Clair (14). \n« Les ateliers créatifs de L’Étagère du bas »\nAteliers créatifs pour enfants (4-11 ans). \nDécoupage/collage\, activités manuelles\, ateliers d’écriture\, dessins … L’éditrice Delphine Monteil propose des ateliers créatifs et manuels à partir des livres du catalogue de sa maison d’édition rouennaise\, L’Étagère du bas. \nPlanning :\n– Mardi 26 août : 14h-16h30\, 2 ateliers l’après-midi d’une heure chacun avec un groupe des vacances apprenantes\n– Mercredi 27 août : 15h-16h\, 1 atelier avec les enfants tout public\n– Jeudi 28 août : 14h-16h30\, 2 ateliers l’après-midi d’une heure avec un groupe des vacances apprenantes\n– Vendredi 29 août : 14h-16h30\, 2 ateliers l’après-midi d’une heure chacun avec un groupe des vacances apprenantes\n– Samedi 30 août : 15h-16h\, 1 atelier d’une heure à 15h avec les enfants tout public \nDu Soleil entre les lignes s’inscrit dans le cadre de l’Eté culturel\, et bénéficie du soutien de la Direction régionale des affaires culturelles de Normandie. \nDécouvrir le programme détaillé Du Soleil entre les lignes \nLa bibli François Geindre
URL:https://www.normandielivre.fr/agenda-collaboratif/ete-culturel-2025-letagere-du-bas-a-la-bibliotheque-francois-geindre-dherouville-saint-clair-14/
LOCATION:La bibli François Geindre\, 5 Square du Théâtre\, Hérouville Saint Clair\, 14200
CATEGORIES:Été culturel
ATTACH;FMTTYPE=image/png:https://www.normandielivre.fr/wp-content/uploads/2025/06/LEtagere-du-bas_Residences-Soleil-entre-les-lignes-2025.png
END:VEVENT
BEGIN:VEVENT
DTSTART;TZID=Europe/Paris:20240926T143000
DTEND;TZID=Europe/Paris:20240926T163000
DTSTAMP:20260420T100420
CREATED:20240904T145233Z
LAST-MODIFIED:20240904T145233Z
UID:10001966-1727361000-1727368200@www.normandielivre.fr
SUMMARY:Remise du prix Facile à lire des bibliothèques de Caen-la-mer
DESCRIPTION:Remise du prix Facile à lire des bibliothèques de Caen la mer. En présence de l’auteur lauréat du prix\, de l’ensemble des partenaires et des publics qui ont participé aux médiations culturelles autour des 6 ouvrages sélectionnés.  \nLecture-musicale d’un extrait de l’ouvrage gagnant.   \nTout public\, accès libre  \nDans le cadre des Journées nationales d’action contre l’illettrisme portées par l’ANLCI \nLa bibli François Geindre
URL:https://www.normandielivre.fr/agenda-collaboratif/remise-du-prix-facile-a-lire-des-bibliotheques-de-caen-la-mer/
LOCATION:La bibli François Geindre\, 5 Square du Théâtre\, Hérouville Saint Clair\, 14200
CATEGORIES:Action contre l'illettrisme,Prix
ATTACH;FMTTYPE=image/jpeg:https://www.normandielivre.fr/wp-content/uploads/2022/08/Origami-JNAI-1.jpeg
END:VEVENT
END:VCALENDAR