BEGIN:VCALENDAR
VERSION:2.0
PRODID:-//Normandie Livre &amp; Lecture - ECPv6.15.11//NONSGML v1.0//EN
CALSCALE:GREGORIAN
METHOD:PUBLISH
X-ORIGINAL-URL:https://www.normandielivre.fr
X-WR-CALDESC:Évènements pour Normandie Livre &amp; Lecture
REFRESH-INTERVAL;VALUE=DURATION:PT1H
X-Robots-Tag:noindex
X-PUBLISHED-TTL:PT1H
BEGIN:VTIMEZONE
TZID:Europe/Paris
BEGIN:DAYLIGHT
TZOFFSETFROM:+0100
TZOFFSETTO:+0200
TZNAME:CEST
DTSTART:20250330T010000
END:DAYLIGHT
BEGIN:STANDARD
TZOFFSETFROM:+0200
TZOFFSETTO:+0100
TZNAME:CET
DTSTART:20251026T010000
END:STANDARD
BEGIN:DAYLIGHT
TZOFFSETFROM:+0100
TZOFFSETTO:+0200
TZNAME:CEST
DTSTART:20260329T010000
END:DAYLIGHT
BEGIN:STANDARD
TZOFFSETFROM:+0200
TZOFFSETTO:+0100
TZNAME:CET
DTSTART:20261025T010000
END:STANDARD
BEGIN:DAYLIGHT
TZOFFSETFROM:+0100
TZOFFSETTO:+0200
TZNAME:CEST
DTSTART:20270328T010000
END:DAYLIGHT
BEGIN:STANDARD
TZOFFSETFROM:+0200
TZOFFSETTO:+0100
TZNAME:CET
DTSTART:20271031T010000
END:STANDARD
END:VTIMEZONE
BEGIN:VEVENT
DTSTART;TZID=Europe/Paris:20260308T130000
DTEND;TZID=Europe/Paris:20260308T180000
DTSTAMP:20260423T215446
CREATED:20260210T091636Z
LAST-MODIFIED:20260216T134911Z
UID:10003400-1772974800-1772992800@www.normandielivre.fr
SUMMARY:Salon Le livre et son illustration
DESCRIPTION:Salon du livre et dictée. \nLes auteurs apportent des tirés à part de leurs ouvrages. \nExposition et vente de ces reproductions à prix modique. \nInvitée d’honneur Laurence Chuine. \nTableaux sur des œuvres de George Sand \nHôtel Grandval Caligny
URL:https://www.normandielivre.fr/agenda-collaboratif/le-livre-et-son-illustration/
LOCATION:Hôtel Grandval Caligny\, 32 rue des Religieuses\, Valognes\, 50700
CATEGORIES:Salon
ATTACH;FMTTYPE=image/jpeg:https://www.normandielivre.fr/wp-content/uploads/2026/02/Flyers-A5-la-SEN-1-1-1_page-0001.jpg
ORGANIZER;CN="Soci%C3%A9t%C3%A9 des %C3%A9crivains normands":MAILTO:societedesecrivainsnormands@gmail.com
END:VEVENT
END:VCALENDAR